BEGIN:VCALENDAR
VERSION:2.0
PRODID:-//AFLabs urnik izvoz - bf//aflabs.si//SI
NAME:UL BF Urnik
X-WR-CALNAME:UL BF Urnik
DTSTAMP:20260420T060205Z
REFRESH-INTERVAL:PT1H
SOURCE:https://urniki.bf.uni-lj.si/teacher/678/?day=2026-09-21&export=1
URL:https://urniki.bf.uni-lj.si/teacher/678/?day=2026-09-21&export=1
X-PUBLISHED-TTL:PT1H
X-WR-TIMEZONE:Europe/Ljubljana
BEGIN:VTIMEZONE
TZID:Europe/Ljubljana
BEGIN:DAYLIGHT
DTSTART:20260329T020000
RDATE:20260329T020000
RDATE:20270328T020000
TZNAME:CEST
TZOFFSETFROM:+0100
TZOFFSETTO:+0200
END:DAYLIGHT
BEGIN:STANDARD
DTSTART:20261025T030000
RDATE:20261025T030000
RDATE:20271031T030000
TZNAME:CET
TZOFFSETFROM:+0200
TZOFFSETTO:+0100
END:STANDARD
END:VTIMEZONE
BEGIN:VEVENT
SUMMARY:Biologija domačih živali (ZO046)\, predavanja in seminarji (P+S)
DTSTART;TZID=Europe/Ljubljana:20251002T100000
DTEND;TZID=Europe/Ljubljana:20251002T130000
DTSTAMP:20260420T060205Z
UID:bf-AFLABS-URNIK:srecanje:24606-2025-10-02 10:00:00+02:00
DESCRIPTION:Predmet: Biologija domačih živali (ZO046)\, predavanja in se
 minarji (P+S)\nLetniki: Kmetijstvo - zootehnika 1. letnik (ZOUN)\nIzvajalc
 i: Jernej Ogorevc\, Simona Sušnik Bajec\nProstor: Predavalnica Ro-4
END:VEVENT
BEGIN:VEVENT
SUMMARY:Biologija domačih živali (ZO046)\, predavanja in seminarji (P+S)
DTSTART;TZID=Europe/Ljubljana:20251009T100000
DTEND;TZID=Europe/Ljubljana:20251009T130000
DTSTAMP:20260420T060205Z
UID:bf-AFLABS-URNIK:srecanje:24606-2025-10-09 10:00:00+02:00
DESCRIPTION:Predmet: Biologija domačih živali (ZO046)\, predavanja in se
 minarji (P+S)\nLetniki: Kmetijstvo - zootehnika 1. letnik (ZOUN)\nIzvajalc
 i: Jernej Ogorevc\, Simona Sušnik Bajec\nProstor: Predavalnica Ro-4
END:VEVENT
BEGIN:VEVENT
SUMMARY:Biologija domačih živali (ZO046)\, predavanja in seminarji (P+S)
DTSTART;TZID=Europe/Ljubljana:20251016T100000
DTEND;TZID=Europe/Ljubljana:20251016T130000
DTSTAMP:20260420T060205Z
UID:bf-AFLABS-URNIK:srecanje:24606-2025-10-16 10:00:00+02:00
DESCRIPTION:Predmet: Biologija domačih živali (ZO046)\, predavanja in se
 minarji (P+S)\nLetniki: Kmetijstvo - zootehnika 1. letnik (ZOUN)\nIzvajalc
 i: Jernej Ogorevc\, Simona Sušnik Bajec\nProstor: Predavalnica Ro-4
END:VEVENT
BEGIN:VEVENT
SUMMARY:Biologija domačih živali (ZO046)\, predavanja in seminarji (P+S)
DTSTART;TZID=Europe/Ljubljana:20251023T100000
DTEND;TZID=Europe/Ljubljana:20251023T130000
DTSTAMP:20260420T060205Z
UID:bf-AFLABS-URNIK:srecanje:24606-2025-10-23 10:00:00+02:00
DESCRIPTION:Predmet: Biologija domačih živali (ZO046)\, predavanja in se
 minarji (P+S)\nLetniki: Kmetijstvo - zootehnika 1. letnik (ZOUN)\nIzvajalc
 i: Jernej Ogorevc\, Simona Sušnik Bajec\nProstor: Predavalnica Ro-4
END:VEVENT
BEGIN:VEVENT
SUMMARY:Biologija domačih živali (ZO046)\, predavanja in seminarji (P+S)
DTSTART;TZID=Europe/Ljubljana:20251030T100000
DTEND;TZID=Europe/Ljubljana:20251030T130000
DTSTAMP:20260420T060205Z
UID:bf-AFLABS-URNIK:srecanje:24606-2025-10-30 10:00:00+01:00
DESCRIPTION:Predmet: Biologija domačih živali (ZO046)\, predavanja in se
 minarji (P+S)\nLetniki: Kmetijstvo - zootehnika 1. letnik (ZOUN)\nIzvajalc
 i: Jernej Ogorevc\, Simona Sušnik Bajec\nProstor: Predavalnica Ro-4
END:VEVENT
BEGIN:VEVENT
SUMMARY:Biologija domačih živali (ZO046)\, predavanja in seminarji (P+S)
DTSTART;TZID=Europe/Ljubljana:20251106T100000
DTEND;TZID=Europe/Ljubljana:20251106T130000
DTSTAMP:20260420T060205Z
UID:bf-AFLABS-URNIK:srecanje:24606-2025-11-06 10:00:00+01:00
DESCRIPTION:Predmet: Biologija domačih živali (ZO046)\, predavanja in se
 minarji (P+S)\nLetniki: Kmetijstvo - zootehnika 1. letnik (ZOUN)\nIzvajalc
 i: Jernej Ogorevc\, Simona Sušnik Bajec\nProstor: Predavalnica Ro-4
END:VEVENT
BEGIN:VEVENT
SUMMARY:Biologija domačih živali (ZO046)\, predavanja in seminarji (P+S)
DTSTART;TZID=Europe/Ljubljana:20251113T100000
DTEND;TZID=Europe/Ljubljana:20251113T130000
DTSTAMP:20260420T060205Z
UID:bf-AFLABS-URNIK:srecanje:24606-2025-11-13 10:00:00+01:00
DESCRIPTION:Predmet: Biologija domačih živali (ZO046)\, predavanja in se
 minarji (P+S)\nLetniki: Kmetijstvo - zootehnika 1. letnik (ZOUN)\nIzvajalc
 i: Jernej Ogorevc\, Simona Sušnik Bajec\nProstor: Predavalnica Ro-4
END:VEVENT
BEGIN:VEVENT
SUMMARY:Biologija domačih živali (ZO046)\, predavanja in seminarji (P+S)
DTSTART;TZID=Europe/Ljubljana:20251003T080000
DTEND;TZID=Europe/Ljubljana:20251003T100000
DTSTAMP:20260420T060205Z
UID:bf-AFLABS-URNIK:srecanje:24607-2025-10-03 08:00:00+02:00
DESCRIPTION:Predmet: Biologija domačih živali (ZO046)\, predavanja in se
 minarji (P+S)\nLetniki: Kmetijstvo - zootehnika 1. letnik (ZOUN)\nIzvajalc
 i: Jernej Ogorevc\, Simona Sušnik Bajec\nProstor: Viteška dvorana
END:VEVENT
BEGIN:VEVENT
SUMMARY:Biologija domačih živali (ZO046)\, predavanja in seminarji (P+S)
DTSTART;TZID=Europe/Ljubljana:20251010T080000
DTEND;TZID=Europe/Ljubljana:20251010T100000
DTSTAMP:20260420T060205Z
UID:bf-AFLABS-URNIK:srecanje:24607-2025-10-10 08:00:00+02:00
DESCRIPTION:Predmet: Biologija domačih živali (ZO046)\, predavanja in se
 minarji (P+S)\nLetniki: Kmetijstvo - zootehnika 1. letnik (ZOUN)\nIzvajalc
 i: Jernej Ogorevc\, Simona Sušnik Bajec\nProstor: Viteška dvorana
END:VEVENT
BEGIN:VEVENT
SUMMARY:Biologija domačih živali (ZO046)\, predavanja in seminarji (P+S)
DTSTART;TZID=Europe/Ljubljana:20251017T080000
DTEND;TZID=Europe/Ljubljana:20251017T100000
DTSTAMP:20260420T060205Z
UID:bf-AFLABS-URNIK:srecanje:24607-2025-10-17 08:00:00+02:00
DESCRIPTION:Predmet: Biologija domačih živali (ZO046)\, predavanja in se
 minarji (P+S)\nLetniki: Kmetijstvo - zootehnika 1. letnik (ZOUN)\nIzvajalc
 i: Jernej Ogorevc\, Simona Sušnik Bajec\nProstor: Viteška dvorana
END:VEVENT
BEGIN:VEVENT
SUMMARY:Biologija domačih živali (ZO046)\, predavanja in seminarji (P+S)
DTSTART;TZID=Europe/Ljubljana:20251024T080000
DTEND;TZID=Europe/Ljubljana:20251024T100000
DTSTAMP:20260420T060205Z
UID:bf-AFLABS-URNIK:srecanje:24607-2025-10-24 08:00:00+02:00
DESCRIPTION:Predmet: Biologija domačih živali (ZO046)\, predavanja in se
 minarji (P+S)\nLetniki: Kmetijstvo - zootehnika 1. letnik (ZOUN)\nIzvajalc
 i: Jernej Ogorevc\, Simona Sušnik Bajec\nProstor: Viteška dvorana
END:VEVENT
BEGIN:VEVENT
SUMMARY:Biologija domačih živali (ZO046)\, predavanja in seminarji (P+S)
DTSTART;TZID=Europe/Ljubljana:20251107T080000
DTEND;TZID=Europe/Ljubljana:20251107T100000
DTSTAMP:20260420T060205Z
UID:bf-AFLABS-URNIK:srecanje:24607-2025-11-07 08:00:00+01:00
DESCRIPTION:Predmet: Biologija domačih živali (ZO046)\, predavanja in se
 minarji (P+S)\nLetniki: Kmetijstvo - zootehnika 1. letnik (ZOUN)\nIzvajalc
 i: Jernej Ogorevc\, Simona Sušnik Bajec\nProstor: Viteška dvorana
END:VEVENT
BEGIN:VEVENT
SUMMARY:Biologija domačih živali (ZO046)\, predavanja in seminarji (P+S)
DTSTART;TZID=Europe/Ljubljana:20251114T080000
DTEND;TZID=Europe/Ljubljana:20251114T100000
DTSTAMP:20260420T060205Z
UID:bf-AFLABS-URNIK:srecanje:24607-2025-11-14 08:00:00+01:00
DESCRIPTION:Predmet: Biologija domačih živali (ZO046)\, predavanja in se
 minarji (P+S)\nLetniki: Kmetijstvo - zootehnika 1. letnik (ZOUN)\nIzvajalc
 i: Jernej Ogorevc\, Simona Sušnik Bajec\nProstor: Viteška dvorana
END:VEVENT
BEGIN:VEVENT
SUMMARY:Biologija domačih živali (ZO046)\, predavanja (P)
DTSTART;TZID=Europe/Ljubljana:20251015T130000
DTEND;TZID=Europe/Ljubljana:20251015T160000
DTSTAMP:20260420T060205Z
UID:bf-AFLABS-URNIK:srecanje:24605-2025-10-15 13:00:00+02:00
DESCRIPTION:Predmet: Biologija domačih živali (ZO046)\, predavanja (P)\n
 Letniki: Kmetijstvo - zootehnika 1. letnik (ZOUN)\nIzvajalci: Jernej Ogore
 vc\, Simona Sušnik Bajec\nProstor: Viteška dvorana
END:VEVENT
BEGIN:VEVENT
SUMMARY:Biologija domačih živali (ZO046)\, predavanja (P)
DTSTART;TZID=Europe/Ljubljana:20251022T130000
DTEND;TZID=Europe/Ljubljana:20251022T160000
DTSTAMP:20260420T060205Z
UID:bf-AFLABS-URNIK:srecanje:24605-2025-10-22 13:00:00+02:00
DESCRIPTION:Predmet: Biologija domačih živali (ZO046)\, predavanja (P)\n
 Letniki: Kmetijstvo - zootehnika 1. letnik (ZOUN)\nIzvajalci: Jernej Ogore
 vc\, Simona Sušnik Bajec\nProstor: Viteška dvorana
END:VEVENT
BEGIN:VEVENT
SUMMARY:Biologija domačih živali (ZO046)\, predavanja (P)
DTSTART;TZID=Europe/Ljubljana:20251029T130000
DTEND;TZID=Europe/Ljubljana:20251029T160000
DTSTAMP:20260420T060205Z
UID:bf-AFLABS-URNIK:srecanje:24605-2025-10-29 13:00:00+01:00
DESCRIPTION:Predmet: Biologija domačih živali (ZO046)\, predavanja (P)\n
 Letniki: Kmetijstvo - zootehnika 1. letnik (ZOUN)\nIzvajalci: Jernej Ogore
 vc\, Simona Sušnik Bajec\nProstor: Viteška dvorana
END:VEVENT
BEGIN:VEVENT
SUMMARY:Biologija domačih živali (ZO046)\, predavanja (P)
DTSTART;TZID=Europe/Ljubljana:20251105T130000
DTEND;TZID=Europe/Ljubljana:20251105T160000
DTSTAMP:20260420T060205Z
UID:bf-AFLABS-URNIK:srecanje:24605-2025-11-05 13:00:00+01:00
DESCRIPTION:Predmet: Biologija domačih živali (ZO046)\, predavanja (P)\n
 Letniki: Kmetijstvo - zootehnika 1. letnik (ZOUN)\nIzvajalci: Jernej Ogore
 vc\, Simona Sušnik Bajec\nProstor: Viteška dvorana
END:VEVENT
BEGIN:VEVENT
SUMMARY:Biologija domačih živali (ZO046)\, predavanja (P)
DTSTART;TZID=Europe/Ljubljana:20251112T130000
DTEND;TZID=Europe/Ljubljana:20251112T160000
DTSTAMP:20260420T060205Z
UID:bf-AFLABS-URNIK:srecanje:24605-2025-11-12 13:00:00+01:00
DESCRIPTION:Predmet: Biologija domačih živali (ZO046)\, predavanja (P)\n
 Letniki: Kmetijstvo - zootehnika 1. letnik (ZOUN)\nIzvajalci: Jernej Ogore
 vc\, Simona Sušnik Bajec\nProstor: Viteška dvorana
END:VEVENT
BEGIN:VEVENT
SUMMARY:Biologija domačih živali (ZO046)\, predavanja (P)
DTSTART;TZID=Europe/Ljubljana:20251029T113000
DTEND;TZID=Europe/Ljubljana:20251029T120000
DTSTAMP:20260420T060205Z
UID:bf-AFLABS-URNIK:srecanje:24603-2025-10-29 11:30:00+01:00
DESCRIPTION:Predmet: Biologija domačih živali (ZO046)\, predavanja (P)\n
 Letniki: Kmetijstvo - zootehnika 1. letnik (ZOUN)\nIzvajalci: Mojca Narat\
 , Jernej Ogorevc\nProstor: Viteška dvorana
END:VEVENT
BEGIN:VEVENT
SUMMARY:Živalske tkivne kulture (BT015)\, predavanja (P)\, [erasmus]
DTSTART;TZID=Europe/Ljubljana:20260217T120000
DTEND;TZID=Europe/Ljubljana:20260217T143000
DTSTAMP:20260420T060205Z
UID:bf-AFLABS-URNIK:srecanje:27707-2026-02-17 12:00:00+01:00
DESCRIPTION:Predmet: Živalske tkivne kulture (BT015)\, predavanja (P)\, [
 erasmus]\nLetniki: Biotehnologija 2. letnik (BTUN)\nIzvajalci: Jernej Ogor
 evc\nProstor: Sejna soba Živilstvo
END:VEVENT
BEGIN:VEVENT
SUMMARY:Živalske tkivne kulture (BT015)\, predavanja (P)
DTSTART;TZID=Europe/Ljubljana:20260218T080000
DTEND;TZID=Europe/Ljubljana:20260218T110000
DTSTAMP:20260420T060205Z
UID:bf-AFLABS-URNIK:srecanje:27706-2026-02-18 08:00:00+01:00
DESCRIPTION:Predmet: Živalske tkivne kulture (BT015)\, predavanja (P)\nLe
 tniki: Biotehnologija 2. letnik (BTUN)\nIzvajalci: Jernej Ogorevc\nProstor
 : Predavalnica Živilstvo Ž3
END:VEVENT
BEGIN:VEVENT
SUMMARY:Živalske tkivne kulture (BT015)\, predavanja (P)
DTSTART;TZID=Europe/Ljubljana:20260225T080000
DTEND;TZID=Europe/Ljubljana:20260225T110000
DTSTAMP:20260420T060205Z
UID:bf-AFLABS-URNIK:srecanje:27706-2026-02-25 08:00:00+01:00
DESCRIPTION:Predmet: Živalske tkivne kulture (BT015)\, predavanja (P)\nLe
 tniki: Biotehnologija 2. letnik (BTUN)\nIzvajalci: Jernej Ogorevc\nProstor
 : Predavalnica Živilstvo Ž3
END:VEVENT
BEGIN:VEVENT
SUMMARY:Živalske tkivne kulture (BT015)\, predavanja (P)
DTSTART;TZID=Europe/Ljubljana:20260304T080000
DTEND;TZID=Europe/Ljubljana:20260304T110000
DTSTAMP:20260420T060205Z
UID:bf-AFLABS-URNIK:srecanje:27706-2026-03-04 08:00:00+01:00
DESCRIPTION:Predmet: Živalske tkivne kulture (BT015)\, predavanja (P)\nLe
 tniki: Biotehnologija 2. letnik (BTUN)\nIzvajalci: Jernej Ogorevc\nProstor
 : Predavalnica Živilstvo Ž3
END:VEVENT
BEGIN:VEVENT
SUMMARY:Živalske tkivne kulture (BT015)\, predavanja (P)
DTSTART;TZID=Europe/Ljubljana:20260311T080000
DTEND;TZID=Europe/Ljubljana:20260311T110000
DTSTAMP:20260420T060205Z
UID:bf-AFLABS-URNIK:srecanje:27706-2026-03-11 08:00:00+01:00
DESCRIPTION:Predmet: Živalske tkivne kulture (BT015)\, predavanja (P)\nLe
 tniki: Biotehnologija 2. letnik (BTUN)\nIzvajalci: Jernej Ogorevc\nProstor
 : Predavalnica Živilstvo Ž3
END:VEVENT
BEGIN:VEVENT
SUMMARY:Živalske tkivne kulture (BT015)\, predavanja (P)
DTSTART;TZID=Europe/Ljubljana:20260318T080000
DTEND;TZID=Europe/Ljubljana:20260318T110000
DTSTAMP:20260420T060205Z
UID:bf-AFLABS-URNIK:srecanje:27706-2026-03-18 08:00:00+01:00
DESCRIPTION:Predmet: Živalske tkivne kulture (BT015)\, predavanja (P)\nLe
 tniki: Biotehnologija 2. letnik (BTUN)\nIzvajalci: Jernej Ogorevc\nProstor
 : Predavalnica Živilstvo Ž3
END:VEVENT
BEGIN:VEVENT
SUMMARY:Živalske tkivne kulture (BT015)\, predavanja (P)
DTSTART;TZID=Europe/Ljubljana:20260325T080000
DTEND;TZID=Europe/Ljubljana:20260325T110000
DTSTAMP:20260420T060205Z
UID:bf-AFLABS-URNIK:srecanje:27706-2026-03-25 08:00:00+01:00
DESCRIPTION:Predmet: Živalske tkivne kulture (BT015)\, predavanja (P)\nLe
 tniki: Biotehnologija 2. letnik (BTUN)\nIzvajalci: Jernej Ogorevc\nProstor
 : Predavalnica Živilstvo Ž3
END:VEVENT
BEGIN:VEVENT
SUMMARY:Živalske tkivne kulture (BT015)\, predavanja (P)
DTSTART;TZID=Europe/Ljubljana:20260401T080000
DTEND;TZID=Europe/Ljubljana:20260401T110000
DTSTAMP:20260420T060205Z
UID:bf-AFLABS-URNIK:srecanje:27706-2026-04-01 08:00:00+02:00
DESCRIPTION:Predmet: Živalske tkivne kulture (BT015)\, predavanja (P)\nLe
 tniki: Biotehnologija 2. letnik (BTUN)\nIzvajalci: Jernej Ogorevc\nProstor
 : Predavalnica Živilstvo Ž3
END:VEVENT
BEGIN:VEVENT
SUMMARY:Živalske tkivne kulture (BT015)\, predavanja in seminarji (P+S)
DTSTART;TZID=Europe/Ljubljana:20260310T120000
DTEND;TZID=Europe/Ljubljana:20260310T150000
DTSTAMP:20260420T060205Z
UID:bf-AFLABS-URNIK:srecanje:29880-2026-03-10 12:00:00+01:00
DESCRIPTION:Predmet: Živalske tkivne kulture (BT015)\, predavanja in semi
 narji (P+S)\nLetniki: Biotehnologija 2. letnik (BTUN)\nIzvajalci: Jernej O
 gorevc\nProstor: Predavalnica Agronomija A5
END:VEVENT
BEGIN:VEVENT
SUMMARY:Živalske tkivne kulture (BT015)\, predavanja in seminarji (P+S)
DTSTART;TZID=Europe/Ljubljana:20260317T120000
DTEND;TZID=Europe/Ljubljana:20260317T150000
DTSTAMP:20260420T060205Z
UID:bf-AFLABS-URNIK:srecanje:29880-2026-03-17 12:00:00+01:00
DESCRIPTION:Predmet: Živalske tkivne kulture (BT015)\, predavanja in semi
 narji (P+S)\nLetniki: Biotehnologija 2. letnik (BTUN)\nIzvajalci: Jernej O
 gorevc\nProstor: Predavalnica Agronomija A5
END:VEVENT
BEGIN:VEVENT
SUMMARY:Živalske tkivne kulture (BT015)\, predavanja in seminarji (P+S)
DTSTART;TZID=Europe/Ljubljana:20260324T120000
DTEND;TZID=Europe/Ljubljana:20260324T150000
DTSTAMP:20260420T060205Z
UID:bf-AFLABS-URNIK:srecanje:29880-2026-03-24 12:00:00+01:00
DESCRIPTION:Predmet: Živalske tkivne kulture (BT015)\, predavanja in semi
 narji (P+S)\nLetniki: Biotehnologija 2. letnik (BTUN)\nIzvajalci: Jernej O
 gorevc\nProstor: Predavalnica Agronomija A5
END:VEVENT
BEGIN:VEVENT
SUMMARY:Živalske tkivne kulture (BT015)\, predavanja in seminarji (P+S)
DTSTART;TZID=Europe/Ljubljana:20260331T120000
DTEND;TZID=Europe/Ljubljana:20260331T150000
DTSTAMP:20260420T060205Z
UID:bf-AFLABS-URNIK:srecanje:29880-2026-03-31 12:00:00+02:00
DESCRIPTION:Predmet: Živalske tkivne kulture (BT015)\, predavanja in semi
 narji (P+S)\nLetniki: Biotehnologija 2. letnik (BTUN)\nIzvajalci: Jernej O
 gorevc\nProstor: Predavalnica Agronomija A5
END:VEVENT
BEGIN:VEVENT
SUMMARY:Živalske tkivne kulture (BT015)\, predavanja (P)
DTSTART;TZID=Europe/Ljubljana:20260414T120000
DTEND;TZID=Europe/Ljubljana:20260414T150000
DTSTAMP:20260420T060205Z
UID:bf-AFLABS-URNIK:srecanje:29917-2026-04-14 12:00:00+02:00
DESCRIPTION:Predmet: Živalske tkivne kulture (BT015)\, predavanja (P)\nLe
 tniki: Biotehnologija 2. letnik (BTUN)\nIzvajalci: Jernej Ogorevc\nProstor
 : Predavalnica Agronomija A10
END:VEVENT
BEGIN:VEVENT
SUMMARY:Živalske tkivne kulture (BT015)\, predavanja (P)
DTSTART;TZID=Europe/Ljubljana:20260421T120000
DTEND;TZID=Europe/Ljubljana:20260421T150000
DTSTAMP:20260420T060205Z
UID:bf-AFLABS-URNIK:srecanje:29917-2026-04-21 12:00:00+02:00
DESCRIPTION:Predmet: Živalske tkivne kulture (BT015)\, predavanja (P)\nLe
 tniki: Biotehnologija 2. letnik (BTUN)\nIzvajalci: Jernej Ogorevc\nProstor
 : Predavalnica Agronomija A10
END:VEVENT
BEGIN:VEVENT
SUMMARY:Živalske tkivne kulture (BT015)\, predavanja (P)
DTSTART;TZID=Europe/Ljubljana:20260428T120000
DTEND;TZID=Europe/Ljubljana:20260428T150000
DTSTAMP:20260420T060205Z
UID:bf-AFLABS-URNIK:srecanje:29917-2026-04-28 12:00:00+02:00
DESCRIPTION:Predmet: Živalske tkivne kulture (BT015)\, predavanja (P)\nLe
 tniki: Biotehnologija 2. letnik (BTUN)\nIzvajalci: Jernej Ogorevc\nProstor
 : Predavalnica Agronomija A10
END:VEVENT
BEGIN:VEVENT
SUMMARY:Živalske tkivne kulture (BT015)\, predavanja (P)
DTSTART;TZID=Europe/Ljubljana:20260505T120000
DTEND;TZID=Europe/Ljubljana:20260505T150000
DTSTAMP:20260420T060205Z
UID:bf-AFLABS-URNIK:srecanje:29917-2026-05-05 12:00:00+02:00
DESCRIPTION:Predmet: Živalske tkivne kulture (BT015)\, predavanja (P)\nLe
 tniki: Biotehnologija 2. letnik (BTUN)\nIzvajalci: Jernej Ogorevc\nProstor
 : Predavalnica Agronomija A10
END:VEVENT
BEGIN:VEVENT
SUMMARY:Živalske tkivne kulture (BT015)\, predavanja (P)
DTSTART;TZID=Europe/Ljubljana:20260512T120000
DTEND;TZID=Europe/Ljubljana:20260512T150000
DTSTAMP:20260420T060205Z
UID:bf-AFLABS-URNIK:srecanje:29917-2026-05-12 12:00:00+02:00
DESCRIPTION:Predmet: Živalske tkivne kulture (BT015)\, predavanja (P)\nLe
 tniki: Biotehnologija 2. letnik (BTUN)\nIzvajalci: Jernej Ogorevc\nProstor
 : Predavalnica Agronomija A10
END:VEVENT
BEGIN:VEVENT
SUMMARY:Živalske tkivne kulture (BT015)\, predavanja (P)
DTSTART;TZID=Europe/Ljubljana:20260519T120000
DTEND;TZID=Europe/Ljubljana:20260519T150000
DTSTAMP:20260420T060205Z
UID:bf-AFLABS-URNIK:srecanje:29917-2026-05-19 12:00:00+02:00
DESCRIPTION:Predmet: Živalske tkivne kulture (BT015)\, predavanja (P)\nLe
 tniki: Biotehnologija 2. letnik (BTUN)\nIzvajalci: Jernej Ogorevc\nProstor
 : Predavalnica Agronomija A10
END:VEVENT
BEGIN:VEVENT
SUMMARY:Živalske tkivne kulture (BT015)\, predavanja (P)
DTSTART;TZID=Europe/Ljubljana:20260526T120000
DTEND;TZID=Europe/Ljubljana:20260526T150000
DTSTAMP:20260420T060205Z
UID:bf-AFLABS-URNIK:srecanje:29917-2026-05-26 12:00:00+02:00
DESCRIPTION:Predmet: Živalske tkivne kulture (BT015)\, predavanja (P)\nLe
 tniki: Biotehnologija 2. letnik (BTUN)\nIzvajalci: Jernej Ogorevc\nProstor
 : Predavalnica Agronomija A10
END:VEVENT
BEGIN:VEVENT
SUMMARY:Živalske tkivne kulture (BT015)\, predavanja (P)
DTSTART;TZID=Europe/Ljubljana:20260602T120000
DTEND;TZID=Europe/Ljubljana:20260602T150000
DTSTAMP:20260420T060205Z
UID:bf-AFLABS-URNIK:srecanje:29917-2026-06-02 12:00:00+02:00
DESCRIPTION:Predmet: Živalske tkivne kulture (BT015)\, predavanja (P)\nLe
 tniki: Biotehnologija 2. letnik (BTUN)\nIzvajalci: Jernej Ogorevc\nProstor
 : Predavalnica Agronomija A10
END:VEVENT
BEGIN:VEVENT
SUMMARY:Živalske tkivne kulture (BT015)\, predavanja (P)
DTSTART;TZID=Europe/Ljubljana:20260417T080000
DTEND;TZID=Europe/Ljubljana:20260417T110000
DTSTAMP:20260420T060205Z
UID:bf-AFLABS-URNIK:srecanje:28567-2026-04-17 08:00:00+02:00
DESCRIPTION:Predmet: Živalske tkivne kulture (BT015)\, predavanja (P)\nLe
 tniki: Biotehnologija 2. letnik (BTUN)\nIzvajalci: Jernej Ogorevc\nProstor
 : Predavalnica Agronomija A5
END:VEVENT
BEGIN:VEVENT
SUMMARY:Živalske tkivne kulture (BT015)\, predavanja (P)
DTSTART;TZID=Europe/Ljubljana:20260424T080000
DTEND;TZID=Europe/Ljubljana:20260424T110000
DTSTAMP:20260420T060205Z
UID:bf-AFLABS-URNIK:srecanje:28567-2026-04-24 08:00:00+02:00
DESCRIPTION:Predmet: Živalske tkivne kulture (BT015)\, predavanja (P)\nLe
 tniki: Biotehnologija 2. letnik (BTUN)\nIzvajalci: Jernej Ogorevc\nProstor
 : Predavalnica Agronomija A5
END:VEVENT
BEGIN:VEVENT
SUMMARY:Živalske tkivne kulture (BT015)\, predavanja (P)
DTSTART;TZID=Europe/Ljubljana:20260508T080000
DTEND;TZID=Europe/Ljubljana:20260508T110000
DTSTAMP:20260420T060205Z
UID:bf-AFLABS-URNIK:srecanje:28567-2026-05-08 08:00:00+02:00
DESCRIPTION:Predmet: Živalske tkivne kulture (BT015)\, predavanja (P)\nLe
 tniki: Biotehnologija 2. letnik (BTUN)\nIzvajalci: Jernej Ogorevc\nProstor
 : Predavalnica Agronomija A5
END:VEVENT
BEGIN:VEVENT
SUMMARY:Živalske tkivne kulture (BT015)\, predavanja (P)
DTSTART;TZID=Europe/Ljubljana:20260515T080000
DTEND;TZID=Europe/Ljubljana:20260515T110000
DTSTAMP:20260420T060205Z
UID:bf-AFLABS-URNIK:srecanje:28567-2026-05-15 08:00:00+02:00
DESCRIPTION:Predmet: Živalske tkivne kulture (BT015)\, predavanja (P)\nLe
 tniki: Biotehnologija 2. letnik (BTUN)\nIzvajalci: Jernej Ogorevc\nProstor
 : Predavalnica Agronomija A5
END:VEVENT
BEGIN:VEVENT
SUMMARY:Živalske tkivne kulture (BT015)\, predavanja (P)
DTSTART;TZID=Europe/Ljubljana:20260522T080000
DTEND;TZID=Europe/Ljubljana:20260522T110000
DTSTAMP:20260420T060205Z
UID:bf-AFLABS-URNIK:srecanje:28567-2026-05-22 08:00:00+02:00
DESCRIPTION:Predmet: Živalske tkivne kulture (BT015)\, predavanja (P)\nLe
 tniki: Biotehnologija 2. letnik (BTUN)\nIzvajalci: Jernej Ogorevc\nProstor
 : Predavalnica Agronomija A5
END:VEVENT
BEGIN:VEVENT
SUMMARY:Živalske tkivne kulture (BT015)\, predavanja (P)
DTSTART;TZID=Europe/Ljubljana:20260529T080000
DTEND;TZID=Europe/Ljubljana:20260529T110000
DTSTAMP:20260420T060205Z
UID:bf-AFLABS-URNIK:srecanje:28567-2026-05-29 08:00:00+02:00
DESCRIPTION:Predmet: Živalske tkivne kulture (BT015)\, predavanja (P)\nLe
 tniki: Biotehnologija 2. letnik (BTUN)\nIzvajalci: Jernej Ogorevc\nProstor
 : Predavalnica Agronomija A5
END:VEVENT
BEGIN:VEVENT
SUMMARY:Živalske tkivne kulture (BT015)\, predavanja (P)
DTSTART;TZID=Europe/Ljubljana:20260605T080000
DTEND;TZID=Europe/Ljubljana:20260605T110000
DTSTAMP:20260420T060205Z
UID:bf-AFLABS-URNIK:srecanje:28567-2026-06-05 08:00:00+02:00
DESCRIPTION:Predmet: Živalske tkivne kulture (BT015)\, predavanja (P)\nLe
 tniki: Biotehnologija 2. letnik (BTUN)\nIzvajalci: Jernej Ogorevc\nProstor
 : Predavalnica Agronomija A5
END:VEVENT
BEGIN:VEVENT
SUMMARY:Živalske tkivne kulture (BT015)\, seminarske vaje (SV)
DTSTART;TZID=Europe/Ljubljana:20260417T110000
DTEND;TZID=Europe/Ljubljana:20260417T140000
DTSTAMP:20260420T060205Z
UID:bf-AFLABS-URNIK:srecanje:28568-2026-04-17 11:00:00+02:00
DESCRIPTION:Predmet: Živalske tkivne kulture (BT015)\, seminarske vaje (S
 V)\nLetniki: Biotehnologija 2. letnik (BTUN)\nIzvajalci: Jernej Ogorevc\nP
 rostor: Predavalnica Agronomija A5
END:VEVENT
BEGIN:VEVENT
SUMMARY:Živalske tkivne kulture (BT015)\, seminarske vaje (SV)
DTSTART;TZID=Europe/Ljubljana:20260424T110000
DTEND;TZID=Europe/Ljubljana:20260424T140000
DTSTAMP:20260420T060205Z
UID:bf-AFLABS-URNIK:srecanje:28568-2026-04-24 11:00:00+02:00
DESCRIPTION:Predmet: Živalske tkivne kulture (BT015)\, seminarske vaje (S
 V)\nLetniki: Biotehnologija 2. letnik (BTUN)\nIzvajalci: Jernej Ogorevc\nP
 rostor: Predavalnica Agronomija A5
END:VEVENT
BEGIN:VEVENT
SUMMARY:Živalske tkivne kulture (BT015)\, seminarske vaje (SV)
DTSTART;TZID=Europe/Ljubljana:20260508T110000
DTEND;TZID=Europe/Ljubljana:20260508T140000
DTSTAMP:20260420T060205Z
UID:bf-AFLABS-URNIK:srecanje:28568-2026-05-08 11:00:00+02:00
DESCRIPTION:Predmet: Živalske tkivne kulture (BT015)\, seminarske vaje (S
 V)\nLetniki: Biotehnologija 2. letnik (BTUN)\nIzvajalci: Jernej Ogorevc\nP
 rostor: Predavalnica Agronomija A5
END:VEVENT
BEGIN:VEVENT
SUMMARY:Živalske tkivne kulture (BT015)\, seminarske vaje (SV)
DTSTART;TZID=Europe/Ljubljana:20260515T110000
DTEND;TZID=Europe/Ljubljana:20260515T140000
DTSTAMP:20260420T060205Z
UID:bf-AFLABS-URNIK:srecanje:28568-2026-05-15 11:00:00+02:00
DESCRIPTION:Predmet: Živalske tkivne kulture (BT015)\, seminarske vaje (S
 V)\nLetniki: Biotehnologija 2. letnik (BTUN)\nIzvajalci: Jernej Ogorevc\nP
 rostor: Predavalnica Agronomija A5
END:VEVENT
BEGIN:VEVENT
SUMMARY:Živalske tkivne kulture (BT015)\, seminarske vaje (SV)
DTSTART;TZID=Europe/Ljubljana:20260522T110000
DTEND;TZID=Europe/Ljubljana:20260522T140000
DTSTAMP:20260420T060205Z
UID:bf-AFLABS-URNIK:srecanje:28568-2026-05-22 11:00:00+02:00
DESCRIPTION:Predmet: Živalske tkivne kulture (BT015)\, seminarske vaje (S
 V)\nLetniki: Biotehnologija 2. letnik (BTUN)\nIzvajalci: Jernej Ogorevc\nP
 rostor: Predavalnica Agronomija A5
END:VEVENT
BEGIN:VEVENT
SUMMARY:Živalske tkivne kulture (BT015)\, seminarske vaje (SV)
DTSTART;TZID=Europe/Ljubljana:20260529T110000
DTEND;TZID=Europe/Ljubljana:20260529T140000
DTSTAMP:20260420T060205Z
UID:bf-AFLABS-URNIK:srecanje:28568-2026-05-29 11:00:00+02:00
DESCRIPTION:Predmet: Živalske tkivne kulture (BT015)\, seminarske vaje (S
 V)\nLetniki: Biotehnologija 2. letnik (BTUN)\nIzvajalci: Jernej Ogorevc\nP
 rostor: Predavalnica Agronomija A5
END:VEVENT
BEGIN:VEVENT
SUMMARY:Živalske tkivne kulture (BT015)\, seminarske vaje (SV)
DTSTART;TZID=Europe/Ljubljana:20260605T110000
DTEND;TZID=Europe/Ljubljana:20260605T140000
DTSTAMP:20260420T060205Z
UID:bf-AFLABS-URNIK:srecanje:28568-2026-06-05 11:00:00+02:00
DESCRIPTION:Predmet: Živalske tkivne kulture (BT015)\, seminarske vaje (S
 V)\nLetniki: Biotehnologija 2. letnik (BTUN)\nIzvajalci: Jernej Ogorevc\nP
 rostor: Predavalnica Agronomija A5
END:VEVENT
BEGIN:VEVENT
SUMMARY:izpit ZO Biologija domačih živali  UN BSc
DTSTART;TZID=Europe/Ljubljana:20260130T100000
DTEND;TZID=Europe/Ljubljana:20260130T120000
DTSTAMP:20260420T060205Z
UID:bf-AFLABS-URNIK:rezervacija:25864
CATEGORIES:Reservation
COLOR:royalblue
DESCRIPTION:Predmeti: \nLetniki: \nIzvajalci: Ida Djurdjevič\, Jernej Ogo
 revc\nProstori: Predavalnica Ro-4
LOCATION:Oddelek za zootehniko\, Predavalnica Ro-4
ORGANIZER:Ida Djurdjevič, Jernej Ogorevc
X-WR-TIMEZONE:Europe/Ljubljana
END:VEVENT
BEGIN:VEVENT
SUMMARY:izpit ZO Biologija domačih živali 2013 UN BSc
DTSTART;TZID=Europe/Ljubljana:20251120T100000
DTEND;TZID=Europe/Ljubljana:20251120T120000
DTSTAMP:20260420T060205Z
UID:bf-AFLABS-URNIK:rezervacija:24693
CATEGORIES:Reservation
COLOR:royalblue
DESCRIPTION:Predmeti: \nLetniki: \nIzvajalci: Jernej Ogorevc\nProstori: Pr
 edavalnica Ro-4
LOCATION:Oddelek za zootehniko\, Predavalnica Ro-4
ORGANIZER:Jernej Ogorevc
X-WR-TIMEZONE:Europe/Ljubljana
END:VEVENT
BEGIN:VEVENT
SUMMARY:izpit ZO Biologija domačih živali 2013 UN BSc
DTSTART;TZID=Europe/Ljubljana:20260821T120000
DTEND;TZID=Europe/Ljubljana:20260821T133000
DTSTAMP:20260420T060205Z
UID:bf-AFLABS-URNIK:rezervacija:27972
CATEGORIES:Reservation
COLOR:royalblue
DESCRIPTION:Predmeti: \nLetniki: \nIzvajalci: Ida Djurdjevič\, Jernej Ogo
 revc\nProstori: Predavalnica Ro-2
LOCATION:Oddelek za zootehniko\, Predavalnica Ro-2
ORGANIZER:Ida Djurdjevič, Jernej Ogorevc
X-WR-TIMEZONE:Europe/Ljubljana
END:VEVENT
BEGIN:VEVENT
SUMMARY:izpit ZO Biologija domačih živali 2013 UN BSc
DTSTART;TZID=Europe/Ljubljana:20260611T100000
DTEND;TZID=Europe/Ljubljana:20260611T113000
DTSTAMP:20260420T060205Z
UID:bf-AFLABS-URNIK:rezervacija:27960
CATEGORIES:Reservation
COLOR:royalblue
DESCRIPTION:Predmeti: \nLetniki: \nIzvajalci: Ida Djurdjevič\, Jernej Ogo
 revc\nProstori: Predavalnica Ro-2
LOCATION:Oddelek za zootehniko\, Predavalnica Ro-2
ORGANIZER:Ida Djurdjevič, Jernej Ogorevc
X-WR-TIMEZONE:Europe/Ljubljana
END:VEVENT
BEGIN:VEVENT
SUMMARY:izpit ZO Biologija domačih živali UN BSc
DTSTART;TZID=Europe/Ljubljana:20260831T110000
DTEND;TZID=Europe/Ljubljana:20260831T123000
DTSTAMP:20260420T060205Z
UID:bf-AFLABS-URNIK:rezervacija:27976
CATEGORIES:Reservation
COLOR:royalblue
DESCRIPTION:Predmeti: \nLetniki: \nIzvajalci: Ida Djurdjevič\, Jernej Ogo
 revc\nProstori: Predavalnica Ro-2
LOCATION:Oddelek za zootehniko\, Predavalnica Ro-2
ORGANIZER:Ida Djurdjevič, Jernej Ogorevc
X-WR-TIMEZONE:Europe/Ljubljana
END:VEVENT
END:VCALENDAR
