BEGIN:VCALENDAR
VERSION:2.0
PRODID:-//AFLabs urnik izvoz - bf//aflabs.si//SI
NAME:UL BF Urnik
X-WR-CALNAME:UL BF Urnik
DTSTAMP:20260421T150941Z
REFRESH-INTERVAL:PT1H
SOURCE:https://urniki.bf.uni-lj.si/teacher/636/?day=2025-10-20&export=1
URL:https://urniki.bf.uni-lj.si/teacher/636/?day=2025-10-20&export=1
X-PUBLISHED-TTL:PT1H
X-WR-TIMEZONE:Europe/Ljubljana
BEGIN:VTIMEZONE
TZID:Europe/Ljubljana
BEGIN:DAYLIGHT
DTSTART:20260329T020000
RDATE:20260329T020000
RDATE:20270328T020000
TZNAME:CEST
TZOFFSETFROM:+0100
TZOFFSETTO:+0200
END:DAYLIGHT
BEGIN:STANDARD
DTSTART:20261025T030000
RDATE:20261025T030000
RDATE:20271031T030000
TZNAME:CET
TZOFFSETFROM:+0200
TZOFFSETTO:+0100
END:STANDARD
END:VTIMEZONE
BEGIN:VEVENT
SUMMARY:Pridobivanje lesa (VS) (GO013)\, laboratorijske vaje (LV)
DTSTART;TZID=Europe/Ljubljana:20251001T080000
DTEND;TZID=Europe/Ljubljana:20251001T110000
DTSTAMP:20260421T150941Z
UID:bf-AFLABS-URNIK:srecanje:29337-2025-10-01 08:00:00+02:00
DESCRIPTION:Predmet: Pridobivanje lesa (VS) (GO013)\, laboratorijske vaje 
 (LV)\nLetniki: Gozdarstvo 2. letnik (GOVS)\nIzvajalci: Luka Pajek\nProstor
 : Predavalnica Gozdarstvo G10\, čitalnica
END:VEVENT
BEGIN:VEVENT
SUMMARY:Pridobivanje lesa (VS) (GO013)\, laboratorijske vaje (LV)
DTSTART;TZID=Europe/Ljubljana:20251015T080000
DTEND;TZID=Europe/Ljubljana:20251015T110000
DTSTAMP:20260421T150941Z
UID:bf-AFLABS-URNIK:srecanje:29337-2025-10-15 08:00:00+02:00
DESCRIPTION:Predmet: Pridobivanje lesa (VS) (GO013)\, laboratorijske vaje 
 (LV)\nLetniki: Gozdarstvo 2. letnik (GOVS)\nIzvajalci: Luka Pajek\nProstor
 : Predavalnica Gozdarstvo G10\, čitalnica
END:VEVENT
BEGIN:VEVENT
SUMMARY:Pridobivanje lesa (VS) (GO013)\, laboratorijske vaje (LV)
DTSTART;TZID=Europe/Ljubljana:20251022T080000
DTEND;TZID=Europe/Ljubljana:20251022T110000
DTSTAMP:20260421T150941Z
UID:bf-AFLABS-URNIK:srecanje:29337-2025-10-22 08:00:00+02:00
DESCRIPTION:Predmet: Pridobivanje lesa (VS) (GO013)\, laboratorijske vaje 
 (LV)\nLetniki: Gozdarstvo 2. letnik (GOVS)\nIzvajalci: Luka Pajek\nProstor
 : Predavalnica Gozdarstvo G10\, čitalnica
END:VEVENT
BEGIN:VEVENT
SUMMARY:Pridobivanje lesa (VS) (GO013)\, laboratorijske vaje (LV)
DTSTART;TZID=Europe/Ljubljana:20251029T080000
DTEND;TZID=Europe/Ljubljana:20251029T110000
DTSTAMP:20260421T150941Z
UID:bf-AFLABS-URNIK:srecanje:29337-2025-10-29 08:00:00+01:00
DESCRIPTION:Predmet: Pridobivanje lesa (VS) (GO013)\, laboratorijske vaje 
 (LV)\nLetniki: Gozdarstvo 2. letnik (GOVS)\nIzvajalci: Luka Pajek\nProstor
 : Predavalnica Gozdarstvo G10\, čitalnica
END:VEVENT
BEGIN:VEVENT
SUMMARY:Pridobivanje lesa (VS) (GO013)\, laboratorijske vaje (LV)
DTSTART;TZID=Europe/Ljubljana:20251105T080000
DTEND;TZID=Europe/Ljubljana:20251105T110000
DTSTAMP:20260421T150941Z
UID:bf-AFLABS-URNIK:srecanje:29337-2025-11-05 08:00:00+01:00
DESCRIPTION:Predmet: Pridobivanje lesa (VS) (GO013)\, laboratorijske vaje 
 (LV)\nLetniki: Gozdarstvo 2. letnik (GOVS)\nIzvajalci: Luka Pajek\nProstor
 : Predavalnica Gozdarstvo G10\, čitalnica
END:VEVENT
BEGIN:VEVENT
SUMMARY:Pridobivanje lesa (VS) (GO013)\, laboratorijske vaje (LV)
DTSTART;TZID=Europe/Ljubljana:20251112T080000
DTEND;TZID=Europe/Ljubljana:20251112T110000
DTSTAMP:20260421T150941Z
UID:bf-AFLABS-URNIK:srecanje:29337-2025-11-12 08:00:00+01:00
DESCRIPTION:Predmet: Pridobivanje lesa (VS) (GO013)\, laboratorijske vaje 
 (LV)\nLetniki: Gozdarstvo 2. letnik (GOVS)\nIzvajalci: Luka Pajek\nProstor
 : Predavalnica Gozdarstvo G10\, čitalnica
END:VEVENT
BEGIN:VEVENT
SUMMARY:Pridobivanje lesa (VS) (GO013)\, laboratorijske vaje (LV)
DTSTART;TZID=Europe/Ljubljana:20251002T110000
DTEND;TZID=Europe/Ljubljana:20251002T140000
DTSTAMP:20260421T150941Z
UID:bf-AFLABS-URNIK:premaknjeno-srecanje:195313
ATTENDEE:Gozdarstvo 2. letnik (GOVS)
CATEGORIES:Entry,Special
COLOR:forestgreen
DESCRIPTION:Predmet: Pridobivanje lesa (VS) (GO013)\, laboratorijske vaje 
 (LV)\nLetniki: Gozdarstvo 2. letnik (GOVS)\nIzvajalci: Luka Pajek\nProstor
 : Predavalnica Gozdarstvo G9
LOCATION:Oddelek za gozdarstvo in obnovljive gozdne vire\, Predavalnica Go
 zdarstvo G9
ORGANIZER:Luka Pajek
RELATED-TO:bf-AFLABS-URNIK:srecanje:25310
X-WR-TIMEZONE:Europe/Ljubljana
END:VEVENT
BEGIN:VEVENT
SUMMARY:Ergonomija (GG021)\, terensko delo (TD)
DTSTART;TZID=Europe/Ljubljana:20251003T080000
DTEND;TZID=Europe/Ljubljana:20251003T160000
DTSTAMP:20260421T150941Z
UID:bf-AFLABS-URNIK:srecanje:29319-2025-10-03 08:00:00+02:00
DESCRIPTION:Predmet: Ergonomija (GG021)\, terensko delo (TD)\nLetniki: Goz
 darstvo in obnovljivi gozdni viri 3. letnik (GOUN)\nIzvajalci: Luka Pajek\
 , Zala Uhan\nProstor: Terensko delo - gozdarstvo
END:VEVENT
BEGIN:VEVENT
SUMMARY:Ergonomija (GG021)\, terensko delo (TD)
DTSTART;TZID=Europe/Ljubljana:20251006T080000
DTEND;TZID=Europe/Ljubljana:20251006T160000
DTSTAMP:20260421T150941Z
UID:bf-AFLABS-URNIK:srecanje:24745-2025-10-06 08:00:00+02:00
DESCRIPTION:Predmet: Ergonomija (GG021)\, terensko delo (TD)\nLetniki: Goz
 darstvo in obnovljivi gozdni viri 3. letnik (GOUN)\nIzvajalci: Luka Pajek\
 , Zala Uhan\nProstor: Terensko delo - gozdarstvo
END:VEVENT
BEGIN:VEVENT
SUMMARY:Ergonomija (GG021)\, seminarji in laboratorijske vaje (S+LV)
DTSTART;TZID=Europe/Ljubljana:20251007T080000
DTEND;TZID=Europe/Ljubljana:20251007T100000
DTSTAMP:20260421T150941Z
UID:bf-AFLABS-URNIK:srecanje:24743-2025-10-07 08:00:00+02:00
DESCRIPTION:Predmet: Ergonomija (GG021)\, seminarji in laboratorijske vaje
  (S+LV)\nLetniki: Gozdarstvo in obnovljivi gozdni viri 3. letnik (GOUN)\nI
 zvajalci: Luka Pajek\, Zala Uhan\nProstor: Računalnica Gozdarstvo G8
END:VEVENT
BEGIN:VEVENT
SUMMARY:Ergonomija (GG021)\, seminarji in laboratorijske vaje (S+LV)
DTSTART;TZID=Europe/Ljubljana:20251014T080000
DTEND;TZID=Europe/Ljubljana:20251014T100000
DTSTAMP:20260421T150941Z
UID:bf-AFLABS-URNIK:srecanje:24743-2025-10-14 08:00:00+02:00
DESCRIPTION:Predmet: Ergonomija (GG021)\, seminarji in laboratorijske vaje
  (S+LV)\nLetniki: Gozdarstvo in obnovljivi gozdni viri 3. letnik (GOUN)\nI
 zvajalci: Luka Pajek\, Zala Uhan\nProstor: Računalnica Gozdarstvo G8
END:VEVENT
BEGIN:VEVENT
SUMMARY:Ergonomija (GG021)\, seminarji in laboratorijske vaje (S+LV)
DTSTART;TZID=Europe/Ljubljana:20251021T080000
DTEND;TZID=Europe/Ljubljana:20251021T100000
DTSTAMP:20260421T150941Z
UID:bf-AFLABS-URNIK:srecanje:24743-2025-10-21 08:00:00+02:00
DESCRIPTION:Predmet: Ergonomija (GG021)\, seminarji in laboratorijske vaje
  (S+LV)\nLetniki: Gozdarstvo in obnovljivi gozdni viri 3. letnik (GOUN)\nI
 zvajalci: Luka Pajek\, Zala Uhan\nProstor: Računalnica Gozdarstvo G8
END:VEVENT
BEGIN:VEVENT
SUMMARY:Ergonomija (GG021)\, seminarji in laboratorijske vaje (S+LV)
DTSTART;TZID=Europe/Ljubljana:20251028T080000
DTEND;TZID=Europe/Ljubljana:20251028T100000
DTSTAMP:20260421T150941Z
UID:bf-AFLABS-URNIK:srecanje:24743-2025-10-28 08:00:00+01:00
DESCRIPTION:Predmet: Ergonomija (GG021)\, seminarji in laboratorijske vaje
  (S+LV)\nLetniki: Gozdarstvo in obnovljivi gozdni viri 3. letnik (GOUN)\nI
 zvajalci: Luka Pajek\, Zala Uhan\nProstor: Računalnica Gozdarstvo G8
END:VEVENT
BEGIN:VEVENT
SUMMARY:Ergonomija (GG021)\, seminarji in laboratorijske vaje (S+LV)
DTSTART;TZID=Europe/Ljubljana:20251104T080000
DTEND;TZID=Europe/Ljubljana:20251104T100000
DTSTAMP:20260421T150941Z
UID:bf-AFLABS-URNIK:srecanje:24743-2025-11-04 08:00:00+01:00
DESCRIPTION:Predmet: Ergonomija (GG021)\, seminarji in laboratorijske vaje
  (S+LV)\nLetniki: Gozdarstvo in obnovljivi gozdni viri 3. letnik (GOUN)\nI
 zvajalci: Luka Pajek\, Zala Uhan\nProstor: Računalnica Gozdarstvo G8
END:VEVENT
BEGIN:VEVENT
SUMMARY:Ergonomija (GG021)\, seminarji in laboratorijske vaje (S+LV)
DTSTART;TZID=Europe/Ljubljana:20251111T080000
DTEND;TZID=Europe/Ljubljana:20251111T100000
DTSTAMP:20260421T150941Z
UID:bf-AFLABS-URNIK:srecanje:24743-2025-11-11 08:00:00+01:00
DESCRIPTION:Predmet: Ergonomija (GG021)\, seminarji in laboratorijske vaje
  (S+LV)\nLetniki: Gozdarstvo in obnovljivi gozdni viri 3. letnik (GOUN)\nI
 zvajalci: Luka Pajek\, Zala Uhan\nProstor: Računalnica Gozdarstvo G8
END:VEVENT
BEGIN:VEVENT
SUMMARY:Pridobivanje lesa (VS) (GO013)\, terensko delo (TD)
DTSTART;TZID=Europe/Ljubljana:20251009T080000
DTEND;TZID=Europe/Ljubljana:20251009T160000
DTSTAMP:20260421T150941Z
UID:bf-AFLABS-URNIK:srecanje:29328-2025-10-09 08:00:00+02:00
DESCRIPTION:Predmet: Pridobivanje lesa (VS) (GO013)\, terensko delo (TD)\n
 Letniki: Gozdarstvo 2. letnik (GOVS)\nIzvajalci: Luka Pajek\, Zala Uhan\nP
 rostor: Terensko delo - gozdarstvo
END:VEVENT
BEGIN:VEVENT
SUMMARY:Pridobivanje lesa (VS) (GO013)\, terensko delo (TD)
DTSTART;TZID=Europe/Ljubljana:20251010T080000
DTEND;TZID=Europe/Ljubljana:20251010T160000
DTSTAMP:20260421T150941Z
UID:bf-AFLABS-URNIK:srecanje:25319-2025-10-10 08:00:00+02:00
DESCRIPTION:Predmet: Pridobivanje lesa (VS) (GO013)\, terensko delo (TD)\n
 Letniki: Gozdarstvo 2. letnik (GOVS)\nIzvajalci: Luka Pajek\, Zala Uhan\nP
 rostor: Terensko delo - gozdarstvo
END:VEVENT
BEGIN:VEVENT
SUMMARY:Pridobivanje lesa (VS) (GO013)\, terensko delo (TD)
DTSTART;TZID=Europe/Ljubljana:20251016T080000
DTEND;TZID=Europe/Ljubljana:20251016T160000
DTSTAMP:20260421T150941Z
UID:bf-AFLABS-URNIK:srecanje:29329-2025-10-16 08:00:00+02:00
DESCRIPTION:Predmet: Pridobivanje lesa (VS) (GO013)\, terensko delo (TD)\n
 Letniki: Gozdarstvo 2. letnik (GOVS)\nIzvajalci: Luka Pajek\, Zala Uhan\nP
 rostor: Terensko delo - gozdarstvo
END:VEVENT
BEGIN:VEVENT
SUMMARY:Gozdne prometnice (UN) (GG023)\, terensko delo (TD)
DTSTART;TZID=Europe/Ljubljana:20251017T080000
DTEND;TZID=Europe/Ljubljana:20251017T150000
DTSTAMP:20260421T150941Z
UID:bf-AFLABS-URNIK:srecanje:24876-2025-10-17 08:00:00+02:00
DESCRIPTION:Predmet: Gozdne prometnice (UN) (GG023)\, terensko delo (TD)\n
 Letniki: Gozdarstvo in obnovljivi gozdni viri 3. letnik (GOUN)\nIzvajalci:
  Luka Pajek\, Anton Poje\, Zala Uhan\nProstor: Terensko delo - gozdarstvo
END:VEVENT
BEGIN:VEVENT
SUMMARY:Pridobivanje lesa (VS) (GO013)\, terensko delo (TD)
DTSTART;TZID=Europe/Ljubljana:20251023T080000
DTEND;TZID=Europe/Ljubljana:20251023T160000
DTSTAMP:20260421T150941Z
UID:bf-AFLABS-URNIK:srecanje:25313-2025-10-23 08:00:00+02:00
DESCRIPTION:Predmet: Pridobivanje lesa (VS) (GO013)\, terensko delo (TD)\n
 Letniki: Gozdarstvo 2. letnik (GOVS)\nIzvajalci: Luka Pajek\, Zala Uhan\nP
 rostor: Terensko delo - gozdarstvo
END:VEVENT
BEGIN:VEVENT
SUMMARY:Gozdni proizvodi (VS) (GO006)\, terensko delo (TD)
DTSTART;TZID=Europe/Ljubljana:20251024T080000
DTEND;TZID=Europe/Ljubljana:20251024T190000
DTSTAMP:20260421T150941Z
UID:bf-AFLABS-URNIK:srecanje:24910-2025-10-24 08:00:00+02:00
DESCRIPTION:Predmet: Gozdni proizvodi (VS) (GO006)\, terensko delo (TD)\nL
 etniki: Gozdarstvo 1. letnik (GOVS)\nIzvajalci: Luka Pajek\, Zala Uhan\nPr
 ostor: Terensko delo - gozdarstvo
END:VEVENT
BEGIN:VEVENT
SUMMARY:Gozdni proizvodi (VS) (GO006)\, terensko delo (TD)
DTSTART;TZID=Europe/Ljubljana:20251025T080000
DTEND;TZID=Europe/Ljubljana:20251025T160000
DTSTAMP:20260421T150941Z
UID:bf-AFLABS-URNIK:srecanje:24911-2025-10-25 08:00:00+02:00
DESCRIPTION:Predmet: Gozdni proizvodi (VS) (GO006)\, terensko delo (TD)\nL
 etniki: Gozdarstvo 1. letnik (GOVS)\nIzvajalci: Luka Pajek\, Anton Poje\nP
 rostor: Terensko delo - gozdarstvo
END:VEVENT
BEGIN:VEVENT
SUMMARY:Ergonomija (GG021)\, seminarji in laboratorijske vaje (S+LV)
DTSTART;TZID=Europe/Ljubljana:20251027T080000
DTEND;TZID=Europe/Ljubljana:20251027T110000
DTSTAMP:20260421T150941Z
UID:bf-AFLABS-URNIK:srecanje:29320-2025-10-27 08:00:00+01:00
DESCRIPTION:Predmet: Ergonomija (GG021)\, seminarji in laboratorijske vaje
  (S+LV)\nLetniki: Gozdarstvo in obnovljivi gozdni viri 3. letnik (GOUN)\nI
 zvajalci: Luka Pajek\, Zala Uhan\nProstor: Računalnica Gozdarstvo G8
END:VEVENT
BEGIN:VEVENT
SUMMARY:Ergonomija (GG021)\, seminarji in laboratorijske vaje (S+LV)
DTSTART;TZID=Europe/Ljubljana:20251103T080000
DTEND;TZID=Europe/Ljubljana:20251103T110000
DTSTAMP:20260421T150941Z
UID:bf-AFLABS-URNIK:srecanje:29320-2025-11-03 08:00:00+01:00
DESCRIPTION:Predmet: Ergonomija (GG021)\, seminarji in laboratorijske vaje
  (S+LV)\nLetniki: Gozdarstvo in obnovljivi gozdni viri 3. letnik (GOUN)\nI
 zvajalci: Luka Pajek\, Zala Uhan\nProstor: Računalnica Gozdarstvo G8
END:VEVENT
BEGIN:VEVENT
SUMMARY:Ergonomija (GG021)\, seminarji in laboratorijske vaje (S+LV)
DTSTART;TZID=Europe/Ljubljana:20251110T080000
DTEND;TZID=Europe/Ljubljana:20251110T110000
DTSTAMP:20260421T150941Z
UID:bf-AFLABS-URNIK:srecanje:29320-2025-11-10 08:00:00+01:00
DESCRIPTION:Predmet: Ergonomija (GG021)\, seminarji in laboratorijske vaje
  (S+LV)\nLetniki: Gozdarstvo in obnovljivi gozdni viri 3. letnik (GOUN)\nI
 zvajalci: Luka Pajek\, Zala Uhan\nProstor: Računalnica Gozdarstvo G8
END:VEVENT
BEGIN:VEVENT
SUMMARY:Pridobivanje lesa (VS) (GO013)\, terensko delo (TD)
DTSTART;TZID=Europe/Ljubljana:20251030T080000
DTEND;TZID=Europe/Ljubljana:20251030T160000
DTSTAMP:20260421T150941Z
UID:bf-AFLABS-URNIK:srecanje:29331-2025-10-30 08:00:00+01:00
DESCRIPTION:Predmet: Pridobivanje lesa (VS) (GO013)\, terensko delo (TD)\n
 Letniki: Gozdarstvo 2. letnik (GOVS)\nIzvajalci: Luka Pajek\, Zala Uhan\nP
 rostor: Terensko delo - gozdarstvo
END:VEVENT
BEGIN:VEVENT
SUMMARY:Pridobivanje lesa (VS) (GO013)\, terensko delo (TD)
DTSTART;TZID=Europe/Ljubljana:20251106T080000
DTEND;TZID=Europe/Ljubljana:20251106T160000
DTSTAMP:20260421T150941Z
UID:bf-AFLABS-URNIK:srecanje:25318-2025-11-06 08:00:00+01:00
DESCRIPTION:Predmet: Pridobivanje lesa (VS) (GO013)\, terensko delo (TD)\n
 Letniki: Gozdarstvo 2. letnik (GOVS)\nIzvajalci: Luka Pajek\, Zala Uhan\nP
 rostor: Terensko delo - gozdarstvo
END:VEVENT
BEGIN:VEVENT
SUMMARY:Gozdni proizvodi (VS) (GO006)\, terensko delo (TD)
DTSTART;TZID=Europe/Ljubljana:20251114T080000
DTEND;TZID=Europe/Ljubljana:20251114T150000
DTSTAMP:20260421T150941Z
UID:bf-AFLABS-URNIK:srecanje:24909-2025-11-14 08:00:00+01:00
DESCRIPTION:Predmet: Gozdni proizvodi (VS) (GO006)\, terensko delo (TD)\nL
 etniki: Gozdarstvo 1. letnik (GOVS)\nIzvajalci: Luka Pajek\, Zala Uhan\nPr
 ostor: Terensko delo - gozdarstvo
END:VEVENT
BEGIN:VEVENT
SUMMARY:Ergonomija - vaje
DTSTART;TZID=Europe/Ljubljana:20251001T100000
DTEND;TZID=Europe/Ljubljana:20251001T130000
DTSTAMP:20260421T150941Z
UID:bf-AFLABS-URNIK:rezervacija:23714
ATTENDEE:Gozdarstvo in obnovljivi gozdni viri 3. letnik (GOUN)
CATEGORIES:Reservation
COLOR:royalblue
DESCRIPTION:Predmeti: Ergonomija (GG021)\nLetniki: Gozdarstvo in obnovljiv
 i gozdni viri 3. letnik (GOUN)\nIzvajalci: Luka Pajek\, Anton Poje\, Zala 
 Uhan\nProstori: Računalnica Gozdarstvo G8
LOCATION:Oddelek za gozdarstvo in obnovljive gozdne vire\, Računalnica Go
 zdarstvo G8
ORGANIZER:Luka Pajek, Anton Poje, Zala Uhan
X-WR-TIMEZONE:Europe/Ljubljana
END:VEVENT
BEGIN:VEVENT
SUMMARY:Pridobivanje lesa- LV
DTSTART;TZID=Europe/Ljubljana:20251021T140000
DTEND;TZID=Europe/Ljubljana:20251021T170000
DTSTAMP:20260421T150941Z
UID:bf-AFLABS-URNIK:rezervacija:24391
ATTENDEE:Gozdarstvo 2. letnik (GOVS)
CATEGORIES:Reservation
COLOR:royalblue
DESCRIPTION:Predmeti: Pridobivanje lesa (VS) (GO013)\nLetniki: Gozdarstvo 
 2. letnik (GOVS)\nIzvajalci: Luka Pajek\, Anton Poje\nProstori: Predavalni
 ca Gozdarstvo G10\, čitalnica
LOCATION:Oddelek za gozdarstvo in obnovljive gozdne vire\, Predavalnica Go
 zdarstvo G10\, čitalnica
ORGANIZER:Luka Pajek, Anton Poje
X-WR-TIMEZONE:Europe/Ljubljana
END:VEVENT
BEGIN:VEVENT
SUMMARY:Pridobivanje lesa- LV
DTSTART;TZID=Europe/Ljubljana:20251028T140000
DTEND;TZID=Europe/Ljubljana:20251028T170000
DTSTAMP:20260421T150941Z
UID:bf-AFLABS-URNIK:rezervacija:24392
ATTENDEE:Gozdarstvo 2. letnik (GOVS)
CATEGORIES:Reservation
COLOR:royalblue
DESCRIPTION:Predmeti: Pridobivanje lesa (VS) (GO013)\nLetniki: Gozdarstvo 
 2. letnik (GOVS)\nIzvajalci: Luka Pajek\, Anton Poje\nProstori: Predavalni
 ca Gozdarstvo G10\, čitalnica
LOCATION:Oddelek za gozdarstvo in obnovljive gozdne vire\, Predavalnica Go
 zdarstvo G10\, čitalnica
ORGANIZER:Luka Pajek, Anton Poje
X-WR-TIMEZONE:Europe/Ljubljana
END:VEVENT
END:VCALENDAR
