BEGIN:VCALENDAR
VERSION:2.0
PRODID:-//AFLabs urnik izvoz - bf//aflabs.si//SI
NAME:UL BF Urnik
X-WR-CALNAME:UL BF Urnik
DTSTAMP:20260423T185038Z
REFRESH-INTERVAL:PT1H
SOURCE:https://urniki.bf.uni-lj.si/teacher/605/?day=2025-10-20&export=1
URL:https://urniki.bf.uni-lj.si/teacher/605/?day=2025-10-20&export=1
X-PUBLISHED-TTL:PT1H
X-WR-TIMEZONE:Europe/Ljubljana
BEGIN:VTIMEZONE
TZID:Europe/Ljubljana
BEGIN:DAYLIGHT
DTSTART:20260329T020000
RDATE:20260329T020000
RDATE:20270328T020000
TZNAME:CEST
TZOFFSETFROM:+0100
TZOFFSETTO:+0200
END:DAYLIGHT
BEGIN:STANDARD
DTSTART:20261025T030000
RDATE:20261025T030000
RDATE:20271031T030000
TZNAME:CET
TZOFFSETFROM:+0200
TZOFFSETTO:+0100
END:STANDARD
END:VTIMEZONE
BEGIN:VEVENT
SUMMARY:Projektno delo (BI050)\, drugo delo (DD)
DTSTART;TZID=Europe/Ljubljana:20251001T080000
DTEND;TZID=Europe/Ljubljana:20251001T160000
DTSTAMP:20260423T185038Z
UID:bf-AFLABS-URNIK:srecanje:25337-2025-10-01 08:00:00+02:00
DESCRIPTION:Predmet: Projektno delo (BI050)\, drugo delo (DD)\nLetniki: \n
 Izvajalci: Franc Kljun\nProstor: Biološka vajalnica BV5\, Ekološka vajal
 nica
END:VEVENT
BEGIN:VEVENT
SUMMARY:Projektno delo (BI050)\, drugo delo (DD)
DTSTART;TZID=Europe/Ljubljana:20251008T080000
DTEND;TZID=Europe/Ljubljana:20251008T160000
DTSTAMP:20260423T185038Z
UID:bf-AFLABS-URNIK:srecanje:25337-2025-10-08 08:00:00+02:00
DESCRIPTION:Predmet: Projektno delo (BI050)\, drugo delo (DD)\nLetniki: \n
 Izvajalci: Franc Kljun\nProstor: Biološka vajalnica BV5\, Ekološka vajal
 nica
END:VEVENT
BEGIN:VEVENT
SUMMARY:Projektno delo (BI050)\, drugo delo (DD)
DTSTART;TZID=Europe/Ljubljana:20251015T080000
DTEND;TZID=Europe/Ljubljana:20251015T160000
DTSTAMP:20260423T185038Z
UID:bf-AFLABS-URNIK:srecanje:25337-2025-10-15 08:00:00+02:00
DESCRIPTION:Predmet: Projektno delo (BI050)\, drugo delo (DD)\nLetniki: \n
 Izvajalci: Franc Kljun\nProstor: Biološka vajalnica BV5\, Ekološka vajal
 nica
END:VEVENT
BEGIN:VEVENT
SUMMARY:Projektno delo (BI050)\, drugo delo (DD)
DTSTART;TZID=Europe/Ljubljana:20251022T080000
DTEND;TZID=Europe/Ljubljana:20251022T160000
DTSTAMP:20260423T185038Z
UID:bf-AFLABS-URNIK:srecanje:25337-2025-10-22 08:00:00+02:00
DESCRIPTION:Predmet: Projektno delo (BI050)\, drugo delo (DD)\nLetniki: \n
 Izvajalci: Franc Kljun\nProstor: Biološka vajalnica BV5\, Ekološka vajal
 nica
END:VEVENT
BEGIN:VEVENT
SUMMARY:Projektno delo (BI050)\, drugo delo (DD)
DTSTART;TZID=Europe/Ljubljana:20251029T080000
DTEND;TZID=Europe/Ljubljana:20251029T160000
DTSTAMP:20260423T185038Z
UID:bf-AFLABS-URNIK:srecanje:25337-2025-10-29 08:00:00+01:00
DESCRIPTION:Predmet: Projektno delo (BI050)\, drugo delo (DD)\nLetniki: \n
 Izvajalci: Franc Kljun\nProstor: Biološka vajalnica BV5\, Ekološka vajal
 nica
END:VEVENT
BEGIN:VEVENT
SUMMARY:Projektno delo (BI050)\, drugo delo (DD)
DTSTART;TZID=Europe/Ljubljana:20251105T080000
DTEND;TZID=Europe/Ljubljana:20251105T160000
DTSTAMP:20260423T185038Z
UID:bf-AFLABS-URNIK:srecanje:25337-2025-11-05 08:00:00+01:00
DESCRIPTION:Predmet: Projektno delo (BI050)\, drugo delo (DD)\nLetniki: \n
 Izvajalci: Franc Kljun\nProstor: Biološka vajalnica BV5\, Ekološka vajal
 nica
END:VEVENT
BEGIN:VEVENT
SUMMARY:Projektno delo (BI050)\, drugo delo (DD)
DTSTART;TZID=Europe/Ljubljana:20251112T080000
DTEND;TZID=Europe/Ljubljana:20251112T160000
DTSTAMP:20260423T185038Z
UID:bf-AFLABS-URNIK:srecanje:25337-2025-11-12 08:00:00+01:00
DESCRIPTION:Predmet: Projektno delo (BI050)\, drugo delo (DD)\nLetniki: \n
 Izvajalci: Franc Kljun\nProstor: Biološka vajalnica BV5\, Ekološka vajal
 nica
END:VEVENT
BEGIN:VEVENT
SUMMARY:Projektno delo (BI050)\, drugo delo (DD)
DTSTART;TZID=Europe/Ljubljana:20251002T080000
DTEND;TZID=Europe/Ljubljana:20251002T160000
DTSTAMP:20260423T185038Z
UID:bf-AFLABS-URNIK:srecanje:25338-2025-10-02 08:00:00+02:00
DESCRIPTION:Predmet: Projektno delo (BI050)\, drugo delo (DD)\nLetniki: \n
 Izvajalci: Franc Kljun\nProstor: Biološka vajalnica BV5\, Ekološka vajal
 nica
END:VEVENT
BEGIN:VEVENT
SUMMARY:Projektno delo (BI050)\, drugo delo (DD)
DTSTART;TZID=Europe/Ljubljana:20251009T080000
DTEND;TZID=Europe/Ljubljana:20251009T160000
DTSTAMP:20260423T185038Z
UID:bf-AFLABS-URNIK:srecanje:25338-2025-10-09 08:00:00+02:00
DESCRIPTION:Predmet: Projektno delo (BI050)\, drugo delo (DD)\nLetniki: \n
 Izvajalci: Franc Kljun\nProstor: Biološka vajalnica BV5\, Ekološka vajal
 nica
END:VEVENT
BEGIN:VEVENT
SUMMARY:Projektno delo (BI050)\, drugo delo (DD)
DTSTART;TZID=Europe/Ljubljana:20251016T080000
DTEND;TZID=Europe/Ljubljana:20251016T160000
DTSTAMP:20260423T185038Z
UID:bf-AFLABS-URNIK:srecanje:25338-2025-10-16 08:00:00+02:00
DESCRIPTION:Predmet: Projektno delo (BI050)\, drugo delo (DD)\nLetniki: \n
 Izvajalci: Franc Kljun\nProstor: Biološka vajalnica BV5\, Ekološka vajal
 nica
END:VEVENT
BEGIN:VEVENT
SUMMARY:Projektno delo (BI050)\, drugo delo (DD)
DTSTART;TZID=Europe/Ljubljana:20251023T080000
DTEND;TZID=Europe/Ljubljana:20251023T160000
DTSTAMP:20260423T185038Z
UID:bf-AFLABS-URNIK:srecanje:25338-2025-10-23 08:00:00+02:00
DESCRIPTION:Predmet: Projektno delo (BI050)\, drugo delo (DD)\nLetniki: \n
 Izvajalci: Franc Kljun\nProstor: Biološka vajalnica BV5\, Ekološka vajal
 nica
END:VEVENT
BEGIN:VEVENT
SUMMARY:Projektno delo (BI050)\, drugo delo (DD)
DTSTART;TZID=Europe/Ljubljana:20251030T080000
DTEND;TZID=Europe/Ljubljana:20251030T160000
DTSTAMP:20260423T185038Z
UID:bf-AFLABS-URNIK:srecanje:25338-2025-10-30 08:00:00+01:00
DESCRIPTION:Predmet: Projektno delo (BI050)\, drugo delo (DD)\nLetniki: \n
 Izvajalci: Franc Kljun\nProstor: Biološka vajalnica BV5\, Ekološka vajal
 nica
END:VEVENT
BEGIN:VEVENT
SUMMARY:Projektno delo (BI050)\, drugo delo (DD)
DTSTART;TZID=Europe/Ljubljana:20251106T080000
DTEND;TZID=Europe/Ljubljana:20251106T160000
DTSTAMP:20260423T185038Z
UID:bf-AFLABS-URNIK:srecanje:25338-2025-11-06 08:00:00+01:00
DESCRIPTION:Predmet: Projektno delo (BI050)\, drugo delo (DD)\nLetniki: \n
 Izvajalci: Franc Kljun\nProstor: Biološka vajalnica BV5\, Ekološka vajal
 nica
END:VEVENT
BEGIN:VEVENT
SUMMARY:Projektno delo (BI050)\, drugo delo (DD)
DTSTART;TZID=Europe/Ljubljana:20251113T080000
DTEND;TZID=Europe/Ljubljana:20251113T160000
DTSTAMP:20260423T185038Z
UID:bf-AFLABS-URNIK:srecanje:25338-2025-11-13 08:00:00+01:00
DESCRIPTION:Predmet: Projektno delo (BI050)\, drugo delo (DD)\nLetniki: \n
 Izvajalci: Franc Kljun\nProstor: Biološka vajalnica BV5\, Ekološka vajal
 nica
END:VEVENT
BEGIN:VEVENT
SUMMARY:Projektno delo (BI050)\, drugo delo (DD)
DTSTART;TZID=Europe/Ljubljana:20251003T080000
DTEND;TZID=Europe/Ljubljana:20251003T100000
DTSTAMP:20260423T185038Z
UID:bf-AFLABS-URNIK:srecanje:25339-2025-10-03 08:00:00+02:00
DESCRIPTION:Predmet: Projektno delo (BI050)\, drugo delo (DD)\nLetniki: \n
 Izvajalci: Franc Kljun\nProstor: Biološka vajalnica BV5\, Ekološka vajal
 nica
END:VEVENT
BEGIN:VEVENT
SUMMARY:Projektno delo (BI050)\, drugo delo (DD)
DTSTART;TZID=Europe/Ljubljana:20251010T080000
DTEND;TZID=Europe/Ljubljana:20251010T100000
DTSTAMP:20260423T185038Z
UID:bf-AFLABS-URNIK:srecanje:25339-2025-10-10 08:00:00+02:00
DESCRIPTION:Predmet: Projektno delo (BI050)\, drugo delo (DD)\nLetniki: \n
 Izvajalci: Franc Kljun\nProstor: Biološka vajalnica BV5\, Ekološka vajal
 nica
END:VEVENT
BEGIN:VEVENT
SUMMARY:Projektno delo (BI050)\, drugo delo (DD)
DTSTART;TZID=Europe/Ljubljana:20251017T080000
DTEND;TZID=Europe/Ljubljana:20251017T100000
DTSTAMP:20260423T185038Z
UID:bf-AFLABS-URNIK:srecanje:25339-2025-10-17 08:00:00+02:00
DESCRIPTION:Predmet: Projektno delo (BI050)\, drugo delo (DD)\nLetniki: \n
 Izvajalci: Franc Kljun\nProstor: Biološka vajalnica BV5\, Ekološka vajal
 nica
END:VEVENT
BEGIN:VEVENT
SUMMARY:Projektno delo (BI050)\, drugo delo (DD)
DTSTART;TZID=Europe/Ljubljana:20251024T080000
DTEND;TZID=Europe/Ljubljana:20251024T100000
DTSTAMP:20260423T185038Z
UID:bf-AFLABS-URNIK:srecanje:25339-2025-10-24 08:00:00+02:00
DESCRIPTION:Predmet: Projektno delo (BI050)\, drugo delo (DD)\nLetniki: \n
 Izvajalci: Franc Kljun\nProstor: Biološka vajalnica BV5\, Ekološka vajal
 nica
END:VEVENT
BEGIN:VEVENT
SUMMARY:Projektno delo (BI050)\, drugo delo (DD)
DTSTART;TZID=Europe/Ljubljana:20251031T080000
DTEND;TZID=Europe/Ljubljana:20251031T100000
DTSTAMP:20260423T185038Z
UID:bf-AFLABS-URNIK:srecanje:25339-2025-10-31 08:00:00+01:00
DESCRIPTION:Predmet: Projektno delo (BI050)\, drugo delo (DD)\nLetniki: \n
 Izvajalci: Franc Kljun\nProstor: Biološka vajalnica BV5\, Ekološka vajal
 nica
END:VEVENT
BEGIN:VEVENT
SUMMARY:Projektno delo (BI050)\, drugo delo (DD)
DTSTART;TZID=Europe/Ljubljana:20251107T080000
DTEND;TZID=Europe/Ljubljana:20251107T100000
DTSTAMP:20260423T185038Z
UID:bf-AFLABS-URNIK:srecanje:25339-2025-11-07 08:00:00+01:00
DESCRIPTION:Predmet: Projektno delo (BI050)\, drugo delo (DD)\nLetniki: \n
 Izvajalci: Franc Kljun\nProstor: Biološka vajalnica BV5\, Ekološka vajal
 nica
END:VEVENT
BEGIN:VEVENT
SUMMARY:Projektno delo (BI050)\, drugo delo (DD)
DTSTART;TZID=Europe/Ljubljana:20251114T080000
DTEND;TZID=Europe/Ljubljana:20251114T100000
DTSTAMP:20260423T185038Z
UID:bf-AFLABS-URNIK:srecanje:25339-2025-11-14 08:00:00+01:00
DESCRIPTION:Predmet: Projektno delo (BI050)\, drugo delo (DD)\nLetniki: \n
 Izvajalci: Franc Kljun\nProstor: Biološka vajalnica BV5\, Ekološka vajal
 nica
END:VEVENT
BEGIN:VEVENT
SUMMARY:Projektno delo (BI050)\, drugo delo (DD)
DTSTART;TZID=Europe/Ljubljana:20251007T100000
DTEND;TZID=Europe/Ljubljana:20251007T120000
DTSTAMP:20260423T185038Z
UID:bf-AFLABS-URNIK:srecanje:25336-2025-10-07 10:00:00+02:00
DESCRIPTION:Predmet: Projektno delo (BI050)\, drugo delo (DD)\nLetniki: \n
 Izvajalci: Franc Kljun\nProstor: Biološka vajalnica BV5\, Ekološka vajal
 nica
END:VEVENT
BEGIN:VEVENT
SUMMARY:Projektno delo (BI050)\, drugo delo (DD)
DTSTART;TZID=Europe/Ljubljana:20251014T100000
DTEND;TZID=Europe/Ljubljana:20251014T120000
DTSTAMP:20260423T185038Z
UID:bf-AFLABS-URNIK:srecanje:25336-2025-10-14 10:00:00+02:00
DESCRIPTION:Predmet: Projektno delo (BI050)\, drugo delo (DD)\nLetniki: \n
 Izvajalci: Franc Kljun\nProstor: Biološka vajalnica BV5\, Ekološka vajal
 nica
END:VEVENT
BEGIN:VEVENT
SUMMARY:Projektno delo (BI050)\, drugo delo (DD)
DTSTART;TZID=Europe/Ljubljana:20251021T100000
DTEND;TZID=Europe/Ljubljana:20251021T120000
DTSTAMP:20260423T185038Z
UID:bf-AFLABS-URNIK:srecanje:25336-2025-10-21 10:00:00+02:00
DESCRIPTION:Predmet: Projektno delo (BI050)\, drugo delo (DD)\nLetniki: \n
 Izvajalci: Franc Kljun\nProstor: Biološka vajalnica BV5\, Ekološka vajal
 nica
END:VEVENT
BEGIN:VEVENT
SUMMARY:Projektno delo (BI050)\, drugo delo (DD)
DTSTART;TZID=Europe/Ljubljana:20251028T100000
DTEND;TZID=Europe/Ljubljana:20251028T120000
DTSTAMP:20260423T185038Z
UID:bf-AFLABS-URNIK:srecanje:25336-2025-10-28 10:00:00+01:00
DESCRIPTION:Predmet: Projektno delo (BI050)\, drugo delo (DD)\nLetniki: \n
 Izvajalci: Franc Kljun\nProstor: Biološka vajalnica BV5\, Ekološka vajal
 nica
END:VEVENT
BEGIN:VEVENT
SUMMARY:Projektno delo (BI050)\, drugo delo (DD)
DTSTART;TZID=Europe/Ljubljana:20251104T100000
DTEND;TZID=Europe/Ljubljana:20251104T120000
DTSTAMP:20260423T185038Z
UID:bf-AFLABS-URNIK:srecanje:25336-2025-11-04 10:00:00+01:00
DESCRIPTION:Predmet: Projektno delo (BI050)\, drugo delo (DD)\nLetniki: \n
 Izvajalci: Franc Kljun\nProstor: Biološka vajalnica BV5\, Ekološka vajal
 nica
END:VEVENT
BEGIN:VEVENT
SUMMARY:Projektno delo (BI050)\, drugo delo (DD)
DTSTART;TZID=Europe/Ljubljana:20251111T100000
DTEND;TZID=Europe/Ljubljana:20251111T120000
DTSTAMP:20260423T185038Z
UID:bf-AFLABS-URNIK:srecanje:25336-2025-11-11 10:00:00+01:00
DESCRIPTION:Predmet: Projektno delo (BI050)\, drugo delo (DD)\nLetniki: \n
 Izvajalci: Franc Kljun\nProstor: Biološka vajalnica BV5\, Ekološka vajal
 nica
END:VEVENT
END:VCALENDAR
