BEGIN:VCALENDAR
VERSION:2.0
PRODID:-//AFLabs urnik izvoz - bf//aflabs.si//SI
NAME:UL BF Urnik
X-WR-CALNAME:UL BF Urnik
DTSTAMP:20260420T003544Z
REFRESH-INTERVAL:PT1H
SOURCE:https://urniki.bf.uni-lj.si/teacher/58/?day=2025-10-20&export=1
URL:https://urniki.bf.uni-lj.si/teacher/58/?day=2025-10-20&export=1
X-PUBLISHED-TTL:PT1H
X-WR-TIMEZONE:Europe/Ljubljana
BEGIN:VTIMEZONE
TZID:Europe/Ljubljana
BEGIN:DAYLIGHT
DTSTART:20260329T020000
RDATE:20260329T020000
RDATE:20270328T020000
TZNAME:CEST
TZOFFSETFROM:+0100
TZOFFSETTO:+0200
END:DAYLIGHT
BEGIN:STANDARD
DTSTART:20261025T030000
RDATE:20261025T030000
RDATE:20271031T030000
TZNAME:CET
TZOFFSETFROM:+0200
TZOFFSETTO:+0100
END:STANDARD
END:VTIMEZONE
BEGIN:VEVENT
SUMMARY:Kemija lesa (LE037)\, predavanja (P)
DTSTART;TZID=Europe/Ljubljana:20251002T080000
DTEND;TZID=Europe/Ljubljana:20251002T110000
DTSTAMP:20260420T003544Z
UID:bf-AFLABS-URNIK:srecanje:24980-2025-10-02 08:00:00+02:00
DESCRIPTION:Predmet: Kemija lesa (LE037)\, predavanja (P)\nLetniki: Lesars
 tvo 1. letnik (LEUN)\nIzvajalci: Primož Oven\, Ida Poljanšek\nProstor: P
 redavalnica Lesarstvo L1
END:VEVENT
BEGIN:VEVENT
SUMMARY:Kemija lesa (LE037)\, predavanja (P)
DTSTART;TZID=Europe/Ljubljana:20251009T080000
DTEND;TZID=Europe/Ljubljana:20251009T110000
DTSTAMP:20260420T003544Z
UID:bf-AFLABS-URNIK:srecanje:24980-2025-10-09 08:00:00+02:00
DESCRIPTION:Predmet: Kemija lesa (LE037)\, predavanja (P)\nLetniki: Lesars
 tvo 1. letnik (LEUN)\nIzvajalci: Primož Oven\, Ida Poljanšek\nProstor: P
 redavalnica Lesarstvo L1
END:VEVENT
BEGIN:VEVENT
SUMMARY:Kemija lesa (LE037)\, predavanja (P)
DTSTART;TZID=Europe/Ljubljana:20251016T080000
DTEND;TZID=Europe/Ljubljana:20251016T110000
DTSTAMP:20260420T003544Z
UID:bf-AFLABS-URNIK:srecanje:24980-2025-10-16 08:00:00+02:00
DESCRIPTION:Predmet: Kemija lesa (LE037)\, predavanja (P)\nLetniki: Lesars
 tvo 1. letnik (LEUN)\nIzvajalci: Primož Oven\, Ida Poljanšek\nProstor: P
 redavalnica Lesarstvo L1
END:VEVENT
BEGIN:VEVENT
SUMMARY:Kemija lesa (LE037)\, predavanja (P)
DTSTART;TZID=Europe/Ljubljana:20251023T080000
DTEND;TZID=Europe/Ljubljana:20251023T110000
DTSTAMP:20260420T003544Z
UID:bf-AFLABS-URNIK:srecanje:24980-2025-10-23 08:00:00+02:00
DESCRIPTION:Predmet: Kemija lesa (LE037)\, predavanja (P)\nLetniki: Lesars
 tvo 1. letnik (LEUN)\nIzvajalci: Primož Oven\, Ida Poljanšek\nProstor: P
 redavalnica Lesarstvo L1
END:VEVENT
BEGIN:VEVENT
SUMMARY:Kemija lesa (LE037)\, predavanja (P)
DTSTART;TZID=Europe/Ljubljana:20251030T080000
DTEND;TZID=Europe/Ljubljana:20251030T110000
DTSTAMP:20260420T003544Z
UID:bf-AFLABS-URNIK:srecanje:24980-2025-10-30 08:00:00+01:00
DESCRIPTION:Predmet: Kemija lesa (LE037)\, predavanja (P)\nLetniki: Lesars
 tvo 1. letnik (LEUN)\nIzvajalci: Primož Oven\, Ida Poljanšek\nProstor: P
 redavalnica Lesarstvo L1
END:VEVENT
BEGIN:VEVENT
SUMMARY:Kemija lesa (LE037)\, predavanja (P)
DTSTART;TZID=Europe/Ljubljana:20251106T080000
DTEND;TZID=Europe/Ljubljana:20251106T110000
DTSTAMP:20260420T003544Z
UID:bf-AFLABS-URNIK:srecanje:24980-2025-11-06 08:00:00+01:00
DESCRIPTION:Predmet: Kemija lesa (LE037)\, predavanja (P)\nLetniki: Lesars
 tvo 1. letnik (LEUN)\nIzvajalci: Primož Oven\, Ida Poljanšek\nProstor: P
 redavalnica Lesarstvo L1
END:VEVENT
BEGIN:VEVENT
SUMMARY:Kemija lesa (LE037)\, predavanja (P)
DTSTART;TZID=Europe/Ljubljana:20251113T080000
DTEND;TZID=Europe/Ljubljana:20251113T110000
DTSTAMP:20260420T003544Z
UID:bf-AFLABS-URNIK:srecanje:24980-2025-11-13 08:00:00+01:00
DESCRIPTION:Predmet: Kemija lesa (LE037)\, predavanja (P)\nLetniki: Lesars
 tvo 1. letnik (LEUN)\nIzvajalci: Primož Oven\, Ida Poljanšek\nProstor: P
 redavalnica Lesarstvo L1
END:VEVENT
BEGIN:VEVENT
SUMMARY:Tehnologija gradiv I ALUO (TG1-ALUO)\, predavanja (P)
DTSTART;TZID=Europe/Ljubljana:20251006T151500
DTEND;TZID=Europe/Ljubljana:20251006T181500
DTSTAMP:20260420T003544Z
UID:bf-AFLABS-URNIK:srecanje:25477-2025-10-06 15:15:00+02:00
DESCRIPTION:Predmet: Tehnologija gradiv I ALUO (TG1-ALUO)\, predavanja (P)
 \nLetniki: Industrijsko in unikatno oblikovanje 1. letnik (ALUO-IUO)\nIzva
 jalci: Miran Gaberšček\, Primož Oven\, Ida Poljanšek\nProstor: Predava
 lnica Lesarstvo L3
END:VEVENT
BEGIN:VEVENT
SUMMARY:Tehnologija gradiv I ALUO (TG1-ALUO)\, predavanja (P)
DTSTART;TZID=Europe/Ljubljana:20251013T151500
DTEND;TZID=Europe/Ljubljana:20251013T181500
DTSTAMP:20260420T003544Z
UID:bf-AFLABS-URNIK:srecanje:25477-2025-10-13 15:15:00+02:00
DESCRIPTION:Predmet: Tehnologija gradiv I ALUO (TG1-ALUO)\, predavanja (P)
 \nLetniki: Industrijsko in unikatno oblikovanje 1. letnik (ALUO-IUO)\nIzva
 jalci: Miran Gaberšček\, Primož Oven\, Ida Poljanšek\nProstor: Predava
 lnica Lesarstvo L3
END:VEVENT
BEGIN:VEVENT
SUMMARY:Tehnologija gradiv I ALUO (TG1-ALUO)\, predavanja (P)
DTSTART;TZID=Europe/Ljubljana:20251020T151500
DTEND;TZID=Europe/Ljubljana:20251020T181500
DTSTAMP:20260420T003544Z
UID:bf-AFLABS-URNIK:srecanje:25477-2025-10-20 15:15:00+02:00
DESCRIPTION:Predmet: Tehnologija gradiv I ALUO (TG1-ALUO)\, predavanja (P)
 \nLetniki: Industrijsko in unikatno oblikovanje 1. letnik (ALUO-IUO)\nIzva
 jalci: Miran Gaberšček\, Primož Oven\, Ida Poljanšek\nProstor: Predava
 lnica Lesarstvo L3
END:VEVENT
BEGIN:VEVENT
SUMMARY:Tehnologija gradiv I ALUO (TG1-ALUO)\, predavanja (P)
DTSTART;TZID=Europe/Ljubljana:20251027T151500
DTEND;TZID=Europe/Ljubljana:20251027T181500
DTSTAMP:20260420T003544Z
UID:bf-AFLABS-URNIK:srecanje:25477-2025-10-27 15:15:00+01:00
DESCRIPTION:Predmet: Tehnologija gradiv I ALUO (TG1-ALUO)\, predavanja (P)
 \nLetniki: Industrijsko in unikatno oblikovanje 1. letnik (ALUO-IUO)\nIzva
 jalci: Miran Gaberšček\, Primož Oven\, Ida Poljanšek\nProstor: Predava
 lnica Lesarstvo L3
END:VEVENT
BEGIN:VEVENT
SUMMARY:Tehnologija gradiv I ALUO (TG1-ALUO)\, predavanja (P)
DTSTART;TZID=Europe/Ljubljana:20251103T151500
DTEND;TZID=Europe/Ljubljana:20251103T181500
DTSTAMP:20260420T003544Z
UID:bf-AFLABS-URNIK:srecanje:25477-2025-11-03 15:15:00+01:00
DESCRIPTION:Predmet: Tehnologija gradiv I ALUO (TG1-ALUO)\, predavanja (P)
 \nLetniki: Industrijsko in unikatno oblikovanje 1. letnik (ALUO-IUO)\nIzva
 jalci: Miran Gaberšček\, Primož Oven\, Ida Poljanšek\nProstor: Predava
 lnica Lesarstvo L3
END:VEVENT
BEGIN:VEVENT
SUMMARY:Tehnologija gradiv I ALUO (TG1-ALUO)\, predavanja (P)
DTSTART;TZID=Europe/Ljubljana:20251110T151500
DTEND;TZID=Europe/Ljubljana:20251110T181500
DTSTAMP:20260420T003544Z
UID:bf-AFLABS-URNIK:srecanje:25477-2025-11-10 15:15:00+01:00
DESCRIPTION:Predmet: Tehnologija gradiv I ALUO (TG1-ALUO)\, predavanja (P)
 \nLetniki: Industrijsko in unikatno oblikovanje 1. letnik (ALUO-IUO)\nIzva
 jalci: Miran Gaberšček\, Primož Oven\, Ida Poljanšek\nProstor: Predava
 lnica Lesarstvo L3
END:VEVENT
BEGIN:VEVENT
SUMMARY:Kemija lesa (LE037)\, predavanja (P)
DTSTART;TZID=Europe/Ljubljana:20251008T100000
DTEND;TZID=Europe/Ljubljana:20251008T120000
DTSTAMP:20260420T003544Z
UID:bf-AFLABS-URNIK:srecanje:24979-2025-10-08 10:00:00+02:00
DESCRIPTION:Predmet: Kemija lesa (LE037)\, predavanja (P)\nLetniki: Lesars
 tvo 1. letnik (LEUN)\nIzvajalci: Primož Oven\, Ida Poljanšek\nProstor: P
 redavalnica Lesarstvo L1
END:VEVENT
BEGIN:VEVENT
SUMMARY:Kemija lesa (LE037)\, predavanja (P)
DTSTART;TZID=Europe/Ljubljana:20251015T100000
DTEND;TZID=Europe/Ljubljana:20251015T120000
DTSTAMP:20260420T003544Z
UID:bf-AFLABS-URNIK:srecanje:24979-2025-10-15 10:00:00+02:00
DESCRIPTION:Predmet: Kemija lesa (LE037)\, predavanja (P)\nLetniki: Lesars
 tvo 1. letnik (LEUN)\nIzvajalci: Primož Oven\, Ida Poljanšek\nProstor: P
 redavalnica Lesarstvo L1
END:VEVENT
BEGIN:VEVENT
SUMMARY:Kemija lesa (LE037)\, predavanja (P)
DTSTART;TZID=Europe/Ljubljana:20251022T100000
DTEND;TZID=Europe/Ljubljana:20251022T120000
DTSTAMP:20260420T003544Z
UID:bf-AFLABS-URNIK:srecanje:24979-2025-10-22 10:00:00+02:00
DESCRIPTION:Predmet: Kemija lesa (LE037)\, predavanja (P)\nLetniki: Lesars
 tvo 1. letnik (LEUN)\nIzvajalci: Primož Oven\, Ida Poljanšek\nProstor: P
 redavalnica Lesarstvo L1
END:VEVENT
BEGIN:VEVENT
SUMMARY:Kemija lesa (LE037)\, predavanja (P)
DTSTART;TZID=Europe/Ljubljana:20251029T100000
DTEND;TZID=Europe/Ljubljana:20251029T120000
DTSTAMP:20260420T003544Z
UID:bf-AFLABS-URNIK:srecanje:24979-2025-10-29 10:00:00+01:00
DESCRIPTION:Predmet: Kemija lesa (LE037)\, predavanja (P)\nLetniki: Lesars
 tvo 1. letnik (LEUN)\nIzvajalci: Primož Oven\, Ida Poljanšek\nProstor: P
 redavalnica Lesarstvo L1
END:VEVENT
BEGIN:VEVENT
SUMMARY:Kemija lesa (LE037)\, predavanja (P)
DTSTART;TZID=Europe/Ljubljana:20251105T100000
DTEND;TZID=Europe/Ljubljana:20251105T120000
DTSTAMP:20260420T003544Z
UID:bf-AFLABS-URNIK:srecanje:24979-2025-11-05 10:00:00+01:00
DESCRIPTION:Predmet: Kemija lesa (LE037)\, predavanja (P)\nLetniki: Lesars
 tvo 1. letnik (LEUN)\nIzvajalci: Primož Oven\, Ida Poljanšek\nProstor: P
 redavalnica Lesarstvo L1
END:VEVENT
BEGIN:VEVENT
SUMMARY:Kemija lesa (LE037)\, predavanja (P)
DTSTART;TZID=Europe/Ljubljana:20251112T100000
DTEND;TZID=Europe/Ljubljana:20251112T120000
DTSTAMP:20260420T003544Z
UID:bf-AFLABS-URNIK:srecanje:24979-2025-11-12 10:00:00+01:00
DESCRIPTION:Predmet: Kemija lesa (LE037)\, predavanja (P)\nLetniki: Lesars
 tvo 1. letnik (LEUN)\nIzvajalci: Primož Oven\, Ida Poljanšek\nProstor: P
 redavalnica Lesarstvo L1
END:VEVENT
BEGIN:VEVENT
SUMMARY:Osnove arboristike GO (GO210b)\, predavanja (P)
DTSTART;TZID=Europe/Ljubljana:20251008T140000
DTEND;TZID=Europe/Ljubljana:20251008T170000
DTSTAMP:20260420T003544Z
UID:bf-AFLABS-URNIK:srecanje:25219-2025-10-08 14:00:00+02:00
DESCRIPTION:Predmet: Osnove arboristike GO (GO210b)\, predavanja (P)\nLetn
 iki: Gozdarstvo in upravljanje gozdnih ekosistemov 1. letnik (MGO)\nIzvaja
 lci: Primož Oven\nProstor: Predavalnica Gozdarstvo G5
END:VEVENT
BEGIN:VEVENT
SUMMARY:Osnove arboristike GO (GO210b)\, predavanja (P)
DTSTART;TZID=Europe/Ljubljana:20251015T140000
DTEND;TZID=Europe/Ljubljana:20251015T170000
DTSTAMP:20260420T003544Z
UID:bf-AFLABS-URNIK:srecanje:25219-2025-10-15 14:00:00+02:00
DESCRIPTION:Predmet: Osnove arboristike GO (GO210b)\, predavanja (P)\nLetn
 iki: Gozdarstvo in upravljanje gozdnih ekosistemov 1. letnik (MGO)\nIzvaja
 lci: Primož Oven\nProstor: Predavalnica Gozdarstvo G5
END:VEVENT
BEGIN:VEVENT
SUMMARY:Osnove arboristike GO (GO210b)\, predavanja (P)
DTSTART;TZID=Europe/Ljubljana:20251022T140000
DTEND;TZID=Europe/Ljubljana:20251022T170000
DTSTAMP:20260420T003544Z
UID:bf-AFLABS-URNIK:srecanje:25219-2025-10-22 14:00:00+02:00
DESCRIPTION:Predmet: Osnove arboristike GO (GO210b)\, predavanja (P)\nLetn
 iki: Gozdarstvo in upravljanje gozdnih ekosistemov 1. letnik (MGO)\nIzvaja
 lci: Primož Oven\nProstor: Predavalnica Gozdarstvo G5
END:VEVENT
BEGIN:VEVENT
SUMMARY:Osnove arboristike GO (GO210b)\, predavanja (P)
DTSTART;TZID=Europe/Ljubljana:20251029T140000
DTEND;TZID=Europe/Ljubljana:20251029T170000
DTSTAMP:20260420T003544Z
UID:bf-AFLABS-URNIK:srecanje:25219-2025-10-29 14:00:00+01:00
DESCRIPTION:Predmet: Osnove arboristike GO (GO210b)\, predavanja (P)\nLetn
 iki: Gozdarstvo in upravljanje gozdnih ekosistemov 1. letnik (MGO)\nIzvaja
 lci: Primož Oven\nProstor: Predavalnica Gozdarstvo G5
END:VEVENT
BEGIN:VEVENT
SUMMARY:Osnove arboristike GO (GO210b)\, predavanja (P)
DTSTART;TZID=Europe/Ljubljana:20251105T140000
DTEND;TZID=Europe/Ljubljana:20251105T170000
DTSTAMP:20260420T003544Z
UID:bf-AFLABS-URNIK:srecanje:25219-2025-11-05 14:00:00+01:00
DESCRIPTION:Predmet: Osnove arboristike GO (GO210b)\, predavanja (P)\nLetn
 iki: Gozdarstvo in upravljanje gozdnih ekosistemov 1. letnik (MGO)\nIzvaja
 lci: Primož Oven\nProstor: Predavalnica Gozdarstvo G5
END:VEVENT
BEGIN:VEVENT
SUMMARY:Osnove arboristike GO (GO210b)\, predavanja (P)
DTSTART;TZID=Europe/Ljubljana:20251112T140000
DTEND;TZID=Europe/Ljubljana:20251112T170000
DTSTAMP:20260420T003544Z
UID:bf-AFLABS-URNIK:srecanje:25219-2025-11-12 14:00:00+01:00
DESCRIPTION:Predmet: Osnove arboristike GO (GO210b)\, predavanja (P)\nLetn
 iki: Gozdarstvo in upravljanje gozdnih ekosistemov 1. letnik (MGO)\nIzvaja
 lci: Primož Oven\nProstor: Predavalnica Gozdarstvo G5
END:VEVENT
BEGIN:VEVENT
SUMMARY:Osnove arboristike GO (GO210b)\, seminarske vaje (SV)
DTSTART;TZID=Europe/Ljubljana:20251010T080000
DTEND;TZID=Europe/Ljubljana:20251010T103000
DTSTAMP:20260420T003544Z
UID:bf-AFLABS-URNIK:premaknjeno-srecanje:162433
ATTENDEE:Gozdarstvo in upravljanje gozdnih ekosistemov 1. letnik (MGO)
CATEGORIES:Entry,Special
COLOR:forestgreen
DESCRIPTION:Predmet: Osnove arboristike GO (GO210b)\, seminarske vaje (SV)
 \nLetniki: Gozdarstvo in upravljanje gozdnih ekosistemov 1. letnik (MGO)\n
 Izvajalci: Primož Oven\nProstor: Predavalnica Gozdarstvo G9
LOCATION:Oddelek za gozdarstvo in obnovljive gozdne vire\, Predavalnica Go
 zdarstvo G9
ORGANIZER:Primož Oven
RELATED-TO:bf-AFLABS-URNIK:srecanje:25220
X-WR-TIMEZONE:Europe/Ljubljana
END:VEVENT
BEGIN:VEVENT
SUMMARY:Osnove arboristike GO (GO210b)\, seminarske vaje (SV)
DTSTART;TZID=Europe/Ljubljana:20251024T110000
DTEND;TZID=Europe/Ljubljana:20251024T133000
DTSTAMP:20260420T003544Z
UID:bf-AFLABS-URNIK:srecanje:25220-2025-10-24 11:00:00+02:00
DESCRIPTION:Predmet: Osnove arboristike GO (GO210b)\, seminarske vaje (SV)
 \nLetniki: Gozdarstvo in upravljanje gozdnih ekosistemov 1. letnik (MGO)\n
 Izvajalci: Primož Oven\nProstor: Predavalnica Gozdarstvo G9
END:VEVENT
BEGIN:VEVENT
SUMMARY:Osnove arboristike GO (GO210b)\, seminarske vaje (SV)
DTSTART;TZID=Europe/Ljubljana:20251107T110000
DTEND;TZID=Europe/Ljubljana:20251107T133000
DTSTAMP:20260420T003544Z
UID:bf-AFLABS-URNIK:srecanje:25220-2025-11-07 11:00:00+01:00
DESCRIPTION:Predmet: Osnove arboristike GO (GO210b)\, seminarske vaje (SV)
 \nLetniki: Gozdarstvo in upravljanje gozdnih ekosistemov 1. letnik (MGO)\n
 Izvajalci: Primož Oven\nProstor: Predavalnica Gozdarstvo G9
END:VEVENT
BEGIN:VEVENT
SUMMARY:Osnove arboristike GO (GO210b)\, seminarske vaje (SV)
DTSTART;TZID=Europe/Ljubljana:20251114T110000
DTEND;TZID=Europe/Ljubljana:20251114T133000
DTSTAMP:20260420T003544Z
UID:bf-AFLABS-URNIK:srecanje:25220-2025-11-14 11:00:00+01:00
DESCRIPTION:Predmet: Osnove arboristike GO (GO210b)\, seminarske vaje (SV)
 \nLetniki: Gozdarstvo in upravljanje gozdnih ekosistemov 1. letnik (MGO)\n
 Izvajalci: Primož Oven\nProstor: Predavalnica Gozdarstvo G9
END:VEVENT
BEGIN:VEVENT
SUMMARY:Osnove arboristike GO (GO210b)\, terensko delo (TD)
DTSTART;TZID=Europe/Ljubljana:20251010T103000
DTEND;TZID=Europe/Ljubljana:20251010T150000
DTSTAMP:20260420T003544Z
UID:bf-AFLABS-URNIK:premaknjeno-srecanje:162437
ATTENDEE:Gozdarstvo in upravljanje gozdnih ekosistemov 1. letnik (MGO)
CATEGORIES:Entry,Special
COLOR:forestgreen
DESCRIPTION:Predmet: Osnove arboristike GO (GO210b)\, terensko delo (TD)\n
 Letniki: Gozdarstvo in upravljanje gozdnih ekosistemov 1. letnik (MGO)\nIz
 vajalci: Primož Oven\nProstor: Terensko delo - gozdarstvo
LOCATION:Oddelek za gozdarstvo in obnovljive gozdne vire\, Terensko delo -
  gozdarstvo
ORGANIZER:Primož Oven
RELATED-TO:bf-AFLABS-URNIK:srecanje:25221
X-WR-TIMEZONE:Europe/Ljubljana
END:VEVENT
BEGIN:VEVENT
SUMMARY:Kemija lesa (LE037)\, predavanja (P)
DTSTART;TZID=Europe/Ljubljana:20251124T110000
DTEND;TZID=Europe/Ljubljana:20251124T140000
DTSTAMP:20260420T003544Z
UID:bf-AFLABS-URNIK:srecanje:26110-2025-11-24 11:00:00+01:00
DESCRIPTION:Predmet: Kemija lesa (LE037)\, predavanja (P)\nLetniki: Lesars
 tvo 1. letnik (LEUN)\nIzvajalci: Primož Oven\, Ida Poljanšek\nProstor: P
 redavalnica Lesarstvo L1
END:VEVENT
BEGIN:VEVENT
SUMMARY:Tehnologija gradiv I ALUO (TG1-ALUO)\, predavanja (P)
DTSTART;TZID=Europe/Ljubljana:20251124T151500
DTEND;TZID=Europe/Ljubljana:20251124T181500
DTSTAMP:20260420T003544Z
UID:bf-AFLABS-URNIK:srecanje:26611-2025-11-24 15:15:00+01:00
DESCRIPTION:Predmet: Tehnologija gradiv I ALUO (TG1-ALUO)\, predavanja (P)
 \nLetniki: Industrijsko in unikatno oblikovanje 1. letnik (ALUO-IUO)\nIzva
 jalci: Primož Oven\, Ida Poljanšek\nProstor: Predavalnica Lesarstvo L3
END:VEVENT
BEGIN:VEVENT
SUMMARY:Erasmus Oven
DTSTART;TZID=Europe/Ljubljana:20251021T110000
DTEND;TZID=Europe/Ljubljana:20251021T130000
DTSTAMP:20260420T003544Z
UID:bf-AFLABS-URNIK:rezervacija:24158
CATEGORIES:Reservation
COLOR:royalblue
DESCRIPTION:Predmeti: \nLetniki: \nIzvajalci: Primož Oven\nProstori: Prod
 ekanova soba Lesarstvo
LOCATION:Oddelek za lesarstvo\, Prodekanova soba Lesarstvo
ORGANIZER:Primož Oven
X-WR-TIMEZONE:Europe/Ljubljana
END:VEVENT
BEGIN:VEVENT
SUMMARY:Erasmus Oven
DTSTART;TZID=Europe/Ljubljana:20251028T110000
DTEND;TZID=Europe/Ljubljana:20251028T130000
DTSTAMP:20260420T003544Z
UID:bf-AFLABS-URNIK:rezervacija:24159
CATEGORIES:Reservation
COLOR:royalblue
DESCRIPTION:Predmeti: \nLetniki: \nIzvajalci: Primož Oven\nProstori: Prod
 ekanova soba Lesarstvo
LOCATION:Oddelek za lesarstvo\, Prodekanova soba Lesarstvo
ORGANIZER:Primož Oven
X-WR-TIMEZONE:Europe/Ljubljana
END:VEVENT
BEGIN:VEVENT
SUMMARY:Erasmus Oven
DTSTART;TZID=Europe/Ljubljana:20251104T110000
DTEND;TZID=Europe/Ljubljana:20251104T130000
DTSTAMP:20260420T003544Z
UID:bf-AFLABS-URNIK:rezervacija:24160
CATEGORIES:Reservation
COLOR:royalblue
DESCRIPTION:Predmeti: \nLetniki: \nIzvajalci: Primož Oven\nProstori: Prod
 ekanova soba Lesarstvo
LOCATION:Oddelek za lesarstvo\, Prodekanova soba Lesarstvo
ORGANIZER:Primož Oven
X-WR-TIMEZONE:Europe/Ljubljana
END:VEVENT
BEGIN:VEVENT
SUMMARY:Erasmus Oven
DTSTART;TZID=Europe/Ljubljana:20251111T110000
DTEND;TZID=Europe/Ljubljana:20251111T130000
DTSTAMP:20260420T003544Z
UID:bf-AFLABS-URNIK:rezervacija:24161
CATEGORIES:Reservation
COLOR:royalblue
DESCRIPTION:Predmeti: \nLetniki: \nIzvajalci: Primož Oven\nProstori: Prod
 ekanova soba Lesarstvo
LOCATION:Oddelek za lesarstvo\, Prodekanova soba Lesarstvo
ORGANIZER:Primož Oven
X-WR-TIMEZONE:Europe/Ljubljana
END:VEVENT
BEGIN:VEVENT
SUMMARY:Predavanje
DTSTART;TZID=Europe/Ljubljana:20251117T090000
DTEND;TZID=Europe/Ljubljana:20251117T130000
DTSTAMP:20260420T003544Z
UID:bf-AFLABS-URNIK:rezervacija:24181
CATEGORIES:Reservation
COLOR:royalblue
DESCRIPTION:Predmeti: \nLetniki: \nIzvajalci: Primož Oven\nProstori: Pred
 avalnica Lesarstvo L1
LOCATION:Oddelek za lesarstvo\, Predavalnica Lesarstvo L1
ORGANIZER:Primož Oven
X-WR-TIMEZONE:Europe/Ljubljana
END:VEVENT
BEGIN:VEVENT
SUMMARY:Izpit
DTSTART;TZID=Europe/Ljubljana:20251120T070000
DTEND;TZID=Europe/Ljubljana:20251120T130000
DTSTAMP:20260420T003544Z
UID:bf-AFLABS-URNIK:rezervacija:25144
ATTENDEE:Gozdarstvo in upravljanje gozdnih ekosistemov 1. letnik (MGO)
CATEGORIES:Reservation
COLOR:royalblue
DESCRIPTION:Predmeti: Osnove arboristike GO (GO210b)\nLetniki: Gozdarstvo 
 in upravljanje gozdnih ekosistemov 1. letnik (MGO)\nIzvajalci: Primož Ove
 n\nProstori: Predavalnica Lesarstvo L3
LOCATION:Oddelek za lesarstvo\, Predavalnica Lesarstvo L3
ORGANIZER:Primož Oven
X-WR-TIMEZONE:Europe/Ljubljana
END:VEVENT
BEGIN:VEVENT
SUMMARY:Izpit
DTSTART;TZID=Europe/Ljubljana:20251120T070000
DTEND;TZID=Europe/Ljubljana:20251120T104500
DTSTAMP:20260420T003544Z
UID:bf-AFLABS-URNIK:rezervacija:25145
CATEGORIES:Reservation
COLOR:royalblue
DESCRIPTION:Predmeti: \nLetniki: \nIzvajalci: Primož Oven\nProstori: Sejn
 a soba Lesarstvo
LOCATION:Oddelek za lesarstvo\, Sejna soba Lesarstvo
ORGANIZER:Primož Oven
X-WR-TIMEZONE:Europe/Ljubljana
END:VEVENT
END:VCALENDAR
