BEGIN:VCALENDAR
VERSION:2.0
PRODID:-//AFLabs urnik izvoz - bf//aflabs.si//SI
NAME:UL BF Urnik
X-WR-CALNAME:UL BF Urnik
DTSTAMP:20260421T115520Z
REFRESH-INTERVAL:PT1H
SOURCE:https://urniki.bf.uni-lj.si/teacher/572/?day=2025-09-15&export=1
URL:https://urniki.bf.uni-lj.si/teacher/572/?day=2025-09-15&export=1
X-PUBLISHED-TTL:PT1H
X-WR-TIMEZONE:Europe/Ljubljana
BEGIN:VTIMEZONE
TZID:Europe/Ljubljana
BEGIN:DAYLIGHT
DTSTART:20260329T020000
RDATE:20260329T020000
RDATE:20270328T020000
TZNAME:CEST
TZOFFSETFROM:+0100
TZOFFSETTO:+0200
END:DAYLIGHT
BEGIN:STANDARD
DTSTART:20261025T030000
RDATE:20261025T030000
RDATE:20271031T030000
TZNAME:CET
TZOFFSETFROM:+0200
TZOFFSETTO:+0100
END:STANDARD
END:VTIMEZONE
BEGIN:VEVENT
SUMMARY:Pragozdovi in gozdni rezervati (GO270)\, predavanja (P)
DTSTART;TZID=Europe/Ljubljana:20251001T100000
DTEND;TZID=Europe/Ljubljana:20251001T120000
DTSTAMP:20260421T115520Z
UID:bf-AFLABS-URNIK:srecanje:25298-2025-10-01 10:00:00+02:00
DESCRIPTION:Predmet: Pragozdovi in gozdni rezervati (GO270)\, predavanja (
 P)\nLetniki: Gozdarstvo in upravljanje gozdnih ekosistemov 2. letnik (MGO)
 \nIzvajalci: Thomas Andrew Nagel\nProstor: Predavalnica Gozdarstvo G7
END:VEVENT
BEGIN:VEVENT
SUMMARY:Pragozdovi in gozdni rezervati (GO270)\, predavanja (P)
DTSTART;TZID=Europe/Ljubljana:20251008T100000
DTEND;TZID=Europe/Ljubljana:20251008T120000
DTSTAMP:20260421T115520Z
UID:bf-AFLABS-URNIK:srecanje:25298-2025-10-08 10:00:00+02:00
DESCRIPTION:Predmet: Pragozdovi in gozdni rezervati (GO270)\, predavanja (
 P)\nLetniki: Gozdarstvo in upravljanje gozdnih ekosistemov 2. letnik (MGO)
 \nIzvajalci: Thomas Andrew Nagel\nProstor: Predavalnica Gozdarstvo G7
END:VEVENT
BEGIN:VEVENT
SUMMARY:Pragozdovi in gozdni rezervati (GO270)\, predavanja (P)
DTSTART;TZID=Europe/Ljubljana:20251015T100000
DTEND;TZID=Europe/Ljubljana:20251015T120000
DTSTAMP:20260421T115520Z
UID:bf-AFLABS-URNIK:srecanje:25298-2025-10-15 10:00:00+02:00
DESCRIPTION:Predmet: Pragozdovi in gozdni rezervati (GO270)\, predavanja (
 P)\nLetniki: Gozdarstvo in upravljanje gozdnih ekosistemov 2. letnik (MGO)
 \nIzvajalci: Thomas Andrew Nagel\nProstor: Predavalnica Gozdarstvo G7
END:VEVENT
BEGIN:VEVENT
SUMMARY:Pragozdovi in gozdni rezervati (GO270)\, laboratorijske vaje (LV)
DTSTART;TZID=Europe/Ljubljana:20251002T110000
DTEND;TZID=Europe/Ljubljana:20251002T130000
DTSTAMP:20260421T115520Z
UID:bf-AFLABS-URNIK:srecanje:25296-2025-10-02 11:00:00+02:00
DESCRIPTION:Predmet: Pragozdovi in gozdni rezervati (GO270)\, laboratorijs
 ke vaje (LV)\nLetniki: Gozdarstvo in upravljanje gozdnih ekosistemov 2. le
 tnik (MGO)\nIzvajalci: Thomas Andrew Nagel\nProstor: Predavalnica Gozdarst
 vo G2
END:VEVENT
BEGIN:VEVENT
SUMMARY:Pragozdovi in gozdni rezervati (GO270)\, laboratorijske vaje (LV)
DTSTART;TZID=Europe/Ljubljana:20251009T110000
DTEND;TZID=Europe/Ljubljana:20251009T130000
DTSTAMP:20260421T115520Z
UID:bf-AFLABS-URNIK:srecanje:25296-2025-10-09 11:00:00+02:00
DESCRIPTION:Predmet: Pragozdovi in gozdni rezervati (GO270)\, laboratorijs
 ke vaje (LV)\nLetniki: Gozdarstvo in upravljanje gozdnih ekosistemov 2. le
 tnik (MGO)\nIzvajalci: Thomas Andrew Nagel\nProstor: Predavalnica Gozdarst
 vo G2
END:VEVENT
BEGIN:VEVENT
SUMMARY:Pragozdovi in gozdni rezervati (GO270)\, laboratorijske vaje (LV)
DTSTART;TZID=Europe/Ljubljana:20251016T110000
DTEND;TZID=Europe/Ljubljana:20251016T130000
DTSTAMP:20260421T115520Z
UID:bf-AFLABS-URNIK:srecanje:25296-2025-10-16 11:00:00+02:00
DESCRIPTION:Predmet: Pragozdovi in gozdni rezervati (GO270)\, laboratorijs
 ke vaje (LV)\nLetniki: Gozdarstvo in upravljanje gozdnih ekosistemov 2. le
 tnik (MGO)\nIzvajalci: Thomas Andrew Nagel\nProstor: Predavalnica Gozdarst
 vo G2
END:VEVENT
BEGIN:VEVENT
SUMMARY:Pragozdovi in gozdni rezervati (GO270)\, predavanja (P)
DTSTART;TZID=Europe/Ljubljana:20251006T080000
DTEND;TZID=Europe/Ljubljana:20251006T110000
DTSTAMP:20260421T115520Z
UID:bf-AFLABS-URNIK:srecanje:25297-2025-10-06 08:00:00+02:00
DESCRIPTION:Predmet: Pragozdovi in gozdni rezervati (GO270)\, predavanja (
 P)\nLetniki: Gozdarstvo in upravljanje gozdnih ekosistemov 2. letnik (MGO)
 \nIzvajalci: Thomas Andrew Nagel\nProstor: Predavalnica Gozdarstvo G2
END:VEVENT
BEGIN:VEVENT
SUMMARY:Pragozdovi in gozdni rezervati (GO270)\, predavanja (P)
DTSTART;TZID=Europe/Ljubljana:20251013T080000
DTEND;TZID=Europe/Ljubljana:20251013T110000
DTSTAMP:20260421T115520Z
UID:bf-AFLABS-URNIK:srecanje:25297-2025-10-13 08:00:00+02:00
DESCRIPTION:Predmet: Pragozdovi in gozdni rezervati (GO270)\, predavanja (
 P)\nLetniki: Gozdarstvo in upravljanje gozdnih ekosistemov 2. letnik (MGO)
 \nIzvajalci: Thomas Andrew Nagel\nProstor: Predavalnica Gozdarstvo G2
END:VEVENT
BEGIN:VEVENT
SUMMARY:Pragozdovi in gozdni rezervati (GO270)\, terensko delo (TD)
DTSTART;TZID=Europe/Ljubljana:20251017T080000
DTEND;TZID=Europe/Ljubljana:20251017T170000
DTSTAMP:20260421T115520Z
UID:bf-AFLABS-URNIK:srecanje:25301-2025-10-17 08:00:00+02:00
DESCRIPTION:Predmet: Pragozdovi in gozdni rezervati (GO270)\, terensko del
 o (TD)\nLetniki: Gozdarstvo in upravljanje gozdnih ekosistemov 2. letnik (
 MGO)\nIzvajalci: Thomas Andrew Nagel\nProstor: Terensko delo - gozdarstvo
END:VEVENT
BEGIN:VEVENT
SUMMARY:Pragozdovi in gozdni rezervati (GO270)\, terensko delo (TD)
DTSTART;TZID=Europe/Ljubljana:20251020T080000
DTEND;TZID=Europe/Ljubljana:20251020T160000
DTSTAMP:20260421T115520Z
UID:bf-AFLABS-URNIK:srecanje:25299-2025-10-20 08:00:00+02:00
DESCRIPTION:Predmet: Pragozdovi in gozdni rezervati (GO270)\, terensko del
 o (TD)\nLetniki: Gozdarstvo in upravljanje gozdnih ekosistemov 2. letnik (
 MGO)\nIzvajalci: Thomas Andrew Nagel\nProstor: Terensko delo - gozdarstvo
END:VEVENT
END:VCALENDAR
