BEGIN:VCALENDAR
VERSION:2.0
PRODID:-//AFLabs urnik izvoz - bf//aflabs.si//SI
NAME:UL BF Urnik
X-WR-CALNAME:UL BF Urnik
DTSTAMP:20260420T062847Z
REFRESH-INTERVAL:PT1H
SOURCE:https://urniki.bf.uni-lj.si/teacher/50/?day=2025-09-01&export=1
URL:https://urniki.bf.uni-lj.si/teacher/50/?day=2025-09-01&export=1
X-PUBLISHED-TTL:PT1H
X-WR-TIMEZONE:Europe/Ljubljana
BEGIN:VTIMEZONE
TZID:Europe/Ljubljana
BEGIN:DAYLIGHT
DTSTART:20260329T020000
RDATE:20260329T020000
RDATE:20270328T020000
TZNAME:CEST
TZOFFSETFROM:+0100
TZOFFSETTO:+0200
END:DAYLIGHT
BEGIN:STANDARD
DTSTART:20261025T030000
RDATE:20261025T030000
RDATE:20271031T030000
TZNAME:CET
TZOFFSETFROM:+0200
TZOFFSETTO:+0100
END:STANDARD
END:VTIMEZONE
BEGIN:VEVENT
SUMMARY:Gozdno podjetništvo GG (GG011)\, seminarske vaje (SV)
DTSTART;TZID=Europe/Ljubljana:20251002T110000
DTEND;TZID=Europe/Ljubljana:20251002T140000
DTSTAMP:20260420T062847Z
UID:bf-AFLABS-URNIK:srecanje:24915-2025-10-02 11:00:00+02:00
DESCRIPTION:Predmet: Gozdno podjetništvo GG (GG011)\, seminarske vaje (SV
 )\nLetniki: Gozdarstvo in obnovljivi gozdni viri 2. letnik (GOUN)\nIzvajal
 ci: Špela Pezdevšek Malovrh\nProstor: Predavalnica Gozdarstvo G7
END:VEVENT
BEGIN:VEVENT
SUMMARY:Gozdno podjetništvo GG (GG011)\, seminarji (S)
DTSTART;TZID=Europe/Ljubljana:20251006T080000
DTEND;TZID=Europe/Ljubljana:20251006T100000
DTSTAMP:20260420T062847Z
UID:bf-AFLABS-URNIK:premaknjeno-srecanje:160539
ATTENDEE:Gozdarstvo in obnovljivi gozdni viri 2. letnik (GOUN)
CATEGORIES:Entry,Special
COLOR:forestgreen
DESCRIPTION:Predmet: Gozdno podjetništvo GG (GG011)\, seminarji (S)\nLetn
 iki: Gozdarstvo in obnovljivi gozdni viri 2. letnik (GOUN)\nIzvajalci: Šp
 ela Pezdevšek Malovrh\nProstor: Predavalnica Gozdarstvo G7
LOCATION:Oddelek za gozdarstvo in obnovljive gozdne vire\, Predavalnica Go
 zdarstvo G7
ORGANIZER:Špela Pezdevšek Malovrh
RELATED-TO:bf-AFLABS-URNIK:srecanje:24914
X-WR-TIMEZONE:Europe/Ljubljana
END:VEVENT
BEGIN:VEVENT
SUMMARY:Gozdno podjetništvo GG (GG011)\, predavanja (P)
DTSTART;TZID=Europe/Ljubljana:20251006T100000
DTEND;TZID=Europe/Ljubljana:20251006T120000
DTSTAMP:20260420T062847Z
UID:bf-AFLABS-URNIK:srecanje:29273-2025-10-06 10:00:00+02:00
DESCRIPTION:Predmet: Gozdno podjetništvo GG (GG011)\, predavanja (P)\nLet
 niki: Gozdarstvo in obnovljivi gozdni viri 2. letnik (GOUN)\nIzvajalci: Š
 pela Pezdevšek Malovrh\nProstor: Predavalnica Gozdarstvo G7
END:VEVENT
END:VCALENDAR
