BEGIN:VCALENDAR
VERSION:2.0
PRODID:-//AFLabs urnik izvoz - bf//aflabs.si//SI
NAME:UL BF Urnik
X-WR-CALNAME:UL BF Urnik
DTSTAMP:20260424T072729Z
REFRESH-INTERVAL:PT1H
SOURCE:https://urniki.bf.uni-lj.si/teacher/119/?day=2025-10-20&export=1
URL:https://urniki.bf.uni-lj.si/teacher/119/?day=2025-10-20&export=1
X-PUBLISHED-TTL:PT1H
X-WR-TIMEZONE:Europe/Ljubljana
BEGIN:VTIMEZONE
TZID:Europe/Ljubljana
BEGIN:DAYLIGHT
DTSTART:20260329T020000
RDATE:20260329T020000
RDATE:20270328T020000
TZNAME:CEST
TZOFFSETFROM:+0100
TZOFFSETTO:+0200
END:DAYLIGHT
BEGIN:STANDARD
DTSTART:20261025T030000
RDATE:20261025T030000
RDATE:20271031T030000
TZNAME:CET
TZOFFSETFROM:+0200
TZOFFSETTO:+0100
END:STANDARD
END:VTIMEZONE
BEGIN:VEVENT
SUMMARY:Ekosistemi PeF\, laboratorijske vaje (LV)
DTSTART;TZID=Europe/Ljubljana:20251002T130000
DTEND;TZID=Europe/Ljubljana:20251002T150000
DTSTAMP:20260424T072729Z
UID:bf-AFLABS-URNIK:srecanje:24726-2025-10-02 13:00:00+02:00
DESCRIPTION:Predmet: Ekosistemi PeF\, laboratorijske vaje (LV)\nLetniki: P
 redmetno poučevanje Biologija 1. letnik (PeF-PPB)\nIzvajalci: Hubert Poto
 čnik\, Tadeja Trošt Sedej\, Igor Zelnik\nProstor: Biološka vajalnica BV
 5\, Ekološka vajalnica
END:VEVENT
BEGIN:VEVENT
SUMMARY:Ekosistemi PeF\, laboratorijske vaje (LV)
DTSTART;TZID=Europe/Ljubljana:20251009T130000
DTEND;TZID=Europe/Ljubljana:20251009T150000
DTSTAMP:20260424T072729Z
UID:bf-AFLABS-URNIK:srecanje:24726-2025-10-09 13:00:00+02:00
DESCRIPTION:Predmet: Ekosistemi PeF\, laboratorijske vaje (LV)\nLetniki: P
 redmetno poučevanje Biologija 1. letnik (PeF-PPB)\nIzvajalci: Hubert Poto
 čnik\, Tadeja Trošt Sedej\, Igor Zelnik\nProstor: Biološka vajalnica BV
 5\, Ekološka vajalnica
END:VEVENT
BEGIN:VEVENT
SUMMARY:Ekosistemi PeF\, laboratorijske vaje (LV)
DTSTART;TZID=Europe/Ljubljana:20251016T130000
DTEND;TZID=Europe/Ljubljana:20251016T150000
DTSTAMP:20260424T072729Z
UID:bf-AFLABS-URNIK:srecanje:24726-2025-10-16 13:00:00+02:00
DESCRIPTION:Predmet: Ekosistemi PeF\, laboratorijske vaje (LV)\nLetniki: P
 redmetno poučevanje Biologija 1. letnik (PeF-PPB)\nIzvajalci: Hubert Poto
 čnik\, Tadeja Trošt Sedej\, Igor Zelnik\nProstor: Biološka vajalnica BV
 5\, Ekološka vajalnica
END:VEVENT
BEGIN:VEVENT
SUMMARY:Ekosistemi PeF\, laboratorijske vaje (LV)
DTSTART;TZID=Europe/Ljubljana:20251023T130000
DTEND;TZID=Europe/Ljubljana:20251023T150000
DTSTAMP:20260424T072729Z
UID:bf-AFLABS-URNIK:srecanje:24726-2025-10-23 13:00:00+02:00
DESCRIPTION:Predmet: Ekosistemi PeF\, laboratorijske vaje (LV)\nLetniki: P
 redmetno poučevanje Biologija 1. letnik (PeF-PPB)\nIzvajalci: Hubert Poto
 čnik\, Tadeja Trošt Sedej\, Igor Zelnik\nProstor: Biološka vajalnica BV
 5\, Ekološka vajalnica
END:VEVENT
BEGIN:VEVENT
SUMMARY:Ekosistemi PeF\, laboratorijske vaje (LV)
DTSTART;TZID=Europe/Ljubljana:20251106T130000
DTEND;TZID=Europe/Ljubljana:20251106T150000
DTSTAMP:20260424T072729Z
UID:bf-AFLABS-URNIK:srecanje:24726-2025-11-06 13:00:00+01:00
DESCRIPTION:Predmet: Ekosistemi PeF\, laboratorijske vaje (LV)\nLetniki: P
 redmetno poučevanje Biologija 1. letnik (PeF-PPB)\nIzvajalci: Hubert Poto
 čnik\, Tadeja Trošt Sedej\, Igor Zelnik\nProstor: Biološka vajalnica BV
 5\, Ekološka vajalnica
END:VEVENT
BEGIN:VEVENT
SUMMARY:Ekosistemi PeF\, laboratorijske vaje (LV)
DTSTART;TZID=Europe/Ljubljana:20251113T130000
DTEND;TZID=Europe/Ljubljana:20251113T150000
DTSTAMP:20260424T072729Z
UID:bf-AFLABS-URNIK:srecanje:24726-2025-11-13 13:00:00+01:00
DESCRIPTION:Predmet: Ekosistemi PeF\, laboratorijske vaje (LV)\nLetniki: P
 redmetno poučevanje Biologija 1. letnik (PeF-PPB)\nIzvajalci: Hubert Poto
 čnik\, Tadeja Trošt Sedej\, Igor Zelnik\nProstor: Biološka vajalnica BV
 5\, Ekološka vajalnica
END:VEVENT
BEGIN:VEVENT
SUMMARY:Ekologija živali (BI202)\, laboratorijske vaje (LV)\, [:1]
DTSTART;TZID=Europe/Ljubljana:20251003T100000
DTEND;TZID=Europe/Ljubljana:20251003T120000
DTSTAMP:20260424T072729Z
UID:bf-AFLABS-URNIK:srecanje:24709-2025-10-03 10:00:00+02:00
DESCRIPTION:Predmet: Ekologija živali (BI202)\, laboratorijske vaje (LV)\
 , [:1]\nLetniki: Ekologija in biodiverziteta 1. letnik (MEB)\nIzvajalci: H
 ubert Potočnik\nProstor: Biološka vajalnica BV5\, Ekološka vajalnica
END:VEVENT
BEGIN:VEVENT
SUMMARY:Ekologija živali (BI202)\, laboratorijske vaje (LV)\, [:1]
DTSTART;TZID=Europe/Ljubljana:20251010T100000
DTEND;TZID=Europe/Ljubljana:20251010T120000
DTSTAMP:20260424T072729Z
UID:bf-AFLABS-URNIK:srecanje:24709-2025-10-10 10:00:00+02:00
DESCRIPTION:Predmet: Ekologija živali (BI202)\, laboratorijske vaje (LV)\
 , [:1]\nLetniki: Ekologija in biodiverziteta 1. letnik (MEB)\nIzvajalci: H
 ubert Potočnik\nProstor: Biološka vajalnica BV5\, Ekološka vajalnica
END:VEVENT
BEGIN:VEVENT
SUMMARY:Ekologija živali (BI202)\, laboratorijske vaje (LV)\, [:1]
DTSTART;TZID=Europe/Ljubljana:20251017T100000
DTEND;TZID=Europe/Ljubljana:20251017T120000
DTSTAMP:20260424T072729Z
UID:bf-AFLABS-URNIK:srecanje:24709-2025-10-17 10:00:00+02:00
DESCRIPTION:Predmet: Ekologija živali (BI202)\, laboratorijske vaje (LV)\
 , [:1]\nLetniki: Ekologija in biodiverziteta 1. letnik (MEB)\nIzvajalci: H
 ubert Potočnik\nProstor: Biološka vajalnica BV5\, Ekološka vajalnica
END:VEVENT
BEGIN:VEVENT
SUMMARY:Ekologija živali (BI202)\, laboratorijske vaje (LV)\, [:1]
DTSTART;TZID=Europe/Ljubljana:20251024T100000
DTEND;TZID=Europe/Ljubljana:20251024T120000
DTSTAMP:20260424T072729Z
UID:bf-AFLABS-URNIK:srecanje:24709-2025-10-24 10:00:00+02:00
DESCRIPTION:Predmet: Ekologija živali (BI202)\, laboratorijske vaje (LV)\
 , [:1]\nLetniki: Ekologija in biodiverziteta 1. letnik (MEB)\nIzvajalci: H
 ubert Potočnik\nProstor: Biološka vajalnica BV5\, Ekološka vajalnica
END:VEVENT
BEGIN:VEVENT
SUMMARY:Ekologija živali (BI202)\, laboratorijske vaje (LV)\, [:1]
DTSTART;TZID=Europe/Ljubljana:20251031T100000
DTEND;TZID=Europe/Ljubljana:20251031T120000
DTSTAMP:20260424T072729Z
UID:bf-AFLABS-URNIK:srecanje:24709-2025-10-31 10:00:00+01:00
DESCRIPTION:Predmet: Ekologija živali (BI202)\, laboratorijske vaje (LV)\
 , [:1]\nLetniki: Ekologija in biodiverziteta 1. letnik (MEB)\nIzvajalci: H
 ubert Potočnik\nProstor: Biološka vajalnica BV5\, Ekološka vajalnica
END:VEVENT
BEGIN:VEVENT
SUMMARY:Ekologija živali (BI202)\, laboratorijske vaje (LV)\, [:1]
DTSTART;TZID=Europe/Ljubljana:20251107T100000
DTEND;TZID=Europe/Ljubljana:20251107T120000
DTSTAMP:20260424T072729Z
UID:bf-AFLABS-URNIK:srecanje:24709-2025-11-07 10:00:00+01:00
DESCRIPTION:Predmet: Ekologija živali (BI202)\, laboratorijske vaje (LV)\
 , [:1]\nLetniki: Ekologija in biodiverziteta 1. letnik (MEB)\nIzvajalci: H
 ubert Potočnik\nProstor: Biološka vajalnica BV5\, Ekološka vajalnica
END:VEVENT
BEGIN:VEVENT
SUMMARY:Ekologija živali (BI202)\, laboratorijske vaje (LV)\, [:1]
DTSTART;TZID=Europe/Ljubljana:20251114T100000
DTEND;TZID=Europe/Ljubljana:20251114T120000
DTSTAMP:20260424T072729Z
UID:bf-AFLABS-URNIK:srecanje:24709-2025-11-14 10:00:00+01:00
DESCRIPTION:Predmet: Ekologija živali (BI202)\, laboratorijske vaje (LV)\
 , [:1]\nLetniki: Ekologija in biodiverziteta 1. letnik (MEB)\nIzvajalci: H
 ubert Potočnik\nProstor: Biološka vajalnica BV5\, Ekološka vajalnica
END:VEVENT
BEGIN:VEVENT
SUMMARY:Ekologija živali (BI202)\, laboratorijske vaje (LV)\, [:2]
DTSTART;TZID=Europe/Ljubljana:20251003T120000
DTEND;TZID=Europe/Ljubljana:20251003T140000
DTSTAMP:20260424T072729Z
UID:bf-AFLABS-URNIK:srecanje:24710-2025-10-03 12:00:00+02:00
DESCRIPTION:Predmet: Ekologija živali (BI202)\, laboratorijske vaje (LV)\
 , [:2]\nLetniki: Ekologija in biodiverziteta 1. letnik (MEB)\nIzvajalci: H
 ubert Potočnik\nProstor: Biološka vajalnica BV5\, Ekološka vajalnica
END:VEVENT
BEGIN:VEVENT
SUMMARY:Ekologija živali (BI202)\, laboratorijske vaje (LV)\, [:2]
DTSTART;TZID=Europe/Ljubljana:20251010T120000
DTEND;TZID=Europe/Ljubljana:20251010T140000
DTSTAMP:20260424T072729Z
UID:bf-AFLABS-URNIK:srecanje:24710-2025-10-10 12:00:00+02:00
DESCRIPTION:Predmet: Ekologija živali (BI202)\, laboratorijske vaje (LV)\
 , [:2]\nLetniki: Ekologija in biodiverziteta 1. letnik (MEB)\nIzvajalci: H
 ubert Potočnik\nProstor: Biološka vajalnica BV5\, Ekološka vajalnica
END:VEVENT
BEGIN:VEVENT
SUMMARY:Ekologija živali (BI202)\, laboratorijske vaje (LV)\, [:2]
DTSTART;TZID=Europe/Ljubljana:20251017T120000
DTEND;TZID=Europe/Ljubljana:20251017T140000
DTSTAMP:20260424T072729Z
UID:bf-AFLABS-URNIK:srecanje:24710-2025-10-17 12:00:00+02:00
DESCRIPTION:Predmet: Ekologija živali (BI202)\, laboratorijske vaje (LV)\
 , [:2]\nLetniki: Ekologija in biodiverziteta 1. letnik (MEB)\nIzvajalci: H
 ubert Potočnik\nProstor: Biološka vajalnica BV5\, Ekološka vajalnica
END:VEVENT
BEGIN:VEVENT
SUMMARY:Ekologija živali (BI202)\, laboratorijske vaje (LV)\, [:2]
DTSTART;TZID=Europe/Ljubljana:20251024T120000
DTEND;TZID=Europe/Ljubljana:20251024T140000
DTSTAMP:20260424T072729Z
UID:bf-AFLABS-URNIK:srecanje:24710-2025-10-24 12:00:00+02:00
DESCRIPTION:Predmet: Ekologija živali (BI202)\, laboratorijske vaje (LV)\
 , [:2]\nLetniki: Ekologija in biodiverziteta 1. letnik (MEB)\nIzvajalci: H
 ubert Potočnik\nProstor: Biološka vajalnica BV5\, Ekološka vajalnica
END:VEVENT
BEGIN:VEVENT
SUMMARY:Ekologija živali (BI202)\, laboratorijske vaje (LV)\, [:2]
DTSTART;TZID=Europe/Ljubljana:20251031T120000
DTEND;TZID=Europe/Ljubljana:20251031T140000
DTSTAMP:20260424T072729Z
UID:bf-AFLABS-URNIK:srecanje:24710-2025-10-31 12:00:00+01:00
DESCRIPTION:Predmet: Ekologija živali (BI202)\, laboratorijske vaje (LV)\
 , [:2]\nLetniki: Ekologija in biodiverziteta 1. letnik (MEB)\nIzvajalci: H
 ubert Potočnik\nProstor: Biološka vajalnica BV5\, Ekološka vajalnica
END:VEVENT
BEGIN:VEVENT
SUMMARY:Ekologija živali (BI202)\, laboratorijske vaje (LV)\, [:2]
DTSTART;TZID=Europe/Ljubljana:20251107T120000
DTEND;TZID=Europe/Ljubljana:20251107T140000
DTSTAMP:20260424T072729Z
UID:bf-AFLABS-URNIK:srecanje:24710-2025-11-07 12:00:00+01:00
DESCRIPTION:Predmet: Ekologija živali (BI202)\, laboratorijske vaje (LV)\
 , [:2]\nLetniki: Ekologija in biodiverziteta 1. letnik (MEB)\nIzvajalci: H
 ubert Potočnik\nProstor: Biološka vajalnica BV5\, Ekološka vajalnica
END:VEVENT
BEGIN:VEVENT
SUMMARY:Ekologija živali (BI202)\, laboratorijske vaje (LV)\, [:2]
DTSTART;TZID=Europe/Ljubljana:20251114T120000
DTEND;TZID=Europe/Ljubljana:20251114T140000
DTSTAMP:20260424T072729Z
UID:bf-AFLABS-URNIK:srecanje:24710-2025-11-14 12:00:00+01:00
DESCRIPTION:Predmet: Ekologija živali (BI202)\, laboratorijske vaje (LV)\
 , [:2]\nLetniki: Ekologija in biodiverziteta 1. letnik (MEB)\nIzvajalci: H
 ubert Potočnik\nProstor: Biološka vajalnica BV5\, Ekološka vajalnica
END:VEVENT
BEGIN:VEVENT
SUMMARY:Naravovarstvena praksa (BI037)\, laboratorijske vaje (LV)
DTSTART;TZID=Europe/Ljubljana:20251124T160000
DTEND;TZID=Europe/Ljubljana:20251124T200000
DTSTAMP:20260424T072729Z
UID:bf-AFLABS-URNIK:srecanje:26315-2025-11-24 16:00:00+01:00
DESCRIPTION:Predmet: Naravovarstvena praksa (BI037)\, laboratorijske vaje 
 (LV)\nLetniki: Biologija 2. letnik (BIUN)\, Biologija 3. letnik (BIUN)\nIz
 vajalci: Hubert Potočnik\, Maja Zagmajster\, Valerija Zakšek\nProstor: P
 redavalnica Biologija B6\, Računalniška učilnica
END:VEVENT
BEGIN:VEVENT
SUMMARY:Zagovor doktorata
DTSTART;TZID=Europe/Ljubljana:20251104T130000
DTEND;TZID=Europe/Ljubljana:20251104T150000
DTSTAMP:20260424T072729Z
UID:bf-AFLABS-URNIK:rezervacija:24477
CATEGORIES:Reservation
COLOR:royalblue
DESCRIPTION:Predmeti: \nLetniki: \nIzvajalci: Hubert Potočnik\nProstori: 
 Biološka vajalnica BV1\, Antropološka vajalnica
LOCATION:Oddelek za biologijo\, Biološka vajalnica BV1\, Antropološka va
 jalnica
ORGANIZER:Hubert Potočnik
X-WR-TIMEZONE:Europe/Ljubljana
END:VEVENT
BEGIN:VEVENT
SUMMARY:zagovor magistrske naloge
DTSTART;TZID=Europe/Ljubljana:20251110T130000
DTEND;TZID=Europe/Ljubljana:20251110T140000
DTSTAMP:20260424T072729Z
UID:bf-AFLABS-URNIK:rezervacija:24836
CATEGORIES:Reservation
COLOR:royalblue
DESCRIPTION:Predmeti: \nLetniki: \nIzvajalci: Hubert Potočnik\nProstori: 
 Predavalnica Biologija B6\, Računalniška učilnica
LOCATION:Oddelek za biologijo\, Predavalnica Biologija B6\, Računalniška
  učilnica
ORGANIZER:Hubert Potočnik
X-WR-TIMEZONE:Europe/Ljubljana
END:VEVENT
BEGIN:VEVENT
SUMMARY:zagovor magistrske naloge
DTSTART;TZID=Europe/Ljubljana:20251111T110000
DTEND;TZID=Europe/Ljubljana:20251111T120000
DTSTAMP:20260424T072729Z
UID:bf-AFLABS-URNIK:rezervacija:24838
CATEGORIES:Reservation
COLOR:royalblue
DESCRIPTION:Predmeti: \nLetniki: \nIzvajalci: Hubert Potočnik\nProstori: 
 Predavalnica Biologija B4
LOCATION:Oddelek za biologijo\, Predavalnica Biologija B4
ORGANIZER:Hubert Potočnik
X-WR-TIMEZONE:Europe/Ljubljana
END:VEVENT
END:VCALENDAR
