BEGIN:VCALENDAR
VERSION:2.0
PRODID:-//AFLabs urnik izvoz - bf//aflabs.si//SI
NAME:UL BF Urnik
X-WR-CALNAME:UL BF Urnik
DTSTAMP:20260420T231513Z
REFRESH-INTERVAL:PT1H
SOURCE:https://urniki.bf.uni-lj.si/en/teacher/9/?day=2025-11-10&export=1
URL:https://urniki.bf.uni-lj.si/en/teacher/9/?day=2025-11-10&export=1
X-PUBLISHED-TTL:PT1H
X-WR-TIMEZONE:Europe/Ljubljana
BEGIN:VTIMEZONE
TZID:Europe/Ljubljana
BEGIN:DAYLIGHT
DTSTART:20260329T020000
RDATE:20260329T020000
RDATE:20270328T020000
TZNAME:CEST
TZOFFSETFROM:+0100
TZOFFSETTO:+0200
END:DAYLIGHT
BEGIN:STANDARD
DTSTART:20261025T030000
RDATE:20261025T030000
RDATE:20271031T030000
TZNAME:CET
TZOFFSETFROM:+0200
TZOFFSETTO:+0100
END:STANDARD
END:VTIMEZONE
BEGIN:VEVENT
SUMMARY:Botanika kmetijskih rastlin (AH003)\, predavanja (P)
DTSTART;TZID=Europe/Ljubljana:20251001T120000
DTEND;TZID=Europe/Ljubljana:20251001T140000
DTSTAMP:20260420T231513Z
UID:bf-AFLABS-URNIK:srecanje:25811-2025-10-01 12:00:00+02:00
DESCRIPTION:Predmet: Botanika kmetijskih rastlin (AH003)\, predavanja (P)\
 nLetniki: Kmetijstvo - agronomija in hortikultura 1. letnik (AGAH)\nIzvaja
 lci: Helena Šircelj\nProstor: Predavalnica Agronomija A5
END:VEVENT
BEGIN:VEVENT
SUMMARY:Botanika kmetijskih rastlin (AH003)\, predavanja (P)
DTSTART;TZID=Europe/Ljubljana:20251008T120000
DTEND;TZID=Europe/Ljubljana:20251008T140000
DTSTAMP:20260420T231513Z
UID:bf-AFLABS-URNIK:srecanje:25811-2025-10-08 12:00:00+02:00
DESCRIPTION:Predmet: Botanika kmetijskih rastlin (AH003)\, predavanja (P)\
 nLetniki: Kmetijstvo - agronomija in hortikultura 1. letnik (AGAH)\nIzvaja
 lci: Helena Šircelj\nProstor: Predavalnica Agronomija A5
END:VEVENT
BEGIN:VEVENT
SUMMARY:Botanika kmetijskih rastlin (AH003)\, predavanja (P)
DTSTART;TZID=Europe/Ljubljana:20251015T120000
DTEND;TZID=Europe/Ljubljana:20251015T140000
DTSTAMP:20260420T231513Z
UID:bf-AFLABS-URNIK:srecanje:25811-2025-10-15 12:00:00+02:00
DESCRIPTION:Predmet: Botanika kmetijskih rastlin (AH003)\, predavanja (P)\
 nLetniki: Kmetijstvo - agronomija in hortikultura 1. letnik (AGAH)\nIzvaja
 lci: Helena Šircelj\nProstor: Predavalnica Agronomija A5
END:VEVENT
BEGIN:VEVENT
SUMMARY:Botanika kmetijskih rastlin (AH003)\, predavanja (P)
DTSTART;TZID=Europe/Ljubljana:20251022T120000
DTEND;TZID=Europe/Ljubljana:20251022T140000
DTSTAMP:20260420T231513Z
UID:bf-AFLABS-URNIK:srecanje:25811-2025-10-22 12:00:00+02:00
DESCRIPTION:Predmet: Botanika kmetijskih rastlin (AH003)\, predavanja (P)\
 nLetniki: Kmetijstvo - agronomija in hortikultura 1. letnik (AGAH)\nIzvaja
 lci: Helena Šircelj\nProstor: Predavalnica Agronomija A5
END:VEVENT
BEGIN:VEVENT
SUMMARY:Botanika kmetijskih rastlin (AH003)\, predavanja (P)
DTSTART;TZID=Europe/Ljubljana:20251029T120000
DTEND;TZID=Europe/Ljubljana:20251029T140000
DTSTAMP:20260420T231513Z
UID:bf-AFLABS-URNIK:srecanje:25811-2025-10-29 12:00:00+01:00
DESCRIPTION:Predmet: Botanika kmetijskih rastlin (AH003)\, predavanja (P)\
 nLetniki: Kmetijstvo - agronomija in hortikultura 1. letnik (AGAH)\nIzvaja
 lci: Helena Šircelj\nProstor: Predavalnica Agronomija A5
END:VEVENT
BEGIN:VEVENT
SUMMARY:Botanika kmetijskih rastlin (AH003)\, predavanja (P)
DTSTART;TZID=Europe/Ljubljana:20251105T120000
DTEND;TZID=Europe/Ljubljana:20251105T140000
DTSTAMP:20260420T231513Z
UID:bf-AFLABS-URNIK:srecanje:25811-2025-11-05 12:00:00+01:00
DESCRIPTION:Predmet: Botanika kmetijskih rastlin (AH003)\, predavanja (P)\
 nLetniki: Kmetijstvo - agronomija in hortikultura 1. letnik (AGAH)\nIzvaja
 lci: Helena Šircelj\nProstor: Predavalnica Agronomija A5
END:VEVENT
BEGIN:VEVENT
SUMMARY:Botanika kmetijskih rastlin (AH003)\, predavanja (P)
DTSTART;TZID=Europe/Ljubljana:20251112T120000
DTEND;TZID=Europe/Ljubljana:20251112T140000
DTSTAMP:20260420T231513Z
UID:bf-AFLABS-URNIK:srecanje:25811-2025-11-12 12:00:00+01:00
DESCRIPTION:Predmet: Botanika kmetijskih rastlin (AH003)\, predavanja (P)\
 nLetniki: Kmetijstvo - agronomija in hortikultura 1. letnik (AGAH)\nIzvaja
 lci: Helena Šircelj\nProstor: Predavalnica Agronomija A5
END:VEVENT
BEGIN:VEVENT
SUMMARY:Botanika KA (KA005)\, predavanja (P)
DTSTART;TZID=Europe/Ljubljana:20251001T100000
DTEND;TZID=Europe/Ljubljana:20251001T120000
DTSTAMP:20260420T231513Z
UID:bf-AFLABS-URNIK:srecanje:29379-2025-10-01 10:00:00+02:00
DESCRIPTION:Predmet: Botanika KA (KA005)\, predavanja (P)\nLetniki: Krajin
 ska arhitektura 1. letnik (LAUN)\nIzvajalci: Helena Šircelj\nProstor: Ris
 alnica Krajinska arhitektura 5
END:VEVENT
BEGIN:VEVENT
SUMMARY:Botanika KA (KA005)\, predavanja (P)
DTSTART;TZID=Europe/Ljubljana:20251008T100000
DTEND;TZID=Europe/Ljubljana:20251008T120000
DTSTAMP:20260420T231513Z
UID:bf-AFLABS-URNIK:srecanje:29379-2025-10-08 10:00:00+02:00
DESCRIPTION:Predmet: Botanika KA (KA005)\, predavanja (P)\nLetniki: Krajin
 ska arhitektura 1. letnik (LAUN)\nIzvajalci: Helena Šircelj\nProstor: Ris
 alnica Krajinska arhitektura 5
END:VEVENT
BEGIN:VEVENT
SUMMARY:Botanika KA (KA005)\, predavanja (P)
DTSTART;TZID=Europe/Ljubljana:20251015T100000
DTEND;TZID=Europe/Ljubljana:20251015T120000
DTSTAMP:20260420T231513Z
UID:bf-AFLABS-URNIK:srecanje:29379-2025-10-15 10:00:00+02:00
DESCRIPTION:Predmet: Botanika KA (KA005)\, predavanja (P)\nLetniki: Krajin
 ska arhitektura 1. letnik (LAUN)\nIzvajalci: Helena Šircelj\nProstor: Ris
 alnica Krajinska arhitektura 5
END:VEVENT
BEGIN:VEVENT
SUMMARY:Botanika KA (KA005)\, predavanja (P)
DTSTART;TZID=Europe/Ljubljana:20251022T100000
DTEND;TZID=Europe/Ljubljana:20251022T120000
DTSTAMP:20260420T231513Z
UID:bf-AFLABS-URNIK:srecanje:29379-2025-10-22 10:00:00+02:00
DESCRIPTION:Predmet: Botanika KA (KA005)\, predavanja (P)\nLetniki: Krajin
 ska arhitektura 1. letnik (LAUN)\nIzvajalci: Helena Šircelj\nProstor: Ris
 alnica Krajinska arhitektura 5
END:VEVENT
BEGIN:VEVENT
SUMMARY:Botanika KA (KA005)\, predavanja (P)
DTSTART;TZID=Europe/Ljubljana:20251029T100000
DTEND;TZID=Europe/Ljubljana:20251029T120000
DTSTAMP:20260420T231513Z
UID:bf-AFLABS-URNIK:srecanje:29379-2025-10-29 10:00:00+01:00
DESCRIPTION:Predmet: Botanika KA (KA005)\, predavanja (P)\nLetniki: Krajin
 ska arhitektura 1. letnik (LAUN)\nIzvajalci: Helena Šircelj\nProstor: Ris
 alnica Krajinska arhitektura 5
END:VEVENT
BEGIN:VEVENT
SUMMARY:Botanika KA (KA005)\, predavanja (P)
DTSTART;TZID=Europe/Ljubljana:20251105T100000
DTEND;TZID=Europe/Ljubljana:20251105T120000
DTSTAMP:20260420T231513Z
UID:bf-AFLABS-URNIK:srecanje:29379-2025-11-05 10:00:00+01:00
DESCRIPTION:Predmet: Botanika KA (KA005)\, predavanja (P)\nLetniki: Krajin
 ska arhitektura 1. letnik (LAUN)\nIzvajalci: Helena Šircelj\nProstor: Ris
 alnica Krajinska arhitektura 5
END:VEVENT
BEGIN:VEVENT
SUMMARY:Botanika KA (KA005)\, predavanja (P)
DTSTART;TZID=Europe/Ljubljana:20251112T100000
DTEND;TZID=Europe/Ljubljana:20251112T120000
DTSTAMP:20260420T231513Z
UID:bf-AFLABS-URNIK:srecanje:29379-2025-11-12 10:00:00+01:00
DESCRIPTION:Predmet: Botanika KA (KA005)\, predavanja (P)\nLetniki: Krajin
 ska arhitektura 1. letnik (LAUN)\nIzvajalci: Helena Šircelj\nProstor: Ris
 alnica Krajinska arhitektura 5
END:VEVENT
BEGIN:VEVENT
SUMMARY:Botanika ZO (ZO003)\, terensko delo (TD)\, [samo 06.10.2025]
DTSTART;TZID=Europe/Ljubljana:20251006T160000
DTEND;TZID=Europe/Ljubljana:20251006T200000
DTSTAMP:20260420T231513Z
UID:bf-AFLABS-URNIK:srecanje:24679-2025-10-06 16:00:00+02:00
DESCRIPTION:Predmet: Botanika ZO (ZO003)\, terensko delo (TD)\, [samo 06.1
 0.2025]\nLetniki: Kmetijstvo - zootehnika 1. letnik (ASUN)\nIzvajalci: Hel
 ena Šircelj\, Maruša Skubic Gregorin\nProstor: Terensko delo - zootehnik
 a
END:VEVENT
BEGIN:VEVENT
SUMMARY:Uporabne in strupene samonikle rastline in glive AG (AG047)\, pred
 avanja (P)
DTSTART;TZID=Europe/Ljubljana:20251007T160000
DTEND;TZID=Europe/Ljubljana:20251007T200000
DTSTAMP:20260420T231513Z
UID:bf-AFLABS-URNIK:srecanje:25551-2025-10-07 16:00:00+02:00
DESCRIPTION:Predmet: Uporabne in strupene samonikle rastline in glive AG (
 AG047)\, predavanja (P)\nLetniki: Kmetijstvo - agronomija 2. letnik (AGUN)
 \, Kmetijstvo - agronomija 3. letnik (AGUN)\nIzvajalci: Helena Šircelj\, 
 Dominik Vodnik\nProstor: Predavalnica Agronomija A4
END:VEVENT
BEGIN:VEVENT
SUMMARY:Uporabne in strupene samonikle rastline in glive AG (AG047)\, pred
 avanja (P)
DTSTART;TZID=Europe/Ljubljana:20251014T160000
DTEND;TZID=Europe/Ljubljana:20251014T200000
DTSTAMP:20260420T231513Z
UID:bf-AFLABS-URNIK:srecanje:25551-2025-10-14 16:00:00+02:00
DESCRIPTION:Predmet: Uporabne in strupene samonikle rastline in glive AG (
 AG047)\, predavanja (P)\nLetniki: Kmetijstvo - agronomija 2. letnik (AGUN)
 \, Kmetijstvo - agronomija 3. letnik (AGUN)\nIzvajalci: Helena Šircelj\, 
 Dominik Vodnik\nProstor: Predavalnica Agronomija A4
END:VEVENT
BEGIN:VEVENT
SUMMARY:Uporabne in strupene samonikle rastline in glive AG (AG047)\, pred
 avanja (P)
DTSTART;TZID=Europe/Ljubljana:20251021T160000
DTEND;TZID=Europe/Ljubljana:20251021T200000
DTSTAMP:20260420T231513Z
UID:bf-AFLABS-URNIK:srecanje:25551-2025-10-21 16:00:00+02:00
DESCRIPTION:Predmet: Uporabne in strupene samonikle rastline in glive AG (
 AG047)\, predavanja (P)\nLetniki: Kmetijstvo - agronomija 2. letnik (AGUN)
 \, Kmetijstvo - agronomija 3. letnik (AGUN)\nIzvajalci: Helena Šircelj\, 
 Dominik Vodnik\nProstor: Predavalnica Agronomija A4
END:VEVENT
BEGIN:VEVENT
SUMMARY:Uporabne in strupene samonikle rastline in glive AG (AG047)\, pred
 avanja (P)
DTSTART;TZID=Europe/Ljubljana:20251028T160000
DTEND;TZID=Europe/Ljubljana:20251028T200000
DTSTAMP:20260420T231513Z
UID:bf-AFLABS-URNIK:srecanje:25551-2025-10-28 16:00:00+01:00
DESCRIPTION:Predmet: Uporabne in strupene samonikle rastline in glive AG (
 AG047)\, predavanja (P)\nLetniki: Kmetijstvo - agronomija 2. letnik (AGUN)
 \, Kmetijstvo - agronomija 3. letnik (AGUN)\nIzvajalci: Helena Šircelj\, 
 Dominik Vodnik\nProstor: Predavalnica Agronomija A4
END:VEVENT
BEGIN:VEVENT
SUMMARY:Uporabne in strupene samonikle rastline in glive AG (AG047)\, pred
 avanja (P)
DTSTART;TZID=Europe/Ljubljana:20251104T160000
DTEND;TZID=Europe/Ljubljana:20251104T200000
DTSTAMP:20260420T231513Z
UID:bf-AFLABS-URNIK:srecanje:25551-2025-11-04 16:00:00+01:00
DESCRIPTION:Predmet: Uporabne in strupene samonikle rastline in glive AG (
 AG047)\, predavanja (P)\nLetniki: Kmetijstvo - agronomija 2. letnik (AGUN)
 \, Kmetijstvo - agronomija 3. letnik (AGUN)\nIzvajalci: Helena Šircelj\, 
 Dominik Vodnik\nProstor: Predavalnica Agronomija A4
END:VEVENT
BEGIN:VEVENT
SUMMARY:Uporabne in strupene samonikle rastline in glive AG (AG047)\, pred
 avanja (P)
DTSTART;TZID=Europe/Ljubljana:20251111T160000
DTEND;TZID=Europe/Ljubljana:20251111T200000
DTSTAMP:20260420T231513Z
UID:bf-AFLABS-URNIK:srecanje:25551-2025-11-11 16:00:00+01:00
DESCRIPTION:Predmet: Uporabne in strupene samonikle rastline in glive AG (
 AG047)\, predavanja (P)\nLetniki: Kmetijstvo - agronomija 2. letnik (AGUN)
 \, Kmetijstvo - agronomija 3. letnik (AGUN)\nIzvajalci: Helena Šircelj\, 
 Dominik Vodnik\nProstor: Predavalnica Agronomija A4
END:VEVENT
BEGIN:VEVENT
SUMMARY:Uporabne in strupene samonikle rastline in glive AH (AH054)\, pred
 avanja (P)
DTSTART;TZID=Europe/Ljubljana:20251007T160000
DTEND;TZID=Europe/Ljubljana:20251007T200000
DTSTAMP:20260420T231513Z
UID:bf-AFLABS-URNIK:srecanje:25552-2025-10-07 16:00:00+02:00
DESCRIPTION:Predmet: Uporabne in strupene samonikle rastline in glive AH (
 AH054)\, predavanja (P)\nLetniki: Kmetijstvo - agronomija 3. letnik (AGA)\
 , Kmetijstvo - hortikultura 3. letnik (AGH)\nIzvajalci: Helena Šircelj\, 
 Dominik Vodnik\nProstor: Predavalnica Agronomija A4
END:VEVENT
BEGIN:VEVENT
SUMMARY:Uporabne in strupene samonikle rastline in glive AH (AH054)\, pred
 avanja (P)
DTSTART;TZID=Europe/Ljubljana:20251014T160000
DTEND;TZID=Europe/Ljubljana:20251014T200000
DTSTAMP:20260420T231513Z
UID:bf-AFLABS-URNIK:srecanje:25552-2025-10-14 16:00:00+02:00
DESCRIPTION:Predmet: Uporabne in strupene samonikle rastline in glive AH (
 AH054)\, predavanja (P)\nLetniki: Kmetijstvo - agronomija 3. letnik (AGA)\
 , Kmetijstvo - hortikultura 3. letnik (AGH)\nIzvajalci: Helena Šircelj\, 
 Dominik Vodnik\nProstor: Predavalnica Agronomija A4
END:VEVENT
BEGIN:VEVENT
SUMMARY:Uporabne in strupene samonikle rastline in glive AH (AH054)\, pred
 avanja (P)
DTSTART;TZID=Europe/Ljubljana:20251021T160000
DTEND;TZID=Europe/Ljubljana:20251021T200000
DTSTAMP:20260420T231513Z
UID:bf-AFLABS-URNIK:srecanje:25552-2025-10-21 16:00:00+02:00
DESCRIPTION:Predmet: Uporabne in strupene samonikle rastline in glive AH (
 AH054)\, predavanja (P)\nLetniki: Kmetijstvo - agronomija 3. letnik (AGA)\
 , Kmetijstvo - hortikultura 3. letnik (AGH)\nIzvajalci: Helena Šircelj\, 
 Dominik Vodnik\nProstor: Predavalnica Agronomija A4
END:VEVENT
BEGIN:VEVENT
SUMMARY:Uporabne in strupene samonikle rastline in glive AH (AH054)\, pred
 avanja (P)
DTSTART;TZID=Europe/Ljubljana:20251028T160000
DTEND;TZID=Europe/Ljubljana:20251028T200000
DTSTAMP:20260420T231513Z
UID:bf-AFLABS-URNIK:srecanje:25552-2025-10-28 16:00:00+01:00
DESCRIPTION:Predmet: Uporabne in strupene samonikle rastline in glive AH (
 AH054)\, predavanja (P)\nLetniki: Kmetijstvo - agronomija 3. letnik (AGA)\
 , Kmetijstvo - hortikultura 3. letnik (AGH)\nIzvajalci: Helena Šircelj\, 
 Dominik Vodnik\nProstor: Predavalnica Agronomija A4
END:VEVENT
BEGIN:VEVENT
SUMMARY:Uporabne in strupene samonikle rastline in glive AH (AH054)\, pred
 avanja (P)
DTSTART;TZID=Europe/Ljubljana:20251104T160000
DTEND;TZID=Europe/Ljubljana:20251104T200000
DTSTAMP:20260420T231513Z
UID:bf-AFLABS-URNIK:srecanje:25552-2025-11-04 16:00:00+01:00
DESCRIPTION:Predmet: Uporabne in strupene samonikle rastline in glive AH (
 AH054)\, predavanja (P)\nLetniki: Kmetijstvo - agronomija 3. letnik (AGA)\
 , Kmetijstvo - hortikultura 3. letnik (AGH)\nIzvajalci: Helena Šircelj\, 
 Dominik Vodnik\nProstor: Predavalnica Agronomija A4
END:VEVENT
BEGIN:VEVENT
SUMMARY:Uporabne in strupene samonikle rastline in glive AH (AH054)\, pred
 avanja (P)
DTSTART;TZID=Europe/Ljubljana:20251111T160000
DTEND;TZID=Europe/Ljubljana:20251111T200000
DTSTAMP:20260420T231513Z
UID:bf-AFLABS-URNIK:srecanje:25552-2025-11-11 16:00:00+01:00
DESCRIPTION:Predmet: Uporabne in strupene samonikle rastline in glive AH (
 AH054)\, predavanja (P)\nLetniki: Kmetijstvo - agronomija 3. letnik (AGA)\
 , Kmetijstvo - hortikultura 3. letnik (AGH)\nIzvajalci: Helena Šircelj\, 
 Dominik Vodnik\nProstor: Predavalnica Agronomija A4
END:VEVENT
BEGIN:VEVENT
SUMMARY:Botanika kmetijskih rastlin (AH003)\, predavanja (P)
DTSTART;TZID=Europe/Ljubljana:20251124T100000
DTEND;TZID=Europe/Ljubljana:20251124T120000
DTSTAMP:20260420T231513Z
UID:bf-AFLABS-URNIK:srecanje:25809-2025-11-24 10:00:00+01:00
DESCRIPTION:Predmet: Botanika kmetijskih rastlin (AH003)\, predavanja (P)\
 nLetniki: Kmetijstvo - agronomija in hortikultura 1. letnik (AGAH)\nIzvaja
 lci: Helena Šircelj\nProstor: Predavalnica Agronomija A1
END:VEVENT
BEGIN:VEVENT
SUMMARY:Botanika kmetijskih rastlin (AH003)\, predavanja (P)
DTSTART;TZID=Europe/Ljubljana:20251201T100000
DTEND;TZID=Europe/Ljubljana:20251201T120000
DTSTAMP:20260420T231513Z
UID:bf-AFLABS-URNIK:srecanje:25809-2025-12-01 10:00:00+01:00
DESCRIPTION:Predmet: Botanika kmetijskih rastlin (AH003)\, predavanja (P)\
 nLetniki: Kmetijstvo - agronomija in hortikultura 1. letnik (AGAH)\nIzvaja
 lci: Helena Šircelj\nProstor: Predavalnica Agronomija A1
END:VEVENT
BEGIN:VEVENT
SUMMARY:Botanika kmetijskih rastlin (AH003)\, predavanja (P)
DTSTART;TZID=Europe/Ljubljana:20251208T100000
DTEND;TZID=Europe/Ljubljana:20251208T120000
DTSTAMP:20260420T231513Z
UID:bf-AFLABS-URNIK:srecanje:25809-2025-12-08 10:00:00+01:00
DESCRIPTION:Predmet: Botanika kmetijskih rastlin (AH003)\, predavanja (P)\
 nLetniki: Kmetijstvo - agronomija in hortikultura 1. letnik (AGAH)\nIzvaja
 lci: Helena Šircelj\nProstor: Predavalnica Agronomija A1
END:VEVENT
BEGIN:VEVENT
SUMMARY:Botanika kmetijskih rastlin (AH003)\, predavanja (P)
DTSTART;TZID=Europe/Ljubljana:20251215T100000
DTEND;TZID=Europe/Ljubljana:20251215T120000
DTSTAMP:20260420T231513Z
UID:bf-AFLABS-URNIK:srecanje:25809-2025-12-15 10:00:00+01:00
DESCRIPTION:Predmet: Botanika kmetijskih rastlin (AH003)\, predavanja (P)\
 nLetniki: Kmetijstvo - agronomija in hortikultura 1. letnik (AGAH)\nIzvaja
 lci: Helena Šircelj\nProstor: Predavalnica Agronomija A1
END:VEVENT
BEGIN:VEVENT
SUMMARY:Botanika ZO (ZO003)\, predavanja (P)
DTSTART;TZID=Europe/Ljubljana:20251124T140000
DTEND;TZID=Europe/Ljubljana:20251124T160000
DTSTAMP:20260420T231513Z
UID:bf-AFLABS-URNIK:srecanje:25819-2025-11-24 14:00:00+01:00
DESCRIPTION:Predmet: Botanika ZO (ZO003)\, predavanja (P)\nLetniki: Kmetij
 stvo - zootehnika 1. letnik (ASUN)\nIzvajalci: Helena Šircelj\nProstor: P
 redavalnica Agronomija A6
END:VEVENT
BEGIN:VEVENT
SUMMARY:Botanika ZO (ZO003)\, predavanja (P)
DTSTART;TZID=Europe/Ljubljana:20251201T140000
DTEND;TZID=Europe/Ljubljana:20251201T160000
DTSTAMP:20260420T231513Z
UID:bf-AFLABS-URNIK:srecanje:25819-2025-12-01 14:00:00+01:00
DESCRIPTION:Predmet: Botanika ZO (ZO003)\, predavanja (P)\nLetniki: Kmetij
 stvo - zootehnika 1. letnik (ASUN)\nIzvajalci: Helena Šircelj\nProstor: P
 redavalnica Agronomija A6
END:VEVENT
BEGIN:VEVENT
SUMMARY:Botanika ZO (ZO003)\, predavanja (P)
DTSTART;TZID=Europe/Ljubljana:20251208T140000
DTEND;TZID=Europe/Ljubljana:20251208T160000
DTSTAMP:20260420T231513Z
UID:bf-AFLABS-URNIK:srecanje:25819-2025-12-08 14:00:00+01:00
DESCRIPTION:Predmet: Botanika ZO (ZO003)\, predavanja (P)\nLetniki: Kmetij
 stvo - zootehnika 1. letnik (ASUN)\nIzvajalci: Helena Šircelj\nProstor: P
 redavalnica Agronomija A6
END:VEVENT
BEGIN:VEVENT
SUMMARY:Botanika ZO (ZO003)\, predavanja (P)
DTSTART;TZID=Europe/Ljubljana:20251215T140000
DTEND;TZID=Europe/Ljubljana:20251215T160000
DTSTAMP:20260420T231513Z
UID:bf-AFLABS-URNIK:srecanje:25819-2025-12-15 14:00:00+01:00
DESCRIPTION:Predmet: Botanika ZO (ZO003)\, predavanja (P)\nLetniki: Kmetij
 stvo - zootehnika 1. letnik (ASUN)\nIzvajalci: Helena Šircelj\nProstor: P
 redavalnica Agronomija A6
END:VEVENT
BEGIN:VEVENT
SUMMARY:Botanika kmetijskih rastlin (AH003)\, predavanja (P)
DTSTART;TZID=Europe/Ljubljana:20251125T100000
DTEND;TZID=Europe/Ljubljana:20251125T120000
DTSTAMP:20260420T231513Z
UID:bf-AFLABS-URNIK:srecanje:25810-2025-11-25 10:00:00+01:00
DESCRIPTION:Predmet: Botanika kmetijskih rastlin (AH003)\, predavanja (P)\
 nLetniki: Kmetijstvo - agronomija in hortikultura 1. letnik (AGAH)\nIzvaja
 lci: Helena Šircelj\nProstor: Predavalnica Agronomija A1
END:VEVENT
BEGIN:VEVENT
SUMMARY:Botanika kmetijskih rastlin (AH003)\, predavanja (P)
DTSTART;TZID=Europe/Ljubljana:20251202T100000
DTEND;TZID=Europe/Ljubljana:20251202T120000
DTSTAMP:20260420T231513Z
UID:bf-AFLABS-URNIK:srecanje:25810-2025-12-02 10:00:00+01:00
DESCRIPTION:Predmet: Botanika kmetijskih rastlin (AH003)\, predavanja (P)\
 nLetniki: Kmetijstvo - agronomija in hortikultura 1. letnik (AGAH)\nIzvaja
 lci: Helena Šircelj\nProstor: Predavalnica Agronomija A1
END:VEVENT
BEGIN:VEVENT
SUMMARY:Botanika kmetijskih rastlin (AH003)\, predavanja (P)
DTSTART;TZID=Europe/Ljubljana:20251209T100000
DTEND;TZID=Europe/Ljubljana:20251209T120000
DTSTAMP:20260420T231513Z
UID:bf-AFLABS-URNIK:srecanje:25810-2025-12-09 10:00:00+01:00
DESCRIPTION:Predmet: Botanika kmetijskih rastlin (AH003)\, predavanja (P)\
 nLetniki: Kmetijstvo - agronomija in hortikultura 1. letnik (AGAH)\nIzvaja
 lci: Helena Šircelj\nProstor: Predavalnica Agronomija A1
END:VEVENT
BEGIN:VEVENT
SUMMARY:Botanika ZO (ZO003)\, predavanja (P)
DTSTART;TZID=Europe/Ljubljana:20251125T140000
DTEND;TZID=Europe/Ljubljana:20251125T150000
DTSTAMP:20260420T231513Z
UID:bf-AFLABS-URNIK:srecanje:25820-2025-11-25 14:00:00+01:00
DESCRIPTION:Predmet: Botanika ZO (ZO003)\, predavanja (P)\nLetniki: Kmetij
 stvo - zootehnika 1. letnik (ASUN)\nIzvajalci: Helena Šircelj\nProstor: P
 redavalnica Agronomija A2
END:VEVENT
BEGIN:VEVENT
SUMMARY:Botanika ZO (ZO003)\, predavanja (P)
DTSTART;TZID=Europe/Ljubljana:20251202T140000
DTEND;TZID=Europe/Ljubljana:20251202T150000
DTSTAMP:20260420T231513Z
UID:bf-AFLABS-URNIK:srecanje:25820-2025-12-02 14:00:00+01:00
DESCRIPTION:Predmet: Botanika ZO (ZO003)\, predavanja (P)\nLetniki: Kmetij
 stvo - zootehnika 1. letnik (ASUN)\nIzvajalci: Helena Šircelj\nProstor: P
 redavalnica Agronomija A2
END:VEVENT
BEGIN:VEVENT
SUMMARY:Botanika ZO (ZO003)\, predavanja (P)
DTSTART;TZID=Europe/Ljubljana:20251209T140000
DTEND;TZID=Europe/Ljubljana:20251209T150000
DTSTAMP:20260420T231513Z
UID:bf-AFLABS-URNIK:srecanje:25820-2025-12-09 14:00:00+01:00
DESCRIPTION:Predmet: Botanika ZO (ZO003)\, predavanja (P)\nLetniki: Kmetij
 stvo - zootehnika 1. letnik (ASUN)\nIzvajalci: Helena Šircelj\nProstor: P
 redavalnica Agronomija A2
END:VEVENT
BEGIN:VEVENT
SUMMARY:Botanika ZO (ZO003)\, seminarske vaje (SV)
DTSTART;TZID=Europe/Ljubljana:20251125T150000
DTEND;TZID=Europe/Ljubljana:20251125T160000
DTSTAMP:20260420T231513Z
UID:bf-AFLABS-URNIK:srecanje:25821-2025-11-25 15:00:00+01:00
DESCRIPTION:Predmet: Botanika ZO (ZO003)\, seminarske vaje (SV)\nLetniki: 
 Kmetijstvo - zootehnika 1. letnik (ASUN)\nIzvajalci: Helena Šircelj\, Mar
 uša Skubic Gregorin\nProstor: Predavalnica Agronomija A2
END:VEVENT
BEGIN:VEVENT
SUMMARY:Botanika ZO (ZO003)\, seminarske vaje (SV)
DTSTART;TZID=Europe/Ljubljana:20251202T150000
DTEND;TZID=Europe/Ljubljana:20251202T160000
DTSTAMP:20260420T231513Z
UID:bf-AFLABS-URNIK:srecanje:25821-2025-12-02 15:00:00+01:00
DESCRIPTION:Predmet: Botanika ZO (ZO003)\, seminarske vaje (SV)\nLetniki: 
 Kmetijstvo - zootehnika 1. letnik (ASUN)\nIzvajalci: Helena Šircelj\, Mar
 uša Skubic Gregorin\nProstor: Predavalnica Agronomija A2
END:VEVENT
BEGIN:VEVENT
SUMMARY:Botanika ZO (ZO003)\, seminarske vaje (SV)
DTSTART;TZID=Europe/Ljubljana:20251209T150000
DTEND;TZID=Europe/Ljubljana:20251209T160000
DTSTAMP:20260420T231513Z
UID:bf-AFLABS-URNIK:srecanje:25821-2025-12-09 15:00:00+01:00
DESCRIPTION:Predmet: Botanika ZO (ZO003)\, seminarske vaje (SV)\nLetniki: 
 Kmetijstvo - zootehnika 1. letnik (ASUN)\nIzvajalci: Helena Šircelj\, Mar
 uša Skubic Gregorin\nProstor: Predavalnica Agronomija A2
END:VEVENT
BEGIN:VEVENT
SUMMARY:Botanika KA (KA005)\, predavanja (P)
DTSTART;TZID=Europe/Ljubljana:20251126T100000
DTEND;TZID=Europe/Ljubljana:20251126T120000
DTSTAMP:20260420T231513Z
UID:bf-AFLABS-URNIK:srecanje:25805-2025-11-26 10:00:00+01:00
DESCRIPTION:Predmet: Botanika KA (KA005)\, predavanja (P)\nLetniki: Krajin
 ska arhitektura 1. letnik (LAUN)\nIzvajalci: Helena Šircelj\nProstor: Ris
 alnica Krajinska arhitektura 5
END:VEVENT
BEGIN:VEVENT
SUMMARY:Botanika KA (KA005)\, predavanja (P)
DTSTART;TZID=Europe/Ljubljana:20251203T100000
DTEND;TZID=Europe/Ljubljana:20251203T120000
DTSTAMP:20260420T231513Z
UID:bf-AFLABS-URNIK:srecanje:25805-2025-12-03 10:00:00+01:00
DESCRIPTION:Predmet: Botanika KA (KA005)\, predavanja (P)\nLetniki: Krajin
 ska arhitektura 1. letnik (LAUN)\nIzvajalci: Helena Šircelj\nProstor: Ris
 alnica Krajinska arhitektura 5
END:VEVENT
BEGIN:VEVENT
SUMMARY:Botanika KA (KA005)\, predavanja (P)
DTSTART;TZID=Europe/Ljubljana:20251210T100000
DTEND;TZID=Europe/Ljubljana:20251210T120000
DTSTAMP:20260420T231513Z
UID:bf-AFLABS-URNIK:srecanje:25805-2025-12-10 10:00:00+01:00
DESCRIPTION:Predmet: Botanika KA (KA005)\, predavanja (P)\nLetniki: Krajin
 ska arhitektura 1. letnik (LAUN)\nIzvajalci: Helena Šircelj\nProstor: Ris
 alnica Krajinska arhitektura 5
END:VEVENT
BEGIN:VEVENT
SUMMARY:Useful and poisonous wild plants and fungi
DTSTART;TZID=Europe/Ljubljana:20251007T160000
DTEND;TZID=Europe/Ljubljana:20251007T200000
DTSTAMP:20260420T231513Z
UID:bf-AFLABS-URNIK:rezervacija:23706
CATEGORIES:Reservation
COLOR:royalblue
DESCRIPTION:Predmeti: \nLetniki: \nIzvajalci: Helena Šircelj\nProstori: P
 redavalnica Agronomija A10
LOCATION:Department of agronomy\, Predavalnica Agronomija A10
ORGANIZER:Helena Šircelj
X-WR-TIMEZONE:Europe/Ljubljana
END:VEVENT
BEGIN:VEVENT
SUMMARY:Useful and poisonous wild plants and fungi
DTSTART;TZID=Europe/Ljubljana:20251014T160000
DTEND;TZID=Europe/Ljubljana:20251014T200000
DTSTAMP:20260420T231513Z
UID:bf-AFLABS-URNIK:rezervacija:23707
CATEGORIES:Reservation
COLOR:royalblue
DESCRIPTION:Predmeti: \nLetniki: \nIzvajalci: Helena Šircelj\nProstori: P
 redavalnica Agronomija A10
LOCATION:Department of agronomy\, Predavalnica Agronomija A10
ORGANIZER:Helena Šircelj
X-WR-TIMEZONE:Europe/Ljubljana
END:VEVENT
BEGIN:VEVENT
SUMMARY:Useful and poisonous wild plants and fungi
DTSTART;TZID=Europe/Ljubljana:20251021T160000
DTEND;TZID=Europe/Ljubljana:20251021T200000
DTSTAMP:20260420T231513Z
UID:bf-AFLABS-URNIK:rezervacija:23708
CATEGORIES:Reservation
COLOR:royalblue
DESCRIPTION:Predmeti: \nLetniki: \nIzvajalci: Helena Šircelj\nProstori: P
 redavalnica Agronomija A10
LOCATION:Department of agronomy\, Predavalnica Agronomija A10
ORGANIZER:Helena Šircelj
X-WR-TIMEZONE:Europe/Ljubljana
END:VEVENT
BEGIN:VEVENT
SUMMARY:Useful and poisonous wild plants and fungi
DTSTART;TZID=Europe/Ljubljana:20251028T160000
DTEND;TZID=Europe/Ljubljana:20251028T200000
DTSTAMP:20260420T231513Z
UID:bf-AFLABS-URNIK:rezervacija:23709
CATEGORIES:Reservation
COLOR:royalblue
DESCRIPTION:Predmeti: \nLetniki: \nIzvajalci: Helena Šircelj\nProstori: P
 redavalnica Agronomija A10
LOCATION:Department of agronomy\, Predavalnica Agronomija A10
ORGANIZER:Helena Šircelj
X-WR-TIMEZONE:Europe/Ljubljana
END:VEVENT
BEGIN:VEVENT
SUMMARY:Useful and poisonous wild plants and fungi
DTSTART;TZID=Europe/Ljubljana:20251104T160000
DTEND;TZID=Europe/Ljubljana:20251104T200000
DTSTAMP:20260420T231513Z
UID:bf-AFLABS-URNIK:rezervacija:23710
CATEGORIES:Reservation
COLOR:royalblue
DESCRIPTION:Predmeti: \nLetniki: \nIzvajalci: Helena Šircelj\nProstori: P
 redavalnica Agronomija A10
LOCATION:Department of agronomy\, Predavalnica Agronomija A10
ORGANIZER:Helena Šircelj
X-WR-TIMEZONE:Europe/Ljubljana
END:VEVENT
BEGIN:VEVENT
SUMMARY:Useful and poisonous wild plants and fungi
DTSTART;TZID=Europe/Ljubljana:20251111T160000
DTEND;TZID=Europe/Ljubljana:20251111T200000
DTSTAMP:20260420T231513Z
UID:bf-AFLABS-URNIK:rezervacija:23711
CATEGORIES:Reservation
COLOR:royalblue
DESCRIPTION:Predmeti: \nLetniki: \nIzvajalci: Helena Šircelj\nProstori: P
 redavalnica Agronomija A10
LOCATION:Department of agronomy\, Predavalnica Agronomija A10
ORGANIZER:Helena Šircelj
X-WR-TIMEZONE:Europe/Ljubljana
END:VEVENT
BEGIN:VEVENT
SUMMARY:Uporabne in strupene samonikle rastline in glive
DTSTART;TZID=Europe/Ljubljana:20251118T120000
DTEND;TZID=Europe/Ljubljana:20251118T193000
DTSTAMP:20260420T231513Z
UID:bf-AFLABS-URNIK:rezervacija:24599
ATTENDEE:Kmetijstvo - agronomija 2. letnik (AGUN)
ATTENDEE:Kmetijstvo - agronomija 3. letnik (AGA)
ATTENDEE:Kmetijstvo - agronomija 3. letnik (AGUN)
ATTENDEE:Kmetijstvo - hortikultura 3. letnik (AGH)
CATEGORIES:Reservation
COLOR:royalblue
DESCRIPTION:Predmeti: Uporabne in strupene samonikle rastline in glive AG 
 (AG047)\, Uporabne in strupene samonikle rastline in glive AH (AH054)\nLet
 niki: Kmetijstvo - agronomija 2. letnik (AGUN)\, Kmetijstvo - agronomija 3
 . letnik (AGUN)\, Kmetijstvo - agronomija 3. letnik (AGA)\, Kmetijstvo - h
 ortikultura 3. letnik (AGH)\nIzvajalci: Helena Šircelj\nProstori: Predava
 lnica Agronomija A4
LOCATION:Department of agronomy\, Predavalnica Agronomija A4
ORGANIZER:Helena Šircelj
X-WR-TIMEZONE:Europe/Ljubljana
END:VEVENT
BEGIN:VEVENT
SUMMARY:Erasmus izbirni predmet UPWPF
DTSTART;TZID=Europe/Ljubljana:20251119T130000
DTEND;TZID=Europe/Ljubljana:20251119T193000
DTSTAMP:20260420T231513Z
UID:bf-AFLABS-URNIK:rezervacija:24600
CATEGORIES:Reservation
COLOR:royalblue
DESCRIPTION:Predmeti: \nLetniki: \nIzvajalci: Helena Šircelj\nProstori: P
 redavalnica Agronomija A5
LOCATION:Department of agronomy\, Predavalnica Agronomija A5
ORGANIZER:Helena Šircelj
X-WR-TIMEZONE:Europe/Ljubljana
END:VEVENT
BEGIN:VEVENT
SUMMARY:Erasmus izbirni predmet AG-UPWPF
DTSTART;TZID=Europe/Ljubljana:20251127T130000
DTEND;TZID=Europe/Ljubljana:20251127T163000
DTSTAMP:20260420T231513Z
UID:bf-AFLABS-URNIK:rezervacija:24602
CATEGORIES:Reservation
COLOR:royalblue
DESCRIPTION:Predmeti: \nLetniki: \nIzvajalci: Helena Šircelj\nProstori: P
 redavalnica Agronomija A6
LOCATION:Department of agronomy\, Predavalnica Agronomija A6
ORGANIZER:Helena Šircelj
X-WR-TIMEZONE:Europe/Ljubljana
END:VEVENT
END:VCALENDAR
