BEGIN:VCALENDAR
VERSION:2.0
PRODID:-//AFLabs urnik izvoz - bf//aflabs.si//SI
NAME:UL BF Urnik
X-WR-CALNAME:UL BF Urnik
DTSTAMP:20260426T040304Z
REFRESH-INTERVAL:PT1H
SOURCE:https://urniki.bf.uni-lj.si/en/teacher/99/?day=2025-09-29&export=1
URL:https://urniki.bf.uni-lj.si/en/teacher/99/?day=2025-09-29&export=1
X-PUBLISHED-TTL:PT1H
X-WR-TIMEZONE:Europe/Ljubljana
BEGIN:VTIMEZONE
TZID:Europe/Ljubljana
BEGIN:DAYLIGHT
DTSTART:20260329T020000
RDATE:20260329T020000
RDATE:20270328T020000
TZNAME:CEST
TZOFFSETFROM:+0100
TZOFFSETTO:+0200
END:DAYLIGHT
BEGIN:STANDARD
DTSTART:20261025T030000
RDATE:20261025T030000
RDATE:20271031T030000
TZNAME:CET
TZOFFSETFROM:+0200
TZOFFSETTO:+0100
END:STANDARD
END:VTIMEZONE
BEGIN:VEVENT
SUMMARY:Bioinformatika (BI048)\, predavanja in seminarji (P+S)
DTSTART;TZID=Europe/Ljubljana:20251001T130000
DTEND;TZID=Europe/Ljubljana:20251001T140000
DTSTAMP:20260426T040304Z
UID:bf-AFLABS-URNIK:srecanje:24567-2025-10-01 13:00:00+02:00
DESCRIPTION:Predmet: Bioinformatika (BI048)\, predavanja in seminarji (P+S
 )\nLetniki: Biology 3 (BIUN)\nIzvajalci: Matej Butala\, Elena Pazhenkova\,
  Tomaž Skrbinšek\nProstor: Predavalnica Biologija B1
END:VEVENT
BEGIN:VEVENT
SUMMARY:Bioinformatika (BI048)\, predavanja in seminarji (P+S)
DTSTART;TZID=Europe/Ljubljana:20251008T130000
DTEND;TZID=Europe/Ljubljana:20251008T140000
DTSTAMP:20260426T040304Z
UID:bf-AFLABS-URNIK:srecanje:24567-2025-10-08 13:00:00+02:00
DESCRIPTION:Predmet: Bioinformatika (BI048)\, predavanja in seminarji (P+S
 )\nLetniki: Biology 3 (BIUN)\nIzvajalci: Matej Butala\, Elena Pazhenkova\,
  Tomaž Skrbinšek\nProstor: Predavalnica Biologija B1
END:VEVENT
BEGIN:VEVENT
SUMMARY:Bioinformatika (BI048)\, predavanja in seminarji (P+S)
DTSTART;TZID=Europe/Ljubljana:20251015T130000
DTEND;TZID=Europe/Ljubljana:20251015T140000
DTSTAMP:20260426T040304Z
UID:bf-AFLABS-URNIK:srecanje:24567-2025-10-15 13:00:00+02:00
DESCRIPTION:Predmet: Bioinformatika (BI048)\, predavanja in seminarji (P+S
 )\nLetniki: Biology 3 (BIUN)\nIzvajalci: Matej Butala\, Elena Pazhenkova\,
  Tomaž Skrbinšek\nProstor: Predavalnica Biologija B1
END:VEVENT
BEGIN:VEVENT
SUMMARY:Bioinformatika (BI048)\, predavanja in seminarji (P+S)
DTSTART;TZID=Europe/Ljubljana:20251022T130000
DTEND;TZID=Europe/Ljubljana:20251022T140000
DTSTAMP:20260426T040304Z
UID:bf-AFLABS-URNIK:srecanje:24567-2025-10-22 13:00:00+02:00
DESCRIPTION:Predmet: Bioinformatika (BI048)\, predavanja in seminarji (P+S
 )\nLetniki: Biology 3 (BIUN)\nIzvajalci: Matej Butala\, Elena Pazhenkova\,
  Tomaž Skrbinšek\nProstor: Predavalnica Biologija B1
END:VEVENT
BEGIN:VEVENT
SUMMARY:Bioinformatika (BI048)\, predavanja in seminarji (P+S)
DTSTART;TZID=Europe/Ljubljana:20251029T130000
DTEND;TZID=Europe/Ljubljana:20251029T140000
DTSTAMP:20260426T040304Z
UID:bf-AFLABS-URNIK:srecanje:24567-2025-10-29 13:00:00+01:00
DESCRIPTION:Predmet: Bioinformatika (BI048)\, predavanja in seminarji (P+S
 )\nLetniki: Biology 3 (BIUN)\nIzvajalci: Matej Butala\, Elena Pazhenkova\,
  Tomaž Skrbinšek\nProstor: Predavalnica Biologija B1
END:VEVENT
BEGIN:VEVENT
SUMMARY:Mikrob in patogeneza (MB017)\, predavanja (P)
DTSTART;TZID=Europe/Ljubljana:20251001T090000
DTEND;TZID=Europe/Ljubljana:20251001T110000
DTSTAMP:20260426T040304Z
UID:bf-AFLABS-URNIK:srecanje:25132-2025-10-01 09:00:00+02:00
DESCRIPTION:Predmet: Mikrob in patogeneza (MB017)\, predavanja (P)\nLetnik
 i: Mikrobiologija 3. letnik (MBUN)\nIzvajalci: Matej Butala\, Marina Derma
 stia\, Cene Gostinčar\nProstor: Predavalnica Biologija B4
END:VEVENT
BEGIN:VEVENT
SUMMARY:Mikrob in patogeneza (MB017)\, predavanja (P)
DTSTART;TZID=Europe/Ljubljana:20251008T090000
DTEND;TZID=Europe/Ljubljana:20251008T110000
DTSTAMP:20260426T040304Z
UID:bf-AFLABS-URNIK:srecanje:25132-2025-10-08 09:00:00+02:00
DESCRIPTION:Predmet: Mikrob in patogeneza (MB017)\, predavanja (P)\nLetnik
 i: Mikrobiologija 3. letnik (MBUN)\nIzvajalci: Matej Butala\, Marina Derma
 stia\, Cene Gostinčar\nProstor: Predavalnica Biologija B4
END:VEVENT
BEGIN:VEVENT
SUMMARY:Mikrob in patogeneza (MB017)\, predavanja (P)
DTSTART;TZID=Europe/Ljubljana:20251015T090000
DTEND;TZID=Europe/Ljubljana:20251015T110000
DTSTAMP:20260426T040304Z
UID:bf-AFLABS-URNIK:srecanje:25132-2025-10-15 09:00:00+02:00
DESCRIPTION:Predmet: Mikrob in patogeneza (MB017)\, predavanja (P)\nLetnik
 i: Mikrobiologija 3. letnik (MBUN)\nIzvajalci: Matej Butala\, Marina Derma
 stia\, Cene Gostinčar\nProstor: Predavalnica Biologija B4
END:VEVENT
BEGIN:VEVENT
SUMMARY:Mikrob in patogeneza (MB017)\, predavanja (P)
DTSTART;TZID=Europe/Ljubljana:20251022T090000
DTEND;TZID=Europe/Ljubljana:20251022T110000
DTSTAMP:20260426T040304Z
UID:bf-AFLABS-URNIK:srecanje:25132-2025-10-22 09:00:00+02:00
DESCRIPTION:Predmet: Mikrob in patogeneza (MB017)\, predavanja (P)\nLetnik
 i: Mikrobiologija 3. letnik (MBUN)\nIzvajalci: Matej Butala\, Marina Derma
 stia\, Cene Gostinčar\nProstor: Predavalnica Biologija B4
END:VEVENT
BEGIN:VEVENT
SUMMARY:Mikrobna biokemija (MB202)\, predavanja (P)
DTSTART;TZID=Europe/Ljubljana:20251002T130000
DTEND;TZID=Europe/Ljubljana:20251002T140000
DTSTAMP:20260426T040304Z
UID:bf-AFLABS-URNIK:srecanje:29491-2025-10-02 13:00:00+02:00
DESCRIPTION:Predmet: Mikrobna biokemija (MB202)\, predavanja (P)\nLetniki:
  Mikrobiologija 1. letnik (MMB)\nIzvajalci: Matej Butala\nProstor: Predava
 lnica Biologija B4
END:VEVENT
BEGIN:VEVENT
SUMMARY:Mikrobna biokemija (MB202)\, predavanja (P)
DTSTART;TZID=Europe/Ljubljana:20251009T130000
DTEND;TZID=Europe/Ljubljana:20251009T140000
DTSTAMP:20260426T040304Z
UID:bf-AFLABS-URNIK:srecanje:29491-2025-10-09 13:00:00+02:00
DESCRIPTION:Predmet: Mikrobna biokemija (MB202)\, predavanja (P)\nLetniki:
  Mikrobiologija 1. letnik (MMB)\nIzvajalci: Matej Butala\nProstor: Predava
 lnica Biologija B4
END:VEVENT
BEGIN:VEVENT
SUMMARY:Mikrobna biokemija (MB202)\, predavanja (P)
DTSTART;TZID=Europe/Ljubljana:20251016T130000
DTEND;TZID=Europe/Ljubljana:20251016T140000
DTSTAMP:20260426T040304Z
UID:bf-AFLABS-URNIK:srecanje:29491-2025-10-16 13:00:00+02:00
DESCRIPTION:Predmet: Mikrobna biokemija (MB202)\, predavanja (P)\nLetniki:
  Mikrobiologija 1. letnik (MMB)\nIzvajalci: Matej Butala\nProstor: Predava
 lnica Biologija B4
END:VEVENT
BEGIN:VEVENT
SUMMARY:Mikrobna biokemija (MB202)\, predavanja (P)
DTSTART;TZID=Europe/Ljubljana:20251023T130000
DTEND;TZID=Europe/Ljubljana:20251023T140000
DTSTAMP:20260426T040304Z
UID:bf-AFLABS-URNIK:srecanje:29491-2025-10-23 13:00:00+02:00
DESCRIPTION:Predmet: Mikrobna biokemija (MB202)\, predavanja (P)\nLetniki:
  Mikrobiologija 1. letnik (MMB)\nIzvajalci: Matej Butala\nProstor: Predava
 lnica Biologija B4
END:VEVENT
BEGIN:VEVENT
SUMMARY:Mikrobna biokemija (MB202)\, predavanja (P)
DTSTART;TZID=Europe/Ljubljana:20251030T130000
DTEND;TZID=Europe/Ljubljana:20251030T140000
DTSTAMP:20260426T040304Z
UID:bf-AFLABS-URNIK:srecanje:29491-2025-10-30 13:00:00+01:00
DESCRIPTION:Predmet: Mikrobna biokemija (MB202)\, predavanja (P)\nLetniki:
  Mikrobiologija 1. letnik (MMB)\nIzvajalci: Matej Butala\nProstor: Predava
 lnica Biologija B4
END:VEVENT
BEGIN:VEVENT
SUMMARY:Mikrobna biokemija (MB202)\, predavanja (P)
DTSTART;TZID=Europe/Ljubljana:20251002T120000
DTEND;TZID=Europe/Ljubljana:20251002T130000
DTSTAMP:20260426T040304Z
UID:bf-AFLABS-URNIK:srecanje:29492-2025-10-02 12:00:00+02:00
DESCRIPTION:Predmet: Mikrobna biokemija (MB202)\, predavanja (P)\nLetniki:
  Mikrobiologija 1. letnik (MMB)\nIzvajalci: Matej Butala\nProstor: Predava
 lnica Biologija B3
END:VEVENT
BEGIN:VEVENT
SUMMARY:Mikrobna biokemija (MB202)\, predavanja (P)
DTSTART;TZID=Europe/Ljubljana:20251009T120000
DTEND;TZID=Europe/Ljubljana:20251009T130000
DTSTAMP:20260426T040304Z
UID:bf-AFLABS-URNIK:srecanje:29492-2025-10-09 12:00:00+02:00
DESCRIPTION:Predmet: Mikrobna biokemija (MB202)\, predavanja (P)\nLetniki:
  Mikrobiologija 1. letnik (MMB)\nIzvajalci: Matej Butala\nProstor: Predava
 lnica Biologija B3
END:VEVENT
BEGIN:VEVENT
SUMMARY:Mikrobna biokemija (MB202)\, predavanja (P)
DTSTART;TZID=Europe/Ljubljana:20251016T120000
DTEND;TZID=Europe/Ljubljana:20251016T130000
DTSTAMP:20260426T040304Z
UID:bf-AFLABS-URNIK:srecanje:29492-2025-10-16 12:00:00+02:00
DESCRIPTION:Predmet: Mikrobna biokemija (MB202)\, predavanja (P)\nLetniki:
  Mikrobiologija 1. letnik (MMB)\nIzvajalci: Matej Butala\nProstor: Predava
 lnica Biologija B3
END:VEVENT
BEGIN:VEVENT
SUMMARY:Mikrobna biokemija (MB202)\, predavanja (P)
DTSTART;TZID=Europe/Ljubljana:20251023T120000
DTEND;TZID=Europe/Ljubljana:20251023T130000
DTSTAMP:20260426T040304Z
UID:bf-AFLABS-URNIK:srecanje:29492-2025-10-23 12:00:00+02:00
DESCRIPTION:Predmet: Mikrobna biokemija (MB202)\, predavanja (P)\nLetniki:
  Mikrobiologija 1. letnik (MMB)\nIzvajalci: Matej Butala\nProstor: Predava
 lnica Biologija B3
END:VEVENT
BEGIN:VEVENT
SUMMARY:Mikrobna biokemija (MB202)\, predavanja (P)
DTSTART;TZID=Europe/Ljubljana:20251030T120000
DTEND;TZID=Europe/Ljubljana:20251030T130000
DTSTAMP:20260426T040304Z
UID:bf-AFLABS-URNIK:srecanje:29492-2025-10-30 12:00:00+01:00
DESCRIPTION:Predmet: Mikrobna biokemija (MB202)\, predavanja (P)\nLetniki:
  Mikrobiologija 1. letnik (MMB)\nIzvajalci: Matej Butala\nProstor: Predava
 lnica Biologija B3
END:VEVENT
BEGIN:VEVENT
SUMMARY:Mikrob in patogeneza (MB017)\, predavanja (P)
DTSTART;TZID=Europe/Ljubljana:20251006T120000
DTEND;TZID=Europe/Ljubljana:20251006T140000
DTSTAMP:20260426T040304Z
UID:bf-AFLABS-URNIK:srecanje:25131-2025-10-06 12:00:00+02:00
DESCRIPTION:Predmet: Mikrob in patogeneza (MB017)\, predavanja (P)\nLetnik
 i: Mikrobiologija 3. letnik (MBUN)\nIzvajalci: Matej Butala\, Marina Derma
 stia\, Cene Gostinčar\nProstor: Predavalnica Biologija B1
END:VEVENT
BEGIN:VEVENT
SUMMARY:Mikrob in patogeneza (MB017)\, predavanja (P)
DTSTART;TZID=Europe/Ljubljana:20251013T120000
DTEND;TZID=Europe/Ljubljana:20251013T140000
DTSTAMP:20260426T040304Z
UID:bf-AFLABS-URNIK:srecanje:25131-2025-10-13 12:00:00+02:00
DESCRIPTION:Predmet: Mikrob in patogeneza (MB017)\, predavanja (P)\nLetnik
 i: Mikrobiologija 3. letnik (MBUN)\nIzvajalci: Matej Butala\, Marina Derma
 stia\, Cene Gostinčar\nProstor: Predavalnica Biologija B1
END:VEVENT
BEGIN:VEVENT
SUMMARY:Mikrob in patogeneza (MB017)\, predavanja (P)
DTSTART;TZID=Europe/Ljubljana:20251020T120000
DTEND;TZID=Europe/Ljubljana:20251020T140000
DTSTAMP:20260426T040304Z
UID:bf-AFLABS-URNIK:srecanje:25131-2025-10-20 12:00:00+02:00
DESCRIPTION:Predmet: Mikrob in patogeneza (MB017)\, predavanja (P)\nLetnik
 i: Mikrobiologija 3. letnik (MBUN)\nIzvajalci: Matej Butala\, Marina Derma
 stia\, Cene Gostinčar\nProstor: Predavalnica Biologija B1
END:VEVENT
BEGIN:VEVENT
SUMMARY:Mikrob in patogeneza (MB017)\, predavanja (P)
DTSTART;TZID=Europe/Ljubljana:20251027T120000
DTEND;TZID=Europe/Ljubljana:20251027T140000
DTSTAMP:20260426T040304Z
UID:bf-AFLABS-URNIK:srecanje:25131-2025-10-27 12:00:00+01:00
DESCRIPTION:Predmet: Mikrob in patogeneza (MB017)\, predavanja (P)\nLetnik
 i: Mikrobiologija 3. letnik (MBUN)\nIzvajalci: Matej Butala\, Marina Derma
 stia\, Cene Gostinčar\nProstor: Predavalnica Biologija B1
END:VEVENT
BEGIN:VEVENT
SUMMARY:Mikrob in patogeneza (MB017)\, predavanja (P)
DTSTART;TZID=Europe/Ljubljana:20251103T120000
DTEND;TZID=Europe/Ljubljana:20251103T140000
DTSTAMP:20260426T040304Z
UID:bf-AFLABS-URNIK:srecanje:25131-2025-11-03 12:00:00+01:00
DESCRIPTION:Predmet: Mikrob in patogeneza (MB017)\, predavanja (P)\nLetnik
 i: Mikrobiologija 3. letnik (MBUN)\nIzvajalci: Matej Butala\, Marina Derma
 stia\, Cene Gostinčar\nProstor: Predavalnica Biologija B1
END:VEVENT
BEGIN:VEVENT
SUMMARY:Bakteriofagi (BT243)\, predavanja (P)
DTSTART;TZID=Europe/Ljubljana:20251007T160000
DTEND;TZID=Europe/Ljubljana:20251007T180000
DTSTAMP:20260426T040304Z
UID:bf-AFLABS-URNIK:srecanje:24557-2025-10-07 16:00:00+02:00
DESCRIPTION:Predmet: Bakteriofagi (BT243)\, predavanja (P)\nLetniki: Biote
 hnologija 1. letnik (MBT)\, Biotehnologija 2. letnik (MBT)\nIzvajalci: Mat
 ej Butala\, Aleš Podgornik\nProstor: Predavalnica Biologija B3
END:VEVENT
BEGIN:VEVENT
SUMMARY:Bakteriofagi (BT243)\, predavanja (P)
DTSTART;TZID=Europe/Ljubljana:20251014T160000
DTEND;TZID=Europe/Ljubljana:20251014T180000
DTSTAMP:20260426T040304Z
UID:bf-AFLABS-URNIK:srecanje:24557-2025-10-14 16:00:00+02:00
DESCRIPTION:Predmet: Bakteriofagi (BT243)\, predavanja (P)\nLetniki: Biote
 hnologija 1. letnik (MBT)\, Biotehnologija 2. letnik (MBT)\nIzvajalci: Mat
 ej Butala\, Aleš Podgornik\nProstor: Predavalnica Biologija B3
END:VEVENT
BEGIN:VEVENT
SUMMARY:Bakteriofagi (BT243)\, predavanja (P)
DTSTART;TZID=Europe/Ljubljana:20251021T160000
DTEND;TZID=Europe/Ljubljana:20251021T180000
DTSTAMP:20260426T040304Z
UID:bf-AFLABS-URNIK:srecanje:24557-2025-10-21 16:00:00+02:00
DESCRIPTION:Predmet: Bakteriofagi (BT243)\, predavanja (P)\nLetniki: Biote
 hnologija 1. letnik (MBT)\, Biotehnologija 2. letnik (MBT)\nIzvajalci: Mat
 ej Butala\, Aleš Podgornik\nProstor: Predavalnica Biologija B3
END:VEVENT
BEGIN:VEVENT
SUMMARY:Bakteriofagi (BT243)\, predavanja (P)
DTSTART;TZID=Europe/Ljubljana:20251028T160000
DTEND;TZID=Europe/Ljubljana:20251028T180000
DTSTAMP:20260426T040304Z
UID:bf-AFLABS-URNIK:srecanje:24557-2025-10-28 16:00:00+01:00
DESCRIPTION:Predmet: Bakteriofagi (BT243)\, predavanja (P)\nLetniki: Biote
 hnologija 1. letnik (MBT)\, Biotehnologija 2. letnik (MBT)\nIzvajalci: Mat
 ej Butala\, Aleš Podgornik\nProstor: Predavalnica Biologija B3
END:VEVENT
BEGIN:VEVENT
SUMMARY:Mikrobna biokemija (MB202)\, seminarske vaje (SV)
DTSTART;TZID=Europe/Ljubljana:20251007T120000
DTEND;TZID=Europe/Ljubljana:20251007T140000
DTSTAMP:20260426T040304Z
UID:bf-AFLABS-URNIK:srecanje:25149-2025-10-07 12:00:00+02:00
DESCRIPTION:Predmet: Mikrobna biokemija (MB202)\, seminarske vaje (SV)\nLe
 tniki: Mikrobiologija 1. letnik (MMB)\nIzvajalci: Matej Butala\nProstor: P
 redavalnica Biologija B4
END:VEVENT
BEGIN:VEVENT
SUMMARY:Mikrobna biokemija (MB202)\, seminarske vaje (SV)
DTSTART;TZID=Europe/Ljubljana:20251014T120000
DTEND;TZID=Europe/Ljubljana:20251014T140000
DTSTAMP:20260426T040304Z
UID:bf-AFLABS-URNIK:srecanje:25149-2025-10-14 12:00:00+02:00
DESCRIPTION:Predmet: Mikrobna biokemija (MB202)\, seminarske vaje (SV)\nLe
 tniki: Mikrobiologija 1. letnik (MMB)\nIzvajalci: Matej Butala\nProstor: P
 redavalnica Biologija B4
END:VEVENT
BEGIN:VEVENT
SUMMARY:Mikrobna biokemija (MB202)\, seminarske vaje (SV)
DTSTART;TZID=Europe/Ljubljana:20251021T120000
DTEND;TZID=Europe/Ljubljana:20251021T140000
DTSTAMP:20260426T040304Z
UID:bf-AFLABS-URNIK:srecanje:25149-2025-10-21 12:00:00+02:00
DESCRIPTION:Predmet: Mikrobna biokemija (MB202)\, seminarske vaje (SV)\nLe
 tniki: Mikrobiologija 1. letnik (MMB)\nIzvajalci: Matej Butala\nProstor: P
 redavalnica Biologija B4
END:VEVENT
BEGIN:VEVENT
SUMMARY:Mikrobna biokemija (MB202)\, seminarske vaje (SV)
DTSTART;TZID=Europe/Ljubljana:20251028T120000
DTEND;TZID=Europe/Ljubljana:20251028T140000
DTSTAMP:20260426T040304Z
UID:bf-AFLABS-URNIK:srecanje:25149-2025-10-28 12:00:00+01:00
DESCRIPTION:Predmet: Mikrobna biokemija (MB202)\, seminarske vaje (SV)\nLe
 tniki: Mikrobiologija 1. letnik (MMB)\nIzvajalci: Matej Butala\nProstor: P
 redavalnica Biologija B4
END:VEVENT
BEGIN:VEVENT
SUMMARY:Mikrobna biokemija
DTSTART;TZID=Europe/Ljubljana:20251002T120000
DTEND;TZID=Europe/Ljubljana:20251002T130000
DTSTAMP:20260426T040304Z
UID:bf-AFLABS-URNIK:rezervacija:23816
ATTENDEE:Mikrobiologija 1. letnik (MMB)
CATEGORIES:Reservation
COLOR:royalblue
DESCRIPTION:Predmeti: Mikrobna biokemija (MB202)\nLetniki: Mikrobiologija 
 1. letnik (MMB)\nIzvajalci: Matej Butala\nProstori: Predavalnica Biologija
  B3
LOCATION:Department of biology\, Predavalnica Biologija B3
ORGANIZER:Matej Butala
X-WR-TIMEZONE:Europe/Ljubljana
END:VEVENT
END:VCALENDAR
