BEGIN:VCALENDAR
VERSION:2.0
PRODID:-//AFLabs urnik izvoz - bf//aflabs.si//SI
NAME:UL BF Urnik
X-WR-CALNAME:UL BF Urnik
DTSTAMP:20260421T205753Z
REFRESH-INTERVAL:PT1H
SOURCE:https://urniki.bf.uni-lj.si/en/teacher/93/?day=2025-09-08&export=1
URL:https://urniki.bf.uni-lj.si/en/teacher/93/?day=2025-09-08&export=1
X-PUBLISHED-TTL:PT1H
X-WR-TIMEZONE:Europe/Ljubljana
BEGIN:VTIMEZONE
TZID:Europe/Ljubljana
BEGIN:DAYLIGHT
DTSTART:20260329T020000
RDATE:20260329T020000
RDATE:20270328T020000
TZNAME:CEST
TZOFFSETFROM:+0100
TZOFFSETTO:+0200
END:DAYLIGHT
BEGIN:STANDARD
DTSTART:20261025T030000
RDATE:20261025T030000
RDATE:20271031T030000
TZNAME:CET
TZOFFSETFROM:+0200
TZOFFSETTO:+0100
END:STANDARD
END:VTIMEZONE
BEGIN:VEVENT
SUMMARY:Naravovarstvena praksa (BI037)\, predavanja in seminarji (P+S)
DTSTART;TZID=Europe/Ljubljana:20251001T170000
DTEND;TZID=Europe/Ljubljana:20251001T190000
DTSTAMP:20260421T205753Z
UID:bf-AFLABS-URNIK:srecanje:25191-2025-10-01 17:00:00+02:00
DESCRIPTION:Predmet: Naravovarstvena praksa (BI037)\, predavanja in semina
 rji (P+S)\nLetniki: Biology 2 (BIUN)\, Biology 3 (BIUN)\nIzvajalci: Martin
 a Bačič\, Ivan Kos\, Simona Strgulc Krajšek\, Peter Trontelj\, Rudi Ver
 ovnik\nProstor: Predavalnica Biologija B5
END:VEVENT
BEGIN:VEVENT
SUMMARY:Naravovarstvena praksa (BI037)\, predavanja in seminarji (P+S)
DTSTART;TZID=Europe/Ljubljana:20251008T170000
DTEND;TZID=Europe/Ljubljana:20251008T190000
DTSTAMP:20260421T205753Z
UID:bf-AFLABS-URNIK:srecanje:25191-2025-10-08 17:00:00+02:00
DESCRIPTION:Predmet: Naravovarstvena praksa (BI037)\, predavanja in semina
 rji (P+S)\nLetniki: Biology 2 (BIUN)\, Biology 3 (BIUN)\nIzvajalci: Martin
 a Bačič\, Ivan Kos\, Simona Strgulc Krajšek\, Peter Trontelj\, Rudi Ver
 ovnik\nProstor: Predavalnica Biologija B5
END:VEVENT
BEGIN:VEVENT
SUMMARY:Zoologija nevretenčarjev (BI014)\, predavanja in seminarji (P+S)
DTSTART;TZID=Europe/Ljubljana:20251001T150000
DTEND;TZID=Europe/Ljubljana:20251001T170000
DTSTAMP:20260421T205753Z
UID:bf-AFLABS-URNIK:srecanje:25654-2025-10-01 15:00:00+02:00
DESCRIPTION:Predmet: Zoologija nevretenčarjev (BI014)\, predavanja in sem
 inarji (P+S)\nLetniki: Biology 2 (BIUN)\nIzvajalci: Rudi Verovnik\nProstor
 : Predavalnica Biologija B5
END:VEVENT
BEGIN:VEVENT
SUMMARY:Zoologija nevretenčarjev (BI014)\, predavanja in seminarji (P+S)
DTSTART;TZID=Europe/Ljubljana:20251008T150000
DTEND;TZID=Europe/Ljubljana:20251008T170000
DTSTAMP:20260421T205753Z
UID:bf-AFLABS-URNIK:srecanje:25654-2025-10-08 15:00:00+02:00
DESCRIPTION:Predmet: Zoologija nevretenčarjev (BI014)\, predavanja in sem
 inarji (P+S)\nLetniki: Biology 2 (BIUN)\nIzvajalci: Rudi Verovnik\nProstor
 : Predavalnica Biologija B5
END:VEVENT
BEGIN:VEVENT
SUMMARY:Zoologija nevretenčarjev (BI014)\, predavanja in seminarji (P+S)
DTSTART;TZID=Europe/Ljubljana:20251002T120000
DTEND;TZID=Europe/Ljubljana:20251002T140000
DTSTAMP:20260421T205753Z
UID:bf-AFLABS-URNIK:srecanje:25655-2025-10-02 12:00:00+02:00
DESCRIPTION:Predmet: Zoologija nevretenčarjev (BI014)\, predavanja in sem
 inarji (P+S)\nLetniki: Biology 2 (BIUN)\nIzvajalci: Rudi Verovnik\nProstor
 : Predavalnica Biologija B5
END:VEVENT
BEGIN:VEVENT
SUMMARY:Zoologija nevretenčarjev (BI014)\, predavanja in seminarji (P+S)
DTSTART;TZID=Europe/Ljubljana:20251009T120000
DTEND;TZID=Europe/Ljubljana:20251009T140000
DTSTAMP:20260421T205753Z
UID:bf-AFLABS-URNIK:srecanje:25655-2025-10-09 12:00:00+02:00
DESCRIPTION:Predmet: Zoologija nevretenčarjev (BI014)\, predavanja in sem
 inarji (P+S)\nLetniki: Biology 2 (BIUN)\nIzvajalci: Rudi Verovnik\nProstor
 : Predavalnica Biologija B5
END:VEVENT
BEGIN:VEVENT
SUMMARY:Naravovarstvena praksa (BI037)\, predavanja in seminarji (P+S)
DTSTART;TZID=Europe/Ljubljana:20251007T160000
DTEND;TZID=Europe/Ljubljana:20251007T180000
DTSTAMP:20260421T205753Z
UID:bf-AFLABS-URNIK:srecanje:25190-2025-10-07 16:00:00+02:00
DESCRIPTION:Predmet: Naravovarstvena praksa (BI037)\, predavanja in semina
 rji (P+S)\nLetniki: Biology 2 (BIUN)\, Biology 3 (BIUN)\nIzvajalci: Martin
 a Bačič\, Ivan Kos\, Simona Strgulc Krajšek\, Peter Trontelj\, Rudi Ver
 ovnik\, Maja Zagmajster\nProstor: Predavalnica Biologija B4
END:VEVENT
END:VCALENDAR
