BEGIN:VCALENDAR
VERSION:2.0
PRODID:-//AFLabs urnik izvoz - bf//aflabs.si//SI
NAME:UL BF Urnik
X-WR-CALNAME:UL BF Urnik
DTSTAMP:20260422T212427Z
REFRESH-INTERVAL:PT1H
SOURCE:https://urniki.bf.uni-lj.si/en/teacher/92/?day=2025-09-01&export=1
URL:https://urniki.bf.uni-lj.si/en/teacher/92/?day=2025-09-01&export=1
X-PUBLISHED-TTL:PT1H
X-WR-TIMEZONE:Europe/Ljubljana
BEGIN:VTIMEZONE
TZID:Europe/Ljubljana
BEGIN:DAYLIGHT
DTSTART:20260329T020000
RDATE:20260329T020000
RDATE:20270328T020000
TZNAME:CEST
TZOFFSETFROM:+0100
TZOFFSETTO:+0200
END:DAYLIGHT
BEGIN:STANDARD
DTSTART:20261025T030000
RDATE:20261025T030000
RDATE:20271031T030000
TZNAME:CET
TZOFFSETFROM:+0200
TZOFFSETTO:+0100
END:STANDARD
END:VTIMEZONE
BEGIN:VEVENT
SUMMARY:Genetika evkariontov (BI331)\, laboratorijske vaje (LV)\, [:4]
DTSTART;TZID=Europe/Ljubljana:20251002T160000
DTEND;TZID=Europe/Ljubljana:20251002T190000
DTSTAMP:20260422T212427Z
UID:bf-AFLABS-URNIK:srecanje:29069-2025-10-02 16:00:00+02:00
DESCRIPTION:Predmet: Genetika evkariontov (BI331)\, laboratorijske vaje (L
 V)\, [:4]\nLetniki: Biološko izobraževanje 2. letnik (MBE)\, Molekulska 
 in funkcionalna biologija 1. letnik (MMFB)\nIzvajalci: Martina Turk\nProst
 or: Biološka vajalnica BV13
END:VEVENT
BEGIN:VEVENT
SUMMARY:Genetika evkariontov (BI331)\, laboratorijske vaje (LV)\, [:4]
DTSTART;TZID=Europe/Ljubljana:20251002T160000
DTEND;TZID=Europe/Ljubljana:20251002T190000
DTSTAMP:20260422T212427Z
UID:bf-AFLABS-URNIK:srecanje:29070-2025-10-02 16:00:00+02:00
DESCRIPTION:Predmet: Genetika evkariontov (BI331)\, laboratorijske vaje (L
 V)\, [:4]\nLetniki: Biološko izobraževanje 2. letnik (MBE)\, Molekulska 
 in funkcionalna biologija 1. letnik (MMFB)\nIzvajalci: Martina Turk\nProst
 or: Biološka vajalnica BV8\, Mikrobiološka mala vajalnica
END:VEVENT
BEGIN:VEVENT
SUMMARY:Biologija arhej (BI219)\, predavanja in seminarji (P+S)
DTSTART;TZID=Europe/Ljubljana:20251006T160000
DTEND;TZID=Europe/Ljubljana:20251006T180000
DTSTAMP:20260422T212427Z
UID:bf-AFLABS-URNIK:srecanje:24578-2025-10-06 16:00:00+02:00
DESCRIPTION:Predmet: Biologija arhej (BI219)\, predavanja in seminarji (P+
 S)\nLetniki: Biološko izobraževanje 1. letnik (MBE)\, Ekologija in biodi
 verziteta 2. letnik (MEB)\, Ekologija in biodiverziteta 1. letnik (MEB)\, 
 Molekulska in funkcionalna biologija 1. letnik (MMFB)\, Molekulska in funk
 cionalna biologija 2. letnik (MMFB)\nIzvajalci: Martina Turk\nProstor: Pre
 davalnica Biologija B2
END:VEVENT
BEGIN:VEVENT
SUMMARY:Biologija arhej (BI219)\, laboratorijske vaje (LV)
DTSTART;TZID=Europe/Ljubljana:20251006T160000
DTEND;TZID=Europe/Ljubljana:20251006T180000
DTSTAMP:20260422T212427Z
UID:bf-AFLABS-URNIK:srecanje:24577-2025-10-06 16:00:00+02:00
DESCRIPTION:Predmet: Biologija arhej (BI219)\, laboratorijske vaje (LV)\nL
 etniki: Biološko izobraževanje 1. letnik (MBE)\, Ekologija in biodiverzi
 teta 2. letnik (MEB)\, Ekologija in biodiverziteta 1. letnik (MEB)\, Molek
 ulska in funkcionalna biologija 1. letnik (MMFB)\, Molekulska in funkciona
 lna biologija 2. letnik (MMFB)\nIzvajalci: Martina Turk\nProstor: Biološk
 a vajalnica BV9\, Mikrobiološka vajalnica
END:VEVENT
END:VCALENDAR
