BEGIN:VCALENDAR
VERSION:2.0
PRODID:-//AFLabs urnik izvoz - bf//aflabs.si//SI
NAME:UL BF Urnik
X-WR-CALNAME:UL BF Urnik
DTSTAMP:20260423T060605Z
REFRESH-INTERVAL:PT1H
SOURCE:https://urniki.bf.uni-lj.si/en/teacher/82/?day=2025-09-08&export=1
URL:https://urniki.bf.uni-lj.si/en/teacher/82/?day=2025-09-08&export=1
X-PUBLISHED-TTL:PT1H
X-WR-TIMEZONE:Europe/Ljubljana
BEGIN:VTIMEZONE
TZID:Europe/Ljubljana
BEGIN:DAYLIGHT
DTSTART:20260329T020000
RDATE:20260329T020000
RDATE:20270328T020000
TZNAME:CEST
TZOFFSETFROM:+0100
TZOFFSETTO:+0200
END:DAYLIGHT
BEGIN:STANDARD
DTSTART:20261025T030000
RDATE:20261025T030000
RDATE:20271031T030000
TZNAME:CET
TZOFFSETFROM:+0200
TZOFFSETTO:+0100
END:STANDARD
END:VTIMEZONE
BEGIN:VEVENT
SUMMARY:Biologija BT (BT001)\, laboratorijske vaje (LV)\, [:2]
DTSTART;TZID=Europe/Ljubljana:20251001T143000
DTEND;TZID=Europe/Ljubljana:20251001T173000
DTSTAMP:20260423T060605Z
UID:bf-AFLABS-URNIK:srecanje:24580-2025-10-01 14:30:00+02:00
DESCRIPTION:Predmet: Biologija BT (BT001)\, laboratorijske vaje (LV)\, [:2
 ]\nLetniki: Biotehnologija 1. letnik (BTUN)\nIzvajalci: Aleš Kladnik\, Po
 lona Mrak\nProstor: Biološka vajalnica BV3\, Botanična vajalnica
END:VEVENT
BEGIN:VEVENT
SUMMARY:Biologija BT (BT001)\, laboratorijske vaje (LV)\, [:2]
DTSTART;TZID=Europe/Ljubljana:20251008T143000
DTEND;TZID=Europe/Ljubljana:20251008T173000
DTSTAMP:20260423T060605Z
UID:bf-AFLABS-URNIK:srecanje:24580-2025-10-08 14:30:00+02:00
DESCRIPTION:Predmet: Biologija BT (BT001)\, laboratorijske vaje (LV)\, [:2
 ]\nLetniki: Biotehnologija 1. letnik (BTUN)\nIzvajalci: Aleš Kladnik\, Po
 lona Mrak\nProstor: Biološka vajalnica BV3\, Botanična vajalnica
END:VEVENT
BEGIN:VEVENT
SUMMARY:Biologija celice in histologija (BI002)\, laboratorijske vaje (LV)
 \, [:1]
DTSTART;TZID=Europe/Ljubljana:20251001T110000
DTEND;TZID=Europe/Ljubljana:20251001T140000
DTSTAMP:20260423T060605Z
UID:bf-AFLABS-URNIK:srecanje:24588-2025-10-01 11:00:00+02:00
DESCRIPTION:Predmet: Biologija celice in histologija (BI002)\, laboratorij
 ske vaje (LV)\, [:1]\nLetniki: Biology 1 (BIUN)\nIzvajalci: Polona Mrak\, 
 Miloš Vittori\, Primož Zidar\nProstor: Biološka vajalnica BV10\, Zoolo
 ška vajalnica
END:VEVENT
BEGIN:VEVENT
SUMMARY:Biologija celice in histologija (BI002)\, laboratorijske vaje (LV)
 \, [:1]
DTSTART;TZID=Europe/Ljubljana:20251008T110000
DTEND;TZID=Europe/Ljubljana:20251008T140000
DTSTAMP:20260423T060605Z
UID:bf-AFLABS-URNIK:srecanje:24588-2025-10-08 11:00:00+02:00
DESCRIPTION:Predmet: Biologija celice in histologija (BI002)\, laboratorij
 ske vaje (LV)\, [:1]\nLetniki: Biology 1 (BIUN)\nIzvajalci: Polona Mrak\, 
 Miloš Vittori\, Primož Zidar\nProstor: Biološka vajalnica BV10\, Zoolo
 ška vajalnica
END:VEVENT
BEGIN:VEVENT
SUMMARY:Biologija celice in histologija (BI002)\, laboratorijske vaje (LV)
 \, [:3]
DTSTART;TZID=Europe/Ljubljana:20251001T140000
DTEND;TZID=Europe/Ljubljana:20251001T170000
DTSTAMP:20260423T060605Z
UID:bf-AFLABS-URNIK:srecanje:24590-2025-10-01 14:00:00+02:00
DESCRIPTION:Predmet: Biologija celice in histologija (BI002)\, laboratorij
 ske vaje (LV)\, [:3]\nLetniki: Biology 1 (BIUN)\nIzvajalci: Polona Mrak\, 
 Miloš Vittori\, Primož Zidar\nProstor: Biološka vajalnica BV10\, Zoolo
 ška vajalnica
END:VEVENT
BEGIN:VEVENT
SUMMARY:Biologija celice in histologija (BI002)\, laboratorijske vaje (LV)
 \, [:3]
DTSTART;TZID=Europe/Ljubljana:20251008T140000
DTEND;TZID=Europe/Ljubljana:20251008T170000
DTSTAMP:20260423T060605Z
UID:bf-AFLABS-URNIK:srecanje:24590-2025-10-08 14:00:00+02:00
DESCRIPTION:Predmet: Biologija celice in histologija (BI002)\, laboratorij
 ske vaje (LV)\, [:3]\nLetniki: Biology 1 (BIUN)\nIzvajalci: Polona Mrak\, 
 Miloš Vittori\, Primož Zidar\nProstor: Biološka vajalnica BV10\, Zoolo
 ška vajalnica
END:VEVENT
BEGIN:VEVENT
SUMMARY:Embriologija (BI332)\, drugo delo (DD)
DTSTART;TZID=Europe/Ljubljana:20251002T080000
DTEND;TZID=Europe/Ljubljana:20251002T100000
DTSTAMP:20260423T060605Z
UID:bf-AFLABS-URNIK:srecanje:24728-2025-10-02 08:00:00+02:00
DESCRIPTION:Predmet: Embriologija (BI332)\, drugo delo (DD)\nLetniki: Mole
 kulska in funkcionalna biologija 1. letnik (MMFB)\nIzvajalci: Lilijana Biz
 jak-Mali\, Polona Mrak\nProstor: Mikroskopirnica (Biologija)
END:VEVENT
BEGIN:VEVENT
SUMMARY:Embriologija (BI332)\, drugo delo (DD)
DTSTART;TZID=Europe/Ljubljana:20251009T080000
DTEND;TZID=Europe/Ljubljana:20251009T100000
DTSTAMP:20260423T060605Z
UID:bf-AFLABS-URNIK:srecanje:24728-2025-10-09 08:00:00+02:00
DESCRIPTION:Predmet: Embriologija (BI332)\, drugo delo (DD)\nLetniki: Mole
 kulska in funkcionalna biologija 1. letnik (MMFB)\nIzvajalci: Lilijana Biz
 jak-Mali\, Polona Mrak\nProstor: Mikroskopirnica (Biologija)
END:VEVENT
BEGIN:VEVENT
SUMMARY:Embriologija (BI332)\, laboratorijske vaje (LV)\, [:1]
DTSTART;TZID=Europe/Ljubljana:20251002T100000
DTEND;TZID=Europe/Ljubljana:20251002T130000
DTSTAMP:20260423T060605Z
UID:bf-AFLABS-URNIK:srecanje:24729-2025-10-02 10:00:00+02:00
DESCRIPTION:Predmet: Embriologija (BI332)\, laboratorijske vaje (LV)\, [:1
 ]\nLetniki: Molekulska in funkcionalna biologija 1. letnik (MMFB)\nIzvajal
 ci: Lilijana Bizjak-Mali\, Polona Mrak\nProstor: Biološka vajalnica BV10\
 , Zoološka vajalnica
END:VEVENT
BEGIN:VEVENT
SUMMARY:Embriologija (BI332)\, laboratorijske vaje (LV)\, [:1]
DTSTART;TZID=Europe/Ljubljana:20251009T100000
DTEND;TZID=Europe/Ljubljana:20251009T130000
DTSTAMP:20260423T060605Z
UID:bf-AFLABS-URNIK:srecanje:24729-2025-10-09 10:00:00+02:00
DESCRIPTION:Predmet: Embriologija (BI332)\, laboratorijske vaje (LV)\, [:1
 ]\nLetniki: Molekulska in funkcionalna biologija 1. letnik (MMFB)\nIzvajal
 ci: Lilijana Bizjak-Mali\, Polona Mrak\nProstor: Biološka vajalnica BV10\
 , Zoološka vajalnica
END:VEVENT
BEGIN:VEVENT
SUMMARY:Embriologija (BI332)\, laboratorijske vaje (LV)\, [:2]
DTSTART;TZID=Europe/Ljubljana:20251002T130000
DTEND;TZID=Europe/Ljubljana:20251002T160000
DTSTAMP:20260423T060605Z
UID:bf-AFLABS-URNIK:srecanje:24730-2025-10-02 13:00:00+02:00
DESCRIPTION:Predmet: Embriologija (BI332)\, laboratorijske vaje (LV)\, [:2
 ]\nLetniki: Molekulska in funkcionalna biologija 1. letnik (MMFB)\nIzvajal
 ci: Lilijana Bizjak-Mali\, Polona Mrak\nProstor: Biološka vajalnica BV10\
 , Zoološka vajalnica
END:VEVENT
BEGIN:VEVENT
SUMMARY:Embriologija (BI332)\, laboratorijske vaje (LV)\, [:2]
DTSTART;TZID=Europe/Ljubljana:20251009T130000
DTEND;TZID=Europe/Ljubljana:20251009T160000
DTSTAMP:20260423T060605Z
UID:bf-AFLABS-URNIK:srecanje:24730-2025-10-09 13:00:00+02:00
DESCRIPTION:Predmet: Embriologija (BI332)\, laboratorijske vaje (LV)\, [:2
 ]\nLetniki: Molekulska in funkcionalna biologija 1. letnik (MMFB)\nIzvajal
 ci: Lilijana Bizjak-Mali\, Polona Mrak\nProstor: Biološka vajalnica BV10\
 , Zoološka vajalnica
END:VEVENT
BEGIN:VEVENT
SUMMARY:Biologija BT (BT001)\, laboratorijske vaje (LV)\, [:3]
DTSTART;TZID=Europe/Ljubljana:20251003T130000
DTEND;TZID=Europe/Ljubljana:20251003T160000
DTSTAMP:20260423T060605Z
UID:bf-AFLABS-URNIK:srecanje:24581-2025-10-03 13:00:00+02:00
DESCRIPTION:Predmet: Biologija BT (BT001)\, laboratorijske vaje (LV)\, [:3
 ]\nLetniki: Biotehnologija 1. letnik (BTUN)\nIzvajalci: Aleš Kladnik\, Po
 lona Mrak\nProstor: Biološka vajalnica BV3\, Botanična vajalnica
END:VEVENT
BEGIN:VEVENT
SUMMARY:Biologija BT (BT001)\, laboratorijske vaje (LV)\, [:3]
DTSTART;TZID=Europe/Ljubljana:20251010T130000
DTEND;TZID=Europe/Ljubljana:20251010T160000
DTSTAMP:20260423T060605Z
UID:bf-AFLABS-URNIK:srecanje:24581-2025-10-10 13:00:00+02:00
DESCRIPTION:Predmet: Biologija BT (BT001)\, laboratorijske vaje (LV)\, [:3
 ]\nLetniki: Biotehnologija 1. letnik (BTUN)\nIzvajalci: Aleš Kladnik\, Po
 lona Mrak\nProstor: Biološka vajalnica BV3\, Botanična vajalnica
END:VEVENT
BEGIN:VEVENT
SUMMARY:Biologija BT (BT001)\, laboratorijske vaje (LV)\, [:4]
DTSTART;TZID=Europe/Ljubljana:20251003T100000
DTEND;TZID=Europe/Ljubljana:20251003T130000
DTSTAMP:20260423T060605Z
UID:bf-AFLABS-URNIK:srecanje:24582-2025-10-03 10:00:00+02:00
DESCRIPTION:Predmet: Biologija BT (BT001)\, laboratorijske vaje (LV)\, [:4
 ]\nLetniki: Biotehnologija 1. letnik (BTUN)\nIzvajalci: Aleš Kladnik\, Po
 lona Mrak\nProstor: Biološka vajalnica BV3\, Botanična vajalnica
END:VEVENT
BEGIN:VEVENT
SUMMARY:Biologija BT (BT001)\, laboratorijske vaje (LV)\, [:4]
DTSTART;TZID=Europe/Ljubljana:20251010T100000
DTEND;TZID=Europe/Ljubljana:20251010T130000
DTSTAMP:20260423T060605Z
UID:bf-AFLABS-URNIK:srecanje:24582-2025-10-10 10:00:00+02:00
DESCRIPTION:Predmet: Biologija BT (BT001)\, laboratorijske vaje (LV)\, [:4
 ]\nLetniki: Biotehnologija 1. letnik (BTUN)\nIzvajalci: Aleš Kladnik\, Po
 lona Mrak\nProstor: Biološka vajalnica BV3\, Botanična vajalnica
END:VEVENT
BEGIN:VEVENT
SUMMARY:Funkcionalna biologija celice (BI330)\, laboratorijske vaje (LV)\,
  [: 2]
DTSTART;TZID=Europe/Ljubljana:20251006T130000
DTEND;TZID=Europe/Ljubljana:20251006T160000
DTSTAMP:20260423T060605Z
UID:bf-AFLABS-URNIK:srecanje:24812-2025-10-06 13:00:00+02:00
DESCRIPTION:Predmet: Funkcionalna biologija celice (BI330)\, laboratorijsk
 e vaje (LV)\, [: 2]\nLetniki: \nIzvajalci: Polona Mrak\nProstor: Oddelek z
 a biologijo\, Zoološki laboratorij
END:VEVENT
BEGIN:VEVENT
SUMMARY:Funkcionalna biologija celice (BI330)\, laboratorijske vaje (LV)\,
  [: 2]
DTSTART;TZID=Europe/Ljubljana:20251013T130000
DTEND;TZID=Europe/Ljubljana:20251013T160000
DTSTAMP:20260423T060605Z
UID:bf-AFLABS-URNIK:srecanje:24812-2025-10-13 13:00:00+02:00
DESCRIPTION:Predmet: Funkcionalna biologija celice (BI330)\, laboratorijsk
 e vaje (LV)\, [: 2]\nLetniki: \nIzvajalci: Polona Mrak\nProstor: Oddelek z
 a biologijo\, Zoološki laboratorij
END:VEVENT
BEGIN:VEVENT
SUMMARY:Splošna biologija FKKT (Sp_Bi-FKKT)\, laboratorijske vaje (LV)
DTSTART;TZID=Europe/Ljubljana:20251006T070000
DTEND;TZID=Europe/Ljubljana:20251006T120000
DTSTAMP:20260423T060605Z
UID:bf-AFLABS-URNIK:srecanje:25414-2025-10-06 07:00:00+02:00
DESCRIPTION:Predmet: Splošna biologija FKKT (Sp_Bi-FKKT)\, laboratorijske
  vaje (LV)\nLetniki: \nIzvajalci: Sabina Anžlovar\, Polona Mrak\nProstor:
  Biološka vajalnica BV3\, Botanična vajalnica
END:VEVENT
BEGIN:VEVENT
SUMMARY:Splošna biologija FKKT (Sp_Bi-FKKT)\, laboratorijske vaje (LV)
DTSTART;TZID=Europe/Ljubljana:20251013T070000
DTEND;TZID=Europe/Ljubljana:20251013T120000
DTSTAMP:20260423T060605Z
UID:bf-AFLABS-URNIK:srecanje:25414-2025-10-13 07:00:00+02:00
DESCRIPTION:Predmet: Splošna biologija FKKT (Sp_Bi-FKKT)\, laboratorijske
  vaje (LV)\nLetniki: \nIzvajalci: Sabina Anžlovar\, Polona Mrak\nProstor:
  Biološka vajalnica BV3\, Botanična vajalnica
END:VEVENT
BEGIN:VEVENT
SUMMARY:Biologija celice in histologija (BI002)\, laboratorijske vaje (LV)
 \, [:2]
DTSTART;TZID=Europe/Ljubljana:20251007T111500
DTEND;TZID=Europe/Ljubljana:20251007T141500
DTSTAMP:20260423T060605Z
UID:bf-AFLABS-URNIK:srecanje:24589-2025-10-07 11:15:00+02:00
DESCRIPTION:Predmet: Biologija celice in histologija (BI002)\, laboratorij
 ske vaje (LV)\, [:2]\nLetniki: Biology 1 (BIUN)\nIzvajalci: Polona Mrak\, 
 Miloš Vittori\, Primož Zidar\nProstor: Biološka vajalnica BV10\, Zoolo
 ška vajalnica
END:VEVENT
BEGIN:VEVENT
SUMMARY:Biologija celice in histologija (BI002)\, laboratorijske vaje (LV)
 \, [:4]
DTSTART;TZID=Europe/Ljubljana:20251007T080000
DTEND;TZID=Europe/Ljubljana:20251007T110000
DTSTAMP:20260423T060605Z
UID:bf-AFLABS-URNIK:srecanje:24591-2025-10-07 08:00:00+02:00
DESCRIPTION:Predmet: Biologija celice in histologija (BI002)\, laboratorij
 ske vaje (LV)\, [:4]\nLetniki: Biology 1 (BIUN)\nIzvajalci: Polona Mrak\, 
 Miloš Vittori\, Primož Zidar\nProstor: Biološka vajalnica BV10\, Zoolo
 ška vajalnica
END:VEVENT
BEGIN:VEVENT
SUMMARY:Biologija celice in histologija (BI002)\, laboratorijske vaje (LV)
 \, [:5]
DTSTART;TZID=Europe/Ljubljana:20251007T143000
DTEND;TZID=Europe/Ljubljana:20251007T173000
DTSTAMP:20260423T060605Z
UID:bf-AFLABS-URNIK:srecanje:24592-2025-10-07 14:30:00+02:00
DESCRIPTION:Predmet: Biologija celice in histologija (BI002)\, laboratorij
 ske vaje (LV)\, [:5]\nLetniki: Biology 1 (BIUN)\nIzvajalci: Polona Mrak\, 
 Miloš Vittori\, Primož Zidar\nProstor: Biološka vajalnica BV10\, Zoolo
 ška vajalnica
END:VEVENT
BEGIN:VEVENT
SUMMARY:Funkcionalna biologija celice (BI330)\, laboratorijske vaje (LV)\,
  [: 1]
DTSTART;TZID=Europe/Ljubljana:20251007T080000
DTEND;TZID=Europe/Ljubljana:20251007T110000
DTSTAMP:20260423T060605Z
UID:bf-AFLABS-URNIK:srecanje:24811-2025-10-07 08:00:00+02:00
DESCRIPTION:Predmet: Funkcionalna biologija celice (BI330)\, laboratorijsk
 e vaje (LV)\, [: 1]\nLetniki: \nIzvajalci: Polona Mrak\nProstor: Oddelek z
 a biologijo\, Zoološki laboratorij
END:VEVENT
BEGIN:VEVENT
SUMMARY:Biologija BT (BT001)\, laboratorijske vaje (LV)\, [:1]
DTSTART;TZID=Europe/Ljubljana:20251007T161500
DTEND;TZID=Europe/Ljubljana:20251007T191500
DTSTAMP:20260423T060605Z
UID:bf-AFLABS-URNIK:srecanje:24579-2025-10-07 16:15:00+02:00
DESCRIPTION:Predmet: Biologija BT (BT001)\, laboratorijske vaje (LV)\, [:1
 ]\nLetniki: Biotehnologija 1. letnik (BTUN)\nIzvajalci: Aleš Kladnik\, Po
 lona Mrak\nProstor: Biološka vajalnica BV3\, Botanična vajalnica
END:VEVENT
BEGIN:VEVENT
SUMMARY:sestanek SDM
DTSTART;TZID=Europe/Ljubljana:20251001T130000
DTEND;TZID=Europe/Ljubljana:20251001T150000
DTSTAMP:20260423T060605Z
UID:bf-AFLABS-URNIK:rezervacija:23645
CATEGORIES:Reservation
COLOR:royalblue
DESCRIPTION:Predmeti: \nLetniki: \nIzvajalci: Polona Mrak\, Nada Žnidarš
 ič\nProstori: Sejna soba Biologija
LOCATION:Department of biology\, Sejna soba Biologija
ORGANIZER:Polona Mrak, Nada Žnidaršič
X-WR-TIMEZONE:Europe/Ljubljana
END:VEVENT
END:VCALENDAR
