BEGIN:VCALENDAR
VERSION:2.0
PRODID:-//AFLabs urnik izvoz - bf//aflabs.si//SI
NAME:UL BF Urnik
X-WR-CALNAME:UL BF Urnik
DTSTAMP:20260423T215029Z
REFRESH-INTERVAL:PT1H
SOURCE:https://urniki.bf.uni-lj.si/en/teacher/823/?day=2026-08-10&export=1
URL:https://urniki.bf.uni-lj.si/en/teacher/823/?day=2026-08-10&export=1
X-PUBLISHED-TTL:PT1H
X-WR-TIMEZONE:Europe/Ljubljana
BEGIN:VTIMEZONE
TZID:Europe/Ljubljana
BEGIN:DAYLIGHT
DTSTART:20260329T020000
RDATE:20260329T020000
RDATE:20270328T020000
TZNAME:CEST
TZOFFSETFROM:+0100
TZOFFSETTO:+0200
END:DAYLIGHT
BEGIN:STANDARD
DTSTART:20261025T030000
RDATE:20261025T030000
RDATE:20271031T030000
TZNAME:CET
TZOFFSETFROM:+0200
TZOFFSETTO:+0100
END:STANDARD
END:VTIMEZONE
BEGIN:VEVENT
SUMMARY:Teorija in metode prostorskega planiranja (KA209)\, predavanja (P)
DTSTART;TZID=Europe/Ljubljana:20260217T100000
DTEND;TZID=Europe/Ljubljana:20260217T120000
DTSTAMP:20260423T215029Z
UID:bf-AFLABS-URNIK:srecanje:27619-2026-02-17 10:00:00+01:00
DESCRIPTION:Predmet: Teorija in metode prostorskega planiranja (KA209)\, p
 redavanja (P)\nLetniki: Krajinska arhitektura 1. letnik (MLA)\nIzvajalci: 
 Mojca Golobič\nProstor: Risalnica Krajinska arhitektura 3
END:VEVENT
BEGIN:VEVENT
SUMMARY:Teorija in metode prostorskega planiranja (KA209)\, predavanja (P)
DTSTART;TZID=Europe/Ljubljana:20260224T100000
DTEND;TZID=Europe/Ljubljana:20260224T120000
DTSTAMP:20260423T215029Z
UID:bf-AFLABS-URNIK:srecanje:27619-2026-02-24 10:00:00+01:00
DESCRIPTION:Predmet: Teorija in metode prostorskega planiranja (KA209)\, p
 redavanja (P)\nLetniki: Krajinska arhitektura 1. letnik (MLA)\nIzvajalci: 
 Mojca Golobič\nProstor: Risalnica Krajinska arhitektura 3
END:VEVENT
BEGIN:VEVENT
SUMMARY:Teorija in metode prostorskega planiranja (KA209)\, predavanja (P)
DTSTART;TZID=Europe/Ljubljana:20260303T100000
DTEND;TZID=Europe/Ljubljana:20260303T120000
DTSTAMP:20260423T215029Z
UID:bf-AFLABS-URNIK:srecanje:27619-2026-03-03 10:00:00+01:00
DESCRIPTION:Predmet: Teorija in metode prostorskega planiranja (KA209)\, p
 redavanja (P)\nLetniki: Krajinska arhitektura 1. letnik (MLA)\nIzvajalci: 
 Mojca Golobič\nProstor: Risalnica Krajinska arhitektura 3
END:VEVENT
BEGIN:VEVENT
SUMMARY:Teorija in metode prostorskega planiranja (KA209)\, predavanja (P)
DTSTART;TZID=Europe/Ljubljana:20260310T100000
DTEND;TZID=Europe/Ljubljana:20260310T120000
DTSTAMP:20260423T215029Z
UID:bf-AFLABS-URNIK:srecanje:27619-2026-03-10 10:00:00+01:00
DESCRIPTION:Predmet: Teorija in metode prostorskega planiranja (KA209)\, p
 redavanja (P)\nLetniki: Krajinska arhitektura 1. letnik (MLA)\nIzvajalci: 
 Mojca Golobič\nProstor: Risalnica Krajinska arhitektura 3
END:VEVENT
BEGIN:VEVENT
SUMMARY:Teorija in metode prostorskega planiranja (KA209)\, predavanja (P)
DTSTART;TZID=Europe/Ljubljana:20260317T100000
DTEND;TZID=Europe/Ljubljana:20260317T120000
DTSTAMP:20260423T215029Z
UID:bf-AFLABS-URNIK:srecanje:27619-2026-03-17 10:00:00+01:00
DESCRIPTION:Predmet: Teorija in metode prostorskega planiranja (KA209)\, p
 redavanja (P)\nLetniki: Krajinska arhitektura 1. letnik (MLA)\nIzvajalci: 
 Mojca Golobič\nProstor: Risalnica Krajinska arhitektura 3
END:VEVENT
BEGIN:VEVENT
SUMMARY:Teorija in metode prostorskega planiranja (KA209)\, predavanja (P)
DTSTART;TZID=Europe/Ljubljana:20260324T100000
DTEND;TZID=Europe/Ljubljana:20260324T120000
DTSTAMP:20260423T215029Z
UID:bf-AFLABS-URNIK:srecanje:27619-2026-03-24 10:00:00+01:00
DESCRIPTION:Predmet: Teorija in metode prostorskega planiranja (KA209)\, p
 redavanja (P)\nLetniki: Krajinska arhitektura 1. letnik (MLA)\nIzvajalci: 
 Mojca Golobič\nProstor: Risalnica Krajinska arhitektura 3
END:VEVENT
BEGIN:VEVENT
SUMMARY:Teorija in metode prostorskega planiranja (KA209)\, predavanja (P)
DTSTART;TZID=Europe/Ljubljana:20260331T100000
DTEND;TZID=Europe/Ljubljana:20260331T120000
DTSTAMP:20260423T215029Z
UID:bf-AFLABS-URNIK:srecanje:27619-2026-03-31 10:00:00+02:00
DESCRIPTION:Predmet: Teorija in metode prostorskega planiranja (KA209)\, p
 redavanja (P)\nLetniki: Krajinska arhitektura 1. letnik (MLA)\nIzvajalci: 
 Mojca Golobič\nProstor: Risalnica Krajinska arhitektura 3
END:VEVENT
BEGIN:VEVENT
SUMMARY:Teorija in metode prostorskega planiranja (KA209)\, seminarske vaj
 e (SV)
DTSTART;TZID=Europe/Ljubljana:20260217T120000
DTEND;TZID=Europe/Ljubljana:20260217T140000
DTSTAMP:20260423T215029Z
UID:bf-AFLABS-URNIK:srecanje:27620-2026-02-17 12:00:00+01:00
DESCRIPTION:Predmet: Teorija in metode prostorskega planiranja (KA209)\, s
 eminarske vaje (SV)\nLetniki: Krajinska arhitektura 1. letnik (MLA)\nIzvaj
 alci: Klara Kržič\nProstor: Risalnica Krajinska arhitektura 3
END:VEVENT
BEGIN:VEVENT
SUMMARY:Teorija in metode prostorskega planiranja (KA209)\, seminarske vaj
 e (SV)
DTSTART;TZID=Europe/Ljubljana:20260224T120000
DTEND;TZID=Europe/Ljubljana:20260224T140000
DTSTAMP:20260423T215029Z
UID:bf-AFLABS-URNIK:srecanje:27620-2026-02-24 12:00:00+01:00
DESCRIPTION:Predmet: Teorija in metode prostorskega planiranja (KA209)\, s
 eminarske vaje (SV)\nLetniki: Krajinska arhitektura 1. letnik (MLA)\nIzvaj
 alci: Klara Kržič\nProstor: Risalnica Krajinska arhitektura 3
END:VEVENT
BEGIN:VEVENT
SUMMARY:Teorija in metode prostorskega planiranja (KA209)\, seminarske vaj
 e (SV)
DTSTART;TZID=Europe/Ljubljana:20260303T120000
DTEND;TZID=Europe/Ljubljana:20260303T140000
DTSTAMP:20260423T215029Z
UID:bf-AFLABS-URNIK:srecanje:27620-2026-03-03 12:00:00+01:00
DESCRIPTION:Predmet: Teorija in metode prostorskega planiranja (KA209)\, s
 eminarske vaje (SV)\nLetniki: Krajinska arhitektura 1. letnik (MLA)\nIzvaj
 alci: Klara Kržič\nProstor: Risalnica Krajinska arhitektura 3
END:VEVENT
BEGIN:VEVENT
SUMMARY:Teorija in metode prostorskega planiranja (KA209)\, seminarske vaj
 e (SV)
DTSTART;TZID=Europe/Ljubljana:20260310T120000
DTEND;TZID=Europe/Ljubljana:20260310T140000
DTSTAMP:20260423T215029Z
UID:bf-AFLABS-URNIK:srecanje:27620-2026-03-10 12:00:00+01:00
DESCRIPTION:Predmet: Teorija in metode prostorskega planiranja (KA209)\, s
 eminarske vaje (SV)\nLetniki: Krajinska arhitektura 1. letnik (MLA)\nIzvaj
 alci: Klara Kržič\nProstor: Risalnica Krajinska arhitektura 3
END:VEVENT
BEGIN:VEVENT
SUMMARY:Teorija in metode prostorskega planiranja (KA209)\, seminarske vaj
 e (SV)
DTSTART;TZID=Europe/Ljubljana:20260317T120000
DTEND;TZID=Europe/Ljubljana:20260317T140000
DTSTAMP:20260423T215029Z
UID:bf-AFLABS-URNIK:srecanje:27620-2026-03-17 12:00:00+01:00
DESCRIPTION:Predmet: Teorija in metode prostorskega planiranja (KA209)\, s
 eminarske vaje (SV)\nLetniki: Krajinska arhitektura 1. letnik (MLA)\nIzvaj
 alci: Klara Kržič\nProstor: Risalnica Krajinska arhitektura 3
END:VEVENT
BEGIN:VEVENT
SUMMARY:Teorija in metode prostorskega planiranja (KA209)\, seminarske vaj
 e (SV)
DTSTART;TZID=Europe/Ljubljana:20260324T120000
DTEND;TZID=Europe/Ljubljana:20260324T140000
DTSTAMP:20260423T215029Z
UID:bf-AFLABS-URNIK:srecanje:27620-2026-03-24 12:00:00+01:00
DESCRIPTION:Predmet: Teorija in metode prostorskega planiranja (KA209)\, s
 eminarske vaje (SV)\nLetniki: Krajinska arhitektura 1. letnik (MLA)\nIzvaj
 alci: Klara Kržič\nProstor: Risalnica Krajinska arhitektura 3
END:VEVENT
BEGIN:VEVENT
SUMMARY:Teorija in metode prostorskega planiranja (KA209)\, seminarske vaj
 e (SV)
DTSTART;TZID=Europe/Ljubljana:20260331T120000
DTEND;TZID=Europe/Ljubljana:20260331T140000
DTSTAMP:20260423T215029Z
UID:bf-AFLABS-URNIK:srecanje:27620-2026-03-31 12:00:00+02:00
DESCRIPTION:Predmet: Teorija in metode prostorskega planiranja (KA209)\, s
 eminarske vaje (SV)\nLetniki: Krajinska arhitektura 1. letnik (MLA)\nIzvaj
 alci: Klara Kržič\nProstor: Risalnica Krajinska arhitektura 3
END:VEVENT
BEGIN:VEVENT
SUMMARY:Teorija in metode prostorskega planiranja (KA209)\, predavanja (P)
DTSTART;TZID=Europe/Ljubljana:20260414T100000
DTEND;TZID=Europe/Ljubljana:20260414T120000
DTSTAMP:20260423T215029Z
UID:bf-AFLABS-URNIK:srecanje:28483-2026-04-14 10:00:00+02:00
DESCRIPTION:Predmet: Teorija in metode prostorskega planiranja (KA209)\, p
 redavanja (P)\nLetniki: Krajinska arhitektura 1. letnik (MLA)\nIzvajalci: 
 Mojca Golobič\nProstor: Risalnica Krajinska arhitektura 3
END:VEVENT
BEGIN:VEVENT
SUMMARY:Teorija in metode prostorskega planiranja (KA209)\, predavanja (P)
DTSTART;TZID=Europe/Ljubljana:20260421T100000
DTEND;TZID=Europe/Ljubljana:20260421T120000
DTSTAMP:20260423T215029Z
UID:bf-AFLABS-URNIK:srecanje:28483-2026-04-21 10:00:00+02:00
DESCRIPTION:Predmet: Teorija in metode prostorskega planiranja (KA209)\, p
 redavanja (P)\nLetniki: Krajinska arhitektura 1. letnik (MLA)\nIzvajalci: 
 Mojca Golobič\nProstor: Risalnica Krajinska arhitektura 3
END:VEVENT
BEGIN:VEVENT
SUMMARY:Teorija in metode prostorskega planiranja (KA209)\, predavanja (P)
DTSTART;TZID=Europe/Ljubljana:20260428T100000
DTEND;TZID=Europe/Ljubljana:20260428T120000
DTSTAMP:20260423T215029Z
UID:bf-AFLABS-URNIK:srecanje:28483-2026-04-28 10:00:00+02:00
DESCRIPTION:Predmet: Teorija in metode prostorskega planiranja (KA209)\, p
 redavanja (P)\nLetniki: Krajinska arhitektura 1. letnik (MLA)\nIzvajalci: 
 Mojca Golobič\nProstor: Risalnica Krajinska arhitektura 3
END:VEVENT
BEGIN:VEVENT
SUMMARY:Teorija in metode prostorskega planiranja (KA209)\, predavanja (P)
DTSTART;TZID=Europe/Ljubljana:20260505T100000
DTEND;TZID=Europe/Ljubljana:20260505T120000
DTSTAMP:20260423T215029Z
UID:bf-AFLABS-URNIK:srecanje:28483-2026-05-05 10:00:00+02:00
DESCRIPTION:Predmet: Teorija in metode prostorskega planiranja (KA209)\, p
 redavanja (P)\nLetniki: Krajinska arhitektura 1. letnik (MLA)\nIzvajalci: 
 Mojca Golobič\nProstor: Risalnica Krajinska arhitektura 3
END:VEVENT
BEGIN:VEVENT
SUMMARY:Teorija in metode prostorskega planiranja (KA209)\, predavanja (P)
DTSTART;TZID=Europe/Ljubljana:20260512T100000
DTEND;TZID=Europe/Ljubljana:20260512T120000
DTSTAMP:20260423T215029Z
UID:bf-AFLABS-URNIK:srecanje:28483-2026-05-12 10:00:00+02:00
DESCRIPTION:Predmet: Teorija in metode prostorskega planiranja (KA209)\, p
 redavanja (P)\nLetniki: Krajinska arhitektura 1. letnik (MLA)\nIzvajalci: 
 Mojca Golobič\nProstor: Risalnica Krajinska arhitektura 3
END:VEVENT
BEGIN:VEVENT
SUMMARY:Teorija in metode prostorskega planiranja (KA209)\, predavanja (P)
DTSTART;TZID=Europe/Ljubljana:20260519T100000
DTEND;TZID=Europe/Ljubljana:20260519T120000
DTSTAMP:20260423T215029Z
UID:bf-AFLABS-URNIK:srecanje:28483-2026-05-19 10:00:00+02:00
DESCRIPTION:Predmet: Teorija in metode prostorskega planiranja (KA209)\, p
 redavanja (P)\nLetniki: Krajinska arhitektura 1. letnik (MLA)\nIzvajalci: 
 Mojca Golobič\nProstor: Risalnica Krajinska arhitektura 3
END:VEVENT
BEGIN:VEVENT
SUMMARY:Teorija in metode prostorskega planiranja (KA209)\, predavanja (P)
DTSTART;TZID=Europe/Ljubljana:20260526T100000
DTEND;TZID=Europe/Ljubljana:20260526T120000
DTSTAMP:20260423T215029Z
UID:bf-AFLABS-URNIK:srecanje:28483-2026-05-26 10:00:00+02:00
DESCRIPTION:Predmet: Teorija in metode prostorskega planiranja (KA209)\, p
 redavanja (P)\nLetniki: Krajinska arhitektura 1. letnik (MLA)\nIzvajalci: 
 Mojca Golobič\nProstor: Risalnica Krajinska arhitektura 3
END:VEVENT
BEGIN:VEVENT
SUMMARY:Teorija in metode prostorskega planiranja (KA209)\, predavanja (P)
DTSTART;TZID=Europe/Ljubljana:20260602T100000
DTEND;TZID=Europe/Ljubljana:20260602T120000
DTSTAMP:20260423T215029Z
UID:bf-AFLABS-URNIK:srecanje:28483-2026-06-02 10:00:00+02:00
DESCRIPTION:Predmet: Teorija in metode prostorskega planiranja (KA209)\, p
 redavanja (P)\nLetniki: Krajinska arhitektura 1. letnik (MLA)\nIzvajalci: 
 Mojca Golobič\nProstor: Risalnica Krajinska arhitektura 3
END:VEVENT
BEGIN:VEVENT
SUMMARY:Teorija in metode prostorskega planiranja (KA209)\, seminarske vaj
 e (SV)
DTSTART;TZID=Europe/Ljubljana:20260414T120000
DTEND;TZID=Europe/Ljubljana:20260414T140000
DTSTAMP:20260423T215029Z
UID:bf-AFLABS-URNIK:srecanje:28484-2026-04-14 12:00:00+02:00
DESCRIPTION:Predmet: Teorija in metode prostorskega planiranja (KA209)\, s
 eminarske vaje (SV)\nLetniki: Krajinska arhitektura 1. letnik (MLA)\nIzvaj
 alci: Klara Kržič\nProstor: Risalnica Krajinska arhitektura 3
END:VEVENT
BEGIN:VEVENT
SUMMARY:Teorija in metode prostorskega planiranja (KA209)\, seminarske vaj
 e (SV)
DTSTART;TZID=Europe/Ljubljana:20260421T120000
DTEND;TZID=Europe/Ljubljana:20260421T140000
DTSTAMP:20260423T215029Z
UID:bf-AFLABS-URNIK:srecanje:28484-2026-04-21 12:00:00+02:00
DESCRIPTION:Predmet: Teorija in metode prostorskega planiranja (KA209)\, s
 eminarske vaje (SV)\nLetniki: Krajinska arhitektura 1. letnik (MLA)\nIzvaj
 alci: Klara Kržič\nProstor: Risalnica Krajinska arhitektura 3
END:VEVENT
BEGIN:VEVENT
SUMMARY:Teorija in metode prostorskega planiranja (KA209)\, seminarske vaj
 e (SV)
DTSTART;TZID=Europe/Ljubljana:20260428T120000
DTEND;TZID=Europe/Ljubljana:20260428T140000
DTSTAMP:20260423T215029Z
UID:bf-AFLABS-URNIK:srecanje:28484-2026-04-28 12:00:00+02:00
DESCRIPTION:Predmet: Teorija in metode prostorskega planiranja (KA209)\, s
 eminarske vaje (SV)\nLetniki: Krajinska arhitektura 1. letnik (MLA)\nIzvaj
 alci: Klara Kržič\nProstor: Risalnica Krajinska arhitektura 3
END:VEVENT
BEGIN:VEVENT
SUMMARY:Teorija in metode prostorskega planiranja (KA209)\, seminarske vaj
 e (SV)
DTSTART;TZID=Europe/Ljubljana:20260505T120000
DTEND;TZID=Europe/Ljubljana:20260505T140000
DTSTAMP:20260423T215029Z
UID:bf-AFLABS-URNIK:srecanje:28484-2026-05-05 12:00:00+02:00
DESCRIPTION:Predmet: Teorija in metode prostorskega planiranja (KA209)\, s
 eminarske vaje (SV)\nLetniki: Krajinska arhitektura 1. letnik (MLA)\nIzvaj
 alci: Klara Kržič\nProstor: Risalnica Krajinska arhitektura 3
END:VEVENT
BEGIN:VEVENT
SUMMARY:Teorija in metode prostorskega planiranja (KA209)\, seminarske vaj
 e (SV)
DTSTART;TZID=Europe/Ljubljana:20260512T120000
DTEND;TZID=Europe/Ljubljana:20260512T140000
DTSTAMP:20260423T215029Z
UID:bf-AFLABS-URNIK:srecanje:28484-2026-05-12 12:00:00+02:00
DESCRIPTION:Predmet: Teorija in metode prostorskega planiranja (KA209)\, s
 eminarske vaje (SV)\nLetniki: Krajinska arhitektura 1. letnik (MLA)\nIzvaj
 alci: Klara Kržič\nProstor: Risalnica Krajinska arhitektura 3
END:VEVENT
BEGIN:VEVENT
SUMMARY:Teorija in metode prostorskega planiranja (KA209)\, seminarske vaj
 e (SV)
DTSTART;TZID=Europe/Ljubljana:20260519T120000
DTEND;TZID=Europe/Ljubljana:20260519T140000
DTSTAMP:20260423T215029Z
UID:bf-AFLABS-URNIK:srecanje:28484-2026-05-19 12:00:00+02:00
DESCRIPTION:Predmet: Teorija in metode prostorskega planiranja (KA209)\, s
 eminarske vaje (SV)\nLetniki: Krajinska arhitektura 1. letnik (MLA)\nIzvaj
 alci: Klara Kržič\nProstor: Risalnica Krajinska arhitektura 3
END:VEVENT
BEGIN:VEVENT
SUMMARY:Teorija in metode prostorskega planiranja (KA209)\, seminarske vaj
 e (SV)
DTSTART;TZID=Europe/Ljubljana:20260526T120000
DTEND;TZID=Europe/Ljubljana:20260526T140000
DTSTAMP:20260423T215029Z
UID:bf-AFLABS-URNIK:srecanje:28484-2026-05-26 12:00:00+02:00
DESCRIPTION:Predmet: Teorija in metode prostorskega planiranja (KA209)\, s
 eminarske vaje (SV)\nLetniki: Krajinska arhitektura 1. letnik (MLA)\nIzvaj
 alci: Klara Kržič\nProstor: Risalnica Krajinska arhitektura 3
END:VEVENT
BEGIN:VEVENT
SUMMARY:Teorija in metode prostorskega planiranja (KA209)\, seminarske vaj
 e (SV)
DTSTART;TZID=Europe/Ljubljana:20260602T120000
DTEND;TZID=Europe/Ljubljana:20260602T140000
DTSTAMP:20260423T215029Z
UID:bf-AFLABS-URNIK:srecanje:28484-2026-06-02 12:00:00+02:00
DESCRIPTION:Predmet: Teorija in metode prostorskega planiranja (KA209)\, s
 eminarske vaje (SV)\nLetniki: Krajinska arhitektura 1. letnik (MLA)\nIzvaj
 alci: Klara Kržič\nProstor: Risalnica Krajinska arhitektura 3
END:VEVENT
BEGIN:VEVENT
SUMMARY:Predstavitev PIS za KA študente
DTSTART;TZID=Europe/Ljubljana:20260226T140000
DTEND;TZID=Europe/Ljubljana:20260226T160000
DTSTAMP:20260423T215029Z
UID:bf-AFLABS-URNIK:rezervacija:26389
ATTENDEE:Krajinska arhitektura 1. letnik (MLA)
ATTENDEE:Krajinska arhitektura 3. letnik (LAUN)
CATEGORIES:Reservation
COLOR:royalblue
DESCRIPTION:Predmeti: Teorija in metode prostorskega planiranja (KA209)\, 
 Vrednotenje krajine (KA022)\nLetniki: Krajinska arhitektura 3. letnik (LAU
 N)\, Krajinska arhitektura 1. letnik (MLA)\nIzvajalci: Nadja Penko Seidl\n
 Prostori: Predavalnica Agronomija A6
LOCATION:Department of agronomy\, Predavalnica Agronomija A6
ORGANIZER:Nadja Penko Seidl
X-WR-TIMEZONE:Europe/Ljubljana
END:VEVENT
BEGIN:VEVENT
SUMMARY:Tisk plakatov za gozdarje
DTSTART;TZID=Europe/Ljubljana:20260319T080000
DTEND;TZID=Europe/Ljubljana:20260319T100000
DTSTAMP:20260423T215029Z
UID:bf-AFLABS-URNIK:rezervacija:28399
CATEGORIES:Reservation
COLOR:royalblue
DESCRIPTION:Predmeti: \nLetniki: \nIzvajalci: Klara Kržič\nProstori: Mak
 etarnica (Krajinska arhitektura)
LOCATION:Department of landscape architecture\, Maketarnica (Krajinska arh
 itektura)
ORGANIZER:Klara Kržič
X-WR-TIMEZONE:Europe/Ljubljana
END:VEVENT
END:VCALENDAR
