BEGIN:VCALENDAR
VERSION:2.0
PRODID:-//AFLabs urnik izvoz - bf//aflabs.si//SI
NAME:UL BF Urnik
X-WR-CALNAME:UL BF Urnik
DTSTAMP:20260422T221914Z
REFRESH-INTERVAL:PT1H
SOURCE:https://urniki.bf.uni-lj.si/en/teacher/819/?day=2026-06-08&export=1
URL:https://urniki.bf.uni-lj.si/en/teacher/819/?day=2026-06-08&export=1
X-PUBLISHED-TTL:PT1H
X-WR-TIMEZONE:Europe/Ljubljana
BEGIN:VTIMEZONE
TZID:Europe/Ljubljana
BEGIN:DAYLIGHT
DTSTART:20260329T020000
RDATE:20260329T020000
RDATE:20270328T020000
TZNAME:CEST
TZOFFSETFROM:+0100
TZOFFSETTO:+0200
END:DAYLIGHT
BEGIN:STANDARD
DTSTART:20261025T030000
RDATE:20261025T030000
RDATE:20271031T030000
TZNAME:CET
TZOFFSETFROM:+0200
TZOFFSETTO:+0100
END:STANDARD
END:VTIMEZONE
BEGIN:VEVENT
SUMMARY:Mikrobiologija PeF (0070695)\, laboratorijske vaje (LV)\, [:1]
DTSTART;TZID=Europe/Ljubljana:20260417T081500
DTEND;TZID=Europe/Ljubljana:20260417T100000
DTSTAMP:20260422T221914Z
UID:bf-AFLABS-URNIK:srecanje:28089-2026-04-17 08:15:00+02:00
DESCRIPTION:Predmet: Mikrobiologija PeF (0070695)\, laboratorijske vaje (L
 V)\, [:1]\nLetniki: Dvopredmetni učitelj 1. letnik (BI-CH-HE)\nIzvajalci:
  Monika Kos\, Monika Novak Babič\nProstor: Biološka vajalnica BV9\, Mikr
 obiološka vajalnica
END:VEVENT
BEGIN:VEVENT
SUMMARY:Mikrobiologija PeF (0070695)\, laboratorijske vaje (LV)\, [:1]
DTSTART;TZID=Europe/Ljubljana:20260424T081500
DTEND;TZID=Europe/Ljubljana:20260424T100000
DTSTAMP:20260422T221914Z
UID:bf-AFLABS-URNIK:srecanje:28089-2026-04-24 08:15:00+02:00
DESCRIPTION:Predmet: Mikrobiologija PeF (0070695)\, laboratorijske vaje (L
 V)\, [:1]\nLetniki: Dvopredmetni učitelj 1. letnik (BI-CH-HE)\nIzvajalci:
  Monika Kos\, Monika Novak Babič\nProstor: Biološka vajalnica BV9\, Mikr
 obiološka vajalnica
END:VEVENT
BEGIN:VEVENT
SUMMARY:Mikrobiologija PeF (0070695)\, laboratorijske vaje (LV)\, [:1]
DTSTART;TZID=Europe/Ljubljana:20260501T081500
DTEND;TZID=Europe/Ljubljana:20260501T100000
DTSTAMP:20260422T221914Z
UID:bf-AFLABS-URNIK:srecanje:28089-2026-05-01 08:15:00+02:00
DESCRIPTION:Predmet: Mikrobiologija PeF (0070695)\, laboratorijske vaje (L
 V)\, [:1]\nLetniki: Dvopredmetni učitelj 1. letnik (BI-CH-HE)\nIzvajalci:
  Monika Kos\, Monika Novak Babič\nProstor: Biološka vajalnica BV9\, Mikr
 obiološka vajalnica
END:VEVENT
BEGIN:VEVENT
SUMMARY:Mikrobiologija PeF (0070695)\, laboratorijske vaje (LV)\, [:1]
DTSTART;TZID=Europe/Ljubljana:20260508T081500
DTEND;TZID=Europe/Ljubljana:20260508T100000
DTSTAMP:20260422T221914Z
UID:bf-AFLABS-URNIK:srecanje:28089-2026-05-08 08:15:00+02:00
DESCRIPTION:Predmet: Mikrobiologija PeF (0070695)\, laboratorijske vaje (L
 V)\, [:1]\nLetniki: Dvopredmetni učitelj 1. letnik (BI-CH-HE)\nIzvajalci:
  Monika Kos\, Monika Novak Babič\nProstor: Biološka vajalnica BV9\, Mikr
 obiološka vajalnica
END:VEVENT
BEGIN:VEVENT
SUMMARY:Mikrobiologija PeF (0070695)\, laboratorijske vaje (LV)\, [:1]
DTSTART;TZID=Europe/Ljubljana:20260515T081500
DTEND;TZID=Europe/Ljubljana:20260515T100000
DTSTAMP:20260422T221914Z
UID:bf-AFLABS-URNIK:srecanje:28089-2026-05-15 08:15:00+02:00
DESCRIPTION:Predmet: Mikrobiologija PeF (0070695)\, laboratorijske vaje (L
 V)\, [:1]\nLetniki: Dvopredmetni učitelj 1. letnik (BI-CH-HE)\nIzvajalci:
  Monika Kos\, Monika Novak Babič\nProstor: Biološka vajalnica BV9\, Mikr
 obiološka vajalnica
END:VEVENT
BEGIN:VEVENT
SUMMARY:Mikrobiologija PeF (0070695)\, laboratorijske vaje (LV)\, [:1]
DTSTART;TZID=Europe/Ljubljana:20260522T081500
DTEND;TZID=Europe/Ljubljana:20260522T100000
DTSTAMP:20260422T221914Z
UID:bf-AFLABS-URNIK:srecanje:28089-2026-05-22 08:15:00+02:00
DESCRIPTION:Predmet: Mikrobiologija PeF (0070695)\, laboratorijske vaje (L
 V)\, [:1]\nLetniki: Dvopredmetni učitelj 1. letnik (BI-CH-HE)\nIzvajalci:
  Monika Kos\, Monika Novak Babič\nProstor: Biološka vajalnica BV9\, Mikr
 obiološka vajalnica
END:VEVENT
BEGIN:VEVENT
SUMMARY:Mikrobiologija PeF (0070695)\, laboratorijske vaje (LV)\, [:1]
DTSTART;TZID=Europe/Ljubljana:20260529T081500
DTEND;TZID=Europe/Ljubljana:20260529T100000
DTSTAMP:20260422T221914Z
UID:bf-AFLABS-URNIK:srecanje:28089-2026-05-29 08:15:00+02:00
DESCRIPTION:Predmet: Mikrobiologija PeF (0070695)\, laboratorijske vaje (L
 V)\, [:1]\nLetniki: Dvopredmetni učitelj 1. letnik (BI-CH-HE)\nIzvajalci:
  Monika Kos\, Monika Novak Babič\nProstor: Biološka vajalnica BV9\, Mikr
 obiološka vajalnica
END:VEVENT
BEGIN:VEVENT
SUMMARY:Mikrobiologija PeF (0070695)\, laboratorijske vaje (LV)\, [:1]
DTSTART;TZID=Europe/Ljubljana:20260605T081500
DTEND;TZID=Europe/Ljubljana:20260605T100000
DTSTAMP:20260422T221914Z
UID:bf-AFLABS-URNIK:srecanje:28089-2026-06-05 08:15:00+02:00
DESCRIPTION:Predmet: Mikrobiologija PeF (0070695)\, laboratorijske vaje (L
 V)\, [:1]\nLetniki: Dvopredmetni učitelj 1. letnik (BI-CH-HE)\nIzvajalci:
  Monika Kos\, Monika Novak Babič\nProstor: Biološka vajalnica BV9\, Mikr
 obiološka vajalnica
END:VEVENT
BEGIN:VEVENT
SUMMARY:Mikrobiologija PeF (0070695)\, laboratorijske vaje (LV)\, [:2]
DTSTART;TZID=Europe/Ljubljana:20260417T101500
DTEND;TZID=Europe/Ljubljana:20260417T120000
DTSTAMP:20260422T221914Z
UID:bf-AFLABS-URNIK:srecanje:28090-2026-04-17 10:15:00+02:00
DESCRIPTION:Predmet: Mikrobiologija PeF (0070695)\, laboratorijske vaje (L
 V)\, [:2]\nLetniki: Dvopredmetni učitelj 1. letnik (BI-CH-HE)\nIzvajalci:
  Monika Kos\, Monika Novak Babič\nProstor: Biološka vajalnica BV9\, Mikr
 obiološka vajalnica
END:VEVENT
BEGIN:VEVENT
SUMMARY:Mikrobiologija PeF (0070695)\, laboratorijske vaje (LV)\, [:2]
DTSTART;TZID=Europe/Ljubljana:20260424T101500
DTEND;TZID=Europe/Ljubljana:20260424T120000
DTSTAMP:20260422T221914Z
UID:bf-AFLABS-URNIK:srecanje:28090-2026-04-24 10:15:00+02:00
DESCRIPTION:Predmet: Mikrobiologija PeF (0070695)\, laboratorijske vaje (L
 V)\, [:2]\nLetniki: Dvopredmetni učitelj 1. letnik (BI-CH-HE)\nIzvajalci:
  Monika Kos\, Monika Novak Babič\nProstor: Biološka vajalnica BV9\, Mikr
 obiološka vajalnica
END:VEVENT
BEGIN:VEVENT
SUMMARY:Mikrobiologija PeF (0070695)\, laboratorijske vaje (LV)\, [:2]
DTSTART;TZID=Europe/Ljubljana:20260501T101500
DTEND;TZID=Europe/Ljubljana:20260501T120000
DTSTAMP:20260422T221914Z
UID:bf-AFLABS-URNIK:srecanje:28090-2026-05-01 10:15:00+02:00
DESCRIPTION:Predmet: Mikrobiologija PeF (0070695)\, laboratorijske vaje (L
 V)\, [:2]\nLetniki: Dvopredmetni učitelj 1. letnik (BI-CH-HE)\nIzvajalci:
  Monika Kos\, Monika Novak Babič\nProstor: Biološka vajalnica BV9\, Mikr
 obiološka vajalnica
END:VEVENT
BEGIN:VEVENT
SUMMARY:Mikrobiologija PeF (0070695)\, laboratorijske vaje (LV)\, [:2]
DTSTART;TZID=Europe/Ljubljana:20260508T101500
DTEND;TZID=Europe/Ljubljana:20260508T120000
DTSTAMP:20260422T221914Z
UID:bf-AFLABS-URNIK:srecanje:28090-2026-05-08 10:15:00+02:00
DESCRIPTION:Predmet: Mikrobiologija PeF (0070695)\, laboratorijske vaje (L
 V)\, [:2]\nLetniki: Dvopredmetni učitelj 1. letnik (BI-CH-HE)\nIzvajalci:
  Monika Kos\, Monika Novak Babič\nProstor: Biološka vajalnica BV9\, Mikr
 obiološka vajalnica
END:VEVENT
BEGIN:VEVENT
SUMMARY:Mikrobiologija PeF (0070695)\, laboratorijske vaje (LV)\, [:2]
DTSTART;TZID=Europe/Ljubljana:20260515T101500
DTEND;TZID=Europe/Ljubljana:20260515T120000
DTSTAMP:20260422T221914Z
UID:bf-AFLABS-URNIK:srecanje:28090-2026-05-15 10:15:00+02:00
DESCRIPTION:Predmet: Mikrobiologija PeF (0070695)\, laboratorijske vaje (L
 V)\, [:2]\nLetniki: Dvopredmetni učitelj 1. letnik (BI-CH-HE)\nIzvajalci:
  Monika Kos\, Monika Novak Babič\nProstor: Biološka vajalnica BV9\, Mikr
 obiološka vajalnica
END:VEVENT
BEGIN:VEVENT
SUMMARY:Mikrobiologija PeF (0070695)\, laboratorijske vaje (LV)\, [:2]
DTSTART;TZID=Europe/Ljubljana:20260522T101500
DTEND;TZID=Europe/Ljubljana:20260522T120000
DTSTAMP:20260422T221914Z
UID:bf-AFLABS-URNIK:srecanje:28090-2026-05-22 10:15:00+02:00
DESCRIPTION:Predmet: Mikrobiologija PeF (0070695)\, laboratorijske vaje (L
 V)\, [:2]\nLetniki: Dvopredmetni učitelj 1. letnik (BI-CH-HE)\nIzvajalci:
  Monika Kos\, Monika Novak Babič\nProstor: Biološka vajalnica BV9\, Mikr
 obiološka vajalnica
END:VEVENT
BEGIN:VEVENT
SUMMARY:Mikrobiologija PeF (0070695)\, laboratorijske vaje (LV)\, [:2]
DTSTART;TZID=Europe/Ljubljana:20260529T101500
DTEND;TZID=Europe/Ljubljana:20260529T120000
DTSTAMP:20260422T221914Z
UID:bf-AFLABS-URNIK:srecanje:28090-2026-05-29 10:15:00+02:00
DESCRIPTION:Predmet: Mikrobiologija PeF (0070695)\, laboratorijske vaje (L
 V)\, [:2]\nLetniki: Dvopredmetni učitelj 1. letnik (BI-CH-HE)\nIzvajalci:
  Monika Kos\, Monika Novak Babič\nProstor: Biološka vajalnica BV9\, Mikr
 obiološka vajalnica
END:VEVENT
BEGIN:VEVENT
SUMMARY:Mikrobiologija PeF (0070695)\, laboratorijske vaje (LV)\, [:2]
DTSTART;TZID=Europe/Ljubljana:20260605T101500
DTEND;TZID=Europe/Ljubljana:20260605T120000
DTSTAMP:20260422T221914Z
UID:bf-AFLABS-URNIK:srecanje:28090-2026-06-05 10:15:00+02:00
DESCRIPTION:Predmet: Mikrobiologija PeF (0070695)\, laboratorijske vaje (L
 V)\, [:2]\nLetniki: Dvopredmetni učitelj 1. letnik (BI-CH-HE)\nIzvajalci:
  Monika Kos\, Monika Novak Babič\nProstor: Biološka vajalnica BV9\, Mikr
 obiološka vajalnica
END:VEVENT
BEGIN:VEVENT
SUMMARY:Mikrobiologija PeF (0070695)\, laboratorijske vaje (LV)\, [:3]
DTSTART;TZID=Europe/Ljubljana:20260417T121500
DTEND;TZID=Europe/Ljubljana:20260417T140000
DTSTAMP:20260422T221914Z
UID:bf-AFLABS-URNIK:srecanje:28091-2026-04-17 12:15:00+02:00
DESCRIPTION:Predmet: Mikrobiologija PeF (0070695)\, laboratorijske vaje (L
 V)\, [:3]\nLetniki: Dvopredmetni učitelj 1. letnik (BI-CH-HE)\nIzvajalci:
  Monika Kos\, Monika Novak Babič\nProstor: Biološka vajalnica BV9\, Mikr
 obiološka vajalnica
END:VEVENT
BEGIN:VEVENT
SUMMARY:Mikrobiologija PeF (0070695)\, laboratorijske vaje (LV)\, [:3]
DTSTART;TZID=Europe/Ljubljana:20260424T121500
DTEND;TZID=Europe/Ljubljana:20260424T140000
DTSTAMP:20260422T221914Z
UID:bf-AFLABS-URNIK:srecanje:28091-2026-04-24 12:15:00+02:00
DESCRIPTION:Predmet: Mikrobiologija PeF (0070695)\, laboratorijske vaje (L
 V)\, [:3]\nLetniki: Dvopredmetni učitelj 1. letnik (BI-CH-HE)\nIzvajalci:
  Monika Kos\, Monika Novak Babič\nProstor: Biološka vajalnica BV9\, Mikr
 obiološka vajalnica
END:VEVENT
BEGIN:VEVENT
SUMMARY:Mikrobiologija PeF (0070695)\, laboratorijske vaje (LV)\, [:3]
DTSTART;TZID=Europe/Ljubljana:20260501T121500
DTEND;TZID=Europe/Ljubljana:20260501T140000
DTSTAMP:20260422T221914Z
UID:bf-AFLABS-URNIK:srecanje:28091-2026-05-01 12:15:00+02:00
DESCRIPTION:Predmet: Mikrobiologija PeF (0070695)\, laboratorijske vaje (L
 V)\, [:3]\nLetniki: Dvopredmetni učitelj 1. letnik (BI-CH-HE)\nIzvajalci:
  Monika Kos\, Monika Novak Babič\nProstor: Biološka vajalnica BV9\, Mikr
 obiološka vajalnica
END:VEVENT
BEGIN:VEVENT
SUMMARY:Mikrobiologija PeF (0070695)\, laboratorijske vaje (LV)\, [:3]
DTSTART;TZID=Europe/Ljubljana:20260508T121500
DTEND;TZID=Europe/Ljubljana:20260508T140000
DTSTAMP:20260422T221914Z
UID:bf-AFLABS-URNIK:srecanje:28091-2026-05-08 12:15:00+02:00
DESCRIPTION:Predmet: Mikrobiologija PeF (0070695)\, laboratorijske vaje (L
 V)\, [:3]\nLetniki: Dvopredmetni učitelj 1. letnik (BI-CH-HE)\nIzvajalci:
  Monika Kos\, Monika Novak Babič\nProstor: Biološka vajalnica BV9\, Mikr
 obiološka vajalnica
END:VEVENT
BEGIN:VEVENT
SUMMARY:Mikrobiologija PeF (0070695)\, laboratorijske vaje (LV)\, [:3]
DTSTART;TZID=Europe/Ljubljana:20260515T121500
DTEND;TZID=Europe/Ljubljana:20260515T140000
DTSTAMP:20260422T221914Z
UID:bf-AFLABS-URNIK:srecanje:28091-2026-05-15 12:15:00+02:00
DESCRIPTION:Predmet: Mikrobiologija PeF (0070695)\, laboratorijske vaje (L
 V)\, [:3]\nLetniki: Dvopredmetni učitelj 1. letnik (BI-CH-HE)\nIzvajalci:
  Monika Kos\, Monika Novak Babič\nProstor: Biološka vajalnica BV9\, Mikr
 obiološka vajalnica
END:VEVENT
BEGIN:VEVENT
SUMMARY:Mikrobiologija PeF (0070695)\, laboratorijske vaje (LV)\, [:3]
DTSTART;TZID=Europe/Ljubljana:20260522T121500
DTEND;TZID=Europe/Ljubljana:20260522T140000
DTSTAMP:20260422T221914Z
UID:bf-AFLABS-URNIK:srecanje:28091-2026-05-22 12:15:00+02:00
DESCRIPTION:Predmet: Mikrobiologija PeF (0070695)\, laboratorijske vaje (L
 V)\, [:3]\nLetniki: Dvopredmetni učitelj 1. letnik (BI-CH-HE)\nIzvajalci:
  Monika Kos\, Monika Novak Babič\nProstor: Biološka vajalnica BV9\, Mikr
 obiološka vajalnica
END:VEVENT
BEGIN:VEVENT
SUMMARY:Mikrobiologija PeF (0070695)\, laboratorijske vaje (LV)\, [:3]
DTSTART;TZID=Europe/Ljubljana:20260529T121500
DTEND;TZID=Europe/Ljubljana:20260529T140000
DTSTAMP:20260422T221914Z
UID:bf-AFLABS-URNIK:srecanje:28091-2026-05-29 12:15:00+02:00
DESCRIPTION:Predmet: Mikrobiologija PeF (0070695)\, laboratorijske vaje (L
 V)\, [:3]\nLetniki: Dvopredmetni učitelj 1. letnik (BI-CH-HE)\nIzvajalci:
  Monika Kos\, Monika Novak Babič\nProstor: Biološka vajalnica BV9\, Mikr
 obiološka vajalnica
END:VEVENT
BEGIN:VEVENT
SUMMARY:Mikrobiologija PeF (0070695)\, laboratorijske vaje (LV)\, [:3]
DTSTART;TZID=Europe/Ljubljana:20260605T121500
DTEND;TZID=Europe/Ljubljana:20260605T140000
DTSTAMP:20260422T221914Z
UID:bf-AFLABS-URNIK:srecanje:28091-2026-06-05 12:15:00+02:00
DESCRIPTION:Predmet: Mikrobiologija PeF (0070695)\, laboratorijske vaje (L
 V)\, [:3]\nLetniki: Dvopredmetni učitelj 1. letnik (BI-CH-HE)\nIzvajalci:
  Monika Kos\, Monika Novak Babič\nProstor: Biološka vajalnica BV9\, Mikr
 obiološka vajalnica
END:VEVENT
BEGIN:VEVENT
SUMMARY:MIkrobiologija-praktikum 1. rok izpit
DTSTART;TZID=Europe/Ljubljana:20260608T140000
DTEND;TZID=Europe/Ljubljana:20260608T160000
DTSTAMP:20260422T221914Z
UID:bf-AFLABS-URNIK:rezervacija:28813
ATTENDEE:Biology 1 (BIUN)
CATEGORIES:Reservation
COLOR:royalblue
DESCRIPTION:Predmeti: Mikrobiologija - praktikum BI (BI046)\nLetniki: Biol
 ogy 1 (BIUN)\nIzvajalci: Monika Novak Babič\, Martina Turk\, Polona Zalar
 \nProstori: Predavalnica Biologija B1
LOCATION:Department of biology\, Predavalnica Biologija B1
ORGANIZER:Monika Novak Babič, Martina Turk, Polona Zalar
X-WR-TIMEZONE:Europe/Ljubljana
END:VEVENT
BEGIN:VEVENT
SUMMARY:Mikrobiologija - praktikum 2. rok izpit
DTSTART;TZID=Europe/Ljubljana:20260701T140000
DTEND;TZID=Europe/Ljubljana:20260701T160000
DTSTAMP:20260422T221914Z
UID:bf-AFLABS-URNIK:rezervacija:28815
ATTENDEE:Biology 1 (BIUN)
CATEGORIES:Reservation
COLOR:royalblue
DESCRIPTION:Predmeti: Mikrobiologija - praktikum BI (BI046)\nLetniki: Biol
 ogy 1 (BIUN)\nIzvajalci: Monika Novak Babič\, Martina Turk\, Polona Zalar
 \nProstori: Predavalnica Biologija B1
LOCATION:Department of biology\, Predavalnica Biologija B1
ORGANIZER:Monika Novak Babič, Martina Turk, Polona Zalar
X-WR-TIMEZONE:Europe/Ljubljana
END:VEVENT
BEGIN:VEVENT
SUMMARY:Mikrobiologija - praktikum 3. rok izpit
DTSTART;TZID=Europe/Ljubljana:20260903T090000
DTEND;TZID=Europe/Ljubljana:20260903T110000
DTSTAMP:20260422T221914Z
UID:bf-AFLABS-URNIK:rezervacija:28816
ATTENDEE:Biology 1 (BIUN)
CATEGORIES:Reservation
COLOR:royalblue
DESCRIPTION:Predmeti: Mikrobiologija - praktikum BI (BI046)\nLetniki: Biol
 ogy 1 (BIUN)\nIzvajalci: Monika Novak Babič\, Martina Turk\, Polona Zalar
 \nProstori: Predavalnica Biologija B5
LOCATION:Department of biology\, Predavalnica Biologija B5
ORGANIZER:Monika Novak Babič, Martina Turk, Polona Zalar
X-WR-TIMEZONE:Europe/Ljubljana
END:VEVENT
END:VCALENDAR
