BEGIN:VCALENDAR
VERSION:2.0
PRODID:-//AFLabs urnik izvoz - bf//aflabs.si//SI
NAME:UL BF Urnik
X-WR-CALNAME:UL BF Urnik
DTSTAMP:20260425T131546Z
REFRESH-INTERVAL:PT1H
SOURCE:https://urniki.bf.uni-lj.si/en/teacher/804/?day=2025-10-06&export=1
URL:https://urniki.bf.uni-lj.si/en/teacher/804/?day=2025-10-06&export=1
X-PUBLISHED-TTL:PT1H
X-WR-TIMEZONE:Europe/Ljubljana
BEGIN:VTIMEZONE
TZID:Europe/Ljubljana
BEGIN:DAYLIGHT
DTSTART:20260329T020000
RDATE:20260329T020000
RDATE:20270328T020000
TZNAME:CEST
TZOFFSETFROM:+0100
TZOFFSETTO:+0200
END:DAYLIGHT
BEGIN:STANDARD
DTSTART:20261025T030000
RDATE:20261025T030000
RDATE:20271031T030000
TZNAME:CET
TZOFFSETFROM:+0200
TZOFFSETTO:+0100
END:STANDARD
END:VTIMEZONE
BEGIN:VEVENT
SUMMARY:Osnove prehrane živali ZI (ZI014)\, laboratorijske vaje (LV)\, [1
 . sk.]
DTSTART;TZID=Europe/Ljubljana:20251007T080000
DTEND;TZID=Europe/Ljubljana:20251007T100000
DTSTAMP:20260425T131546Z
UID:bf-AFLABS-URNIK:srecanje:25265-2025-10-07 08:00:00+02:00
DESCRIPTION:Predmet: Osnove prehrane živali ZI (ZI014)\, laboratorijske v
 aje (LV)\, [1. sk.]\nLetniki: Kmetijstvo - živinoreja 2. letnik (ASP)\nIz
 vajalci: Tatjana Pirman\, Nejc Valcl\nProstor: Viteška dvorana
END:VEVENT
BEGIN:VEVENT
SUMMARY:Osnove prehrane živali ZI (ZI014)\, laboratorijske vaje (LV)\, [1
 . sk.]
DTSTART;TZID=Europe/Ljubljana:20251014T080000
DTEND;TZID=Europe/Ljubljana:20251014T100000
DTSTAMP:20260425T131546Z
UID:bf-AFLABS-URNIK:srecanje:25265-2025-10-14 08:00:00+02:00
DESCRIPTION:Predmet: Osnove prehrane živali ZI (ZI014)\, laboratorijske v
 aje (LV)\, [1. sk.]\nLetniki: Kmetijstvo - živinoreja 2. letnik (ASP)\nIz
 vajalci: Tatjana Pirman\, Nejc Valcl\nProstor: Viteška dvorana
END:VEVENT
BEGIN:VEVENT
SUMMARY:Osnove prehrane živali ZI (ZI014)\, laboratorijske vaje (LV)\, [1
 . sk.]
DTSTART;TZID=Europe/Ljubljana:20251021T080000
DTEND;TZID=Europe/Ljubljana:20251021T100000
DTSTAMP:20260425T131546Z
UID:bf-AFLABS-URNIK:srecanje:25265-2025-10-21 08:00:00+02:00
DESCRIPTION:Predmet: Osnove prehrane živali ZI (ZI014)\, laboratorijske v
 aje (LV)\, [1. sk.]\nLetniki: Kmetijstvo - živinoreja 2. letnik (ASP)\nIz
 vajalci: Tatjana Pirman\, Nejc Valcl\nProstor: Viteška dvorana
END:VEVENT
BEGIN:VEVENT
SUMMARY:Osnove prehrane živali ZI (ZI014)\, laboratorijske vaje (LV)\, [1
 . sk.]
DTSTART;TZID=Europe/Ljubljana:20251028T080000
DTEND;TZID=Europe/Ljubljana:20251028T100000
DTSTAMP:20260425T131546Z
UID:bf-AFLABS-URNIK:srecanje:25265-2025-10-28 08:00:00+01:00
DESCRIPTION:Predmet: Osnove prehrane živali ZI (ZI014)\, laboratorijske v
 aje (LV)\, [1. sk.]\nLetniki: Kmetijstvo - živinoreja 2. letnik (ASP)\nIz
 vajalci: Tatjana Pirman\, Nejc Valcl\nProstor: Viteška dvorana
END:VEVENT
BEGIN:VEVENT
SUMMARY:Osnove prehrane živali ZI (ZI014)\, laboratorijske vaje (LV)\, [1
 . sk.]
DTSTART;TZID=Europe/Ljubljana:20251104T080000
DTEND;TZID=Europe/Ljubljana:20251104T100000
DTSTAMP:20260425T131546Z
UID:bf-AFLABS-URNIK:srecanje:25265-2025-11-04 08:00:00+01:00
DESCRIPTION:Predmet: Osnove prehrane živali ZI (ZI014)\, laboratorijske v
 aje (LV)\, [1. sk.]\nLetniki: Kmetijstvo - živinoreja 2. letnik (ASP)\nIz
 vajalci: Tatjana Pirman\, Nejc Valcl\nProstor: Viteška dvorana
END:VEVENT
BEGIN:VEVENT
SUMMARY:Osnove prehrane živali ZI (ZI014)\, laboratorijske vaje (LV)\, [1
 . sk.]
DTSTART;TZID=Europe/Ljubljana:20251111T080000
DTEND;TZID=Europe/Ljubljana:20251111T100000
DTSTAMP:20260425T131546Z
UID:bf-AFLABS-URNIK:srecanje:25265-2025-11-11 08:00:00+01:00
DESCRIPTION:Predmet: Osnove prehrane živali ZI (ZI014)\, laboratorijske v
 aje (LV)\, [1. sk.]\nLetniki: Kmetijstvo - živinoreja 2. letnik (ASP)\nIz
 vajalci: Tatjana Pirman\, Nejc Valcl\nProstor: Viteška dvorana
END:VEVENT
BEGIN:VEVENT
SUMMARY:Osnove prehrane živali ZI (ZI014)\, predavanja in seminarji (P+S)
DTSTART;TZID=Europe/Ljubljana:20251007T100000
DTEND;TZID=Europe/Ljubljana:20251007T130000
DTSTAMP:20260425T131546Z
UID:bf-AFLABS-URNIK:srecanje:25266-2025-10-07 10:00:00+02:00
DESCRIPTION:Predmet: Osnove prehrane živali ZI (ZI014)\, predavanja in se
 minarji (P+S)\nLetniki: Kmetijstvo - živinoreja 2. letnik (ASP)\nIzvajalc
 i: Vida Rezar\nProstor: Viteška dvorana
END:VEVENT
BEGIN:VEVENT
SUMMARY:Osnove prehrane živali ZI (ZI014)\, predavanja in seminarji (P+S)
DTSTART;TZID=Europe/Ljubljana:20251014T100000
DTEND;TZID=Europe/Ljubljana:20251014T130000
DTSTAMP:20260425T131546Z
UID:bf-AFLABS-URNIK:srecanje:25266-2025-10-14 10:00:00+02:00
DESCRIPTION:Predmet: Osnove prehrane živali ZI (ZI014)\, predavanja in se
 minarji (P+S)\nLetniki: Kmetijstvo - živinoreja 2. letnik (ASP)\nIzvajalc
 i: Vida Rezar\nProstor: Viteška dvorana
END:VEVENT
BEGIN:VEVENT
SUMMARY:Osnove prehrane živali ZI (ZI014)\, predavanja in seminarji (P+S)
DTSTART;TZID=Europe/Ljubljana:20251021T100000
DTEND;TZID=Europe/Ljubljana:20251021T130000
DTSTAMP:20260425T131546Z
UID:bf-AFLABS-URNIK:srecanje:25266-2025-10-21 10:00:00+02:00
DESCRIPTION:Predmet: Osnove prehrane živali ZI (ZI014)\, predavanja in se
 minarji (P+S)\nLetniki: Kmetijstvo - živinoreja 2. letnik (ASP)\nIzvajalc
 i: Vida Rezar\nProstor: Viteška dvorana
END:VEVENT
BEGIN:VEVENT
SUMMARY:Osnove prehrane živali ZI (ZI014)\, predavanja in seminarji (P+S)
DTSTART;TZID=Europe/Ljubljana:20251028T100000
DTEND;TZID=Europe/Ljubljana:20251028T130000
DTSTAMP:20260425T131546Z
UID:bf-AFLABS-URNIK:srecanje:25266-2025-10-28 10:00:00+01:00
DESCRIPTION:Predmet: Osnove prehrane živali ZI (ZI014)\, predavanja in se
 minarji (P+S)\nLetniki: Kmetijstvo - živinoreja 2. letnik (ASP)\nIzvajalc
 i: Vida Rezar\nProstor: Viteška dvorana
END:VEVENT
BEGIN:VEVENT
SUMMARY:Osnove prehrane živali ZI (ZI014)\, predavanja in seminarji (P+S)
DTSTART;TZID=Europe/Ljubljana:20251104T100000
DTEND;TZID=Europe/Ljubljana:20251104T130000
DTSTAMP:20260425T131546Z
UID:bf-AFLABS-URNIK:srecanje:25266-2025-11-04 10:00:00+01:00
DESCRIPTION:Predmet: Osnove prehrane živali ZI (ZI014)\, predavanja in se
 minarji (P+S)\nLetniki: Kmetijstvo - živinoreja 2. letnik (ASP)\nIzvajalc
 i: Vida Rezar\nProstor: Viteška dvorana
END:VEVENT
BEGIN:VEVENT
SUMMARY:Osnove prehrane živali ZI (ZI014)\, predavanja in seminarji (P+S)
DTSTART;TZID=Europe/Ljubljana:20251111T100000
DTEND;TZID=Europe/Ljubljana:20251111T130000
DTSTAMP:20260425T131546Z
UID:bf-AFLABS-URNIK:srecanje:25266-2025-11-11 10:00:00+01:00
DESCRIPTION:Predmet: Osnove prehrane živali ZI (ZI014)\, predavanja in se
 minarji (P+S)\nLetniki: Kmetijstvo - živinoreja 2. letnik (ASP)\nIzvajalc
 i: Vida Rezar\nProstor: Viteška dvorana
END:VEVENT
BEGIN:VEVENT
SUMMARY:Osnove prehrane živali ZI (ZI014)\, laboratorijske vaje (LV)\, [2
 . sk]
DTSTART;TZID=Europe/Ljubljana:20251007T130000
DTEND;TZID=Europe/Ljubljana:20251007T150000
DTSTAMP:20260425T131546Z
UID:bf-AFLABS-URNIK:srecanje:29208-2025-10-07 13:00:00+02:00
DESCRIPTION:Predmet: Osnove prehrane živali ZI (ZI014)\, laboratorijske v
 aje (LV)\, [2. sk]\nLetniki: Kmetijstvo - živinoreja 2. letnik (ASP)\nIzv
 ajalci: Tatjana Pirman\, Nejc Valcl\nProstor: Viteška dvorana
END:VEVENT
BEGIN:VEVENT
SUMMARY:Osnove prehrane živali ZI (ZI014)\, laboratorijske vaje (LV)\, [2
 . sk]
DTSTART;TZID=Europe/Ljubljana:20251014T130000
DTEND;TZID=Europe/Ljubljana:20251014T150000
DTSTAMP:20260425T131546Z
UID:bf-AFLABS-URNIK:srecanje:29208-2025-10-14 13:00:00+02:00
DESCRIPTION:Predmet: Osnove prehrane živali ZI (ZI014)\, laboratorijske v
 aje (LV)\, [2. sk]\nLetniki: Kmetijstvo - živinoreja 2. letnik (ASP)\nIzv
 ajalci: Tatjana Pirman\, Nejc Valcl\nProstor: Viteška dvorana
END:VEVENT
BEGIN:VEVENT
SUMMARY:Osnove prehrane živali ZI (ZI014)\, laboratorijske vaje (LV)\, [2
 . sk]
DTSTART;TZID=Europe/Ljubljana:20251021T130000
DTEND;TZID=Europe/Ljubljana:20251021T150000
DTSTAMP:20260425T131546Z
UID:bf-AFLABS-URNIK:srecanje:29208-2025-10-21 13:00:00+02:00
DESCRIPTION:Predmet: Osnove prehrane živali ZI (ZI014)\, laboratorijske v
 aje (LV)\, [2. sk]\nLetniki: Kmetijstvo - živinoreja 2. letnik (ASP)\nIzv
 ajalci: Tatjana Pirman\, Nejc Valcl\nProstor: Viteška dvorana
END:VEVENT
BEGIN:VEVENT
SUMMARY:Osnove prehrane živali ZI (ZI014)\, laboratorijske vaje (LV)\, [2
 . sk]
DTSTART;TZID=Europe/Ljubljana:20251028T130000
DTEND;TZID=Europe/Ljubljana:20251028T150000
DTSTAMP:20260425T131546Z
UID:bf-AFLABS-URNIK:srecanje:29208-2025-10-28 13:00:00+01:00
DESCRIPTION:Predmet: Osnove prehrane živali ZI (ZI014)\, laboratorijske v
 aje (LV)\, [2. sk]\nLetniki: Kmetijstvo - živinoreja 2. letnik (ASP)\nIzv
 ajalci: Tatjana Pirman\, Nejc Valcl\nProstor: Viteška dvorana
END:VEVENT
BEGIN:VEVENT
SUMMARY:Osnove prehrane živali ZI (ZI014)\, laboratorijske vaje (LV)\, [2
 . sk]
DTSTART;TZID=Europe/Ljubljana:20251104T130000
DTEND;TZID=Europe/Ljubljana:20251104T150000
DTSTAMP:20260425T131546Z
UID:bf-AFLABS-URNIK:srecanje:29208-2025-11-04 13:00:00+01:00
DESCRIPTION:Predmet: Osnove prehrane živali ZI (ZI014)\, laboratorijske v
 aje (LV)\, [2. sk]\nLetniki: Kmetijstvo - živinoreja 2. letnik (ASP)\nIzv
 ajalci: Tatjana Pirman\, Nejc Valcl\nProstor: Viteška dvorana
END:VEVENT
BEGIN:VEVENT
SUMMARY:Osnove prehrane živali ZI (ZI014)\, laboratorijske vaje (LV)\, [2
 . sk]
DTSTART;TZID=Europe/Ljubljana:20251111T130000
DTEND;TZID=Europe/Ljubljana:20251111T150000
DTSTAMP:20260425T131546Z
UID:bf-AFLABS-URNIK:srecanje:29208-2025-11-11 13:00:00+01:00
DESCRIPTION:Predmet: Osnove prehrane živali ZI (ZI014)\, laboratorijske v
 aje (LV)\, [2. sk]\nLetniki: Kmetijstvo - živinoreja 2. letnik (ASP)\nIzv
 ajalci: Tatjana Pirman\, Nejc Valcl\nProstor: Viteška dvorana
END:VEVENT
END:VCALENDAR
