BEGIN:VCALENDAR
VERSION:2.0
PRODID:-//AFLabs urnik izvoz - bf//aflabs.si//SI
NAME:UL BF Urnik
X-WR-CALNAME:UL BF Urnik
DTSTAMP:20260425T215745Z
REFRESH-INTERVAL:PT1H
SOURCE:https://urniki.bf.uni-lj.si/en/teacher/79/?day=2025-09-22&export=1
URL:https://urniki.bf.uni-lj.si/en/teacher/79/?day=2025-09-22&export=1
X-PUBLISHED-TTL:PT1H
X-WR-TIMEZONE:Europe/Ljubljana
BEGIN:VTIMEZONE
TZID:Europe/Ljubljana
BEGIN:DAYLIGHT
DTSTART:20260329T020000
RDATE:20260329T020000
RDATE:20270328T020000
TZNAME:CEST
TZOFFSETFROM:+0100
TZOFFSETTO:+0200
END:DAYLIGHT
BEGIN:STANDARD
DTSTART:20261025T030000
RDATE:20261025T030000
RDATE:20271031T030000
TZNAME:CET
TZOFFSETFROM:+0200
TZOFFSETTO:+0100
END:STANDARD
END:VTIMEZONE
BEGIN:VEVENT
SUMMARY:Biologija BT (BT001)\, predavanja (P)
DTSTART;TZID=Europe/Ljubljana:20251001T100000
DTEND;TZID=Europe/Ljubljana:20251001T120000
DTSTAMP:20260425T215745Z
UID:bf-AFLABS-URNIK:srecanje:24585-2025-10-01 10:00:00+02:00
DESCRIPTION:Predmet: Biologija BT (BT001)\, predavanja (P)\nLetniki: Biote
 hnologija 1. letnik (BTUN)\nIzvajalci: Jasna Dolenc Koce\, Damjana Drobne\
 , Nada Žnidaršič\nProstor: Predavalnica Dekanat D1\, Dvorana prof. dr. 
 Janeza Hribarja
END:VEVENT
BEGIN:VEVENT
SUMMARY:Biologija BT (BT001)\, predavanja (P)
DTSTART;TZID=Europe/Ljubljana:20251008T100000
DTEND;TZID=Europe/Ljubljana:20251008T120000
DTSTAMP:20260425T215745Z
UID:bf-AFLABS-URNIK:srecanje:24585-2025-10-08 10:00:00+02:00
DESCRIPTION:Predmet: Biologija BT (BT001)\, predavanja (P)\nLetniki: Biote
 hnologija 1. letnik (BTUN)\nIzvajalci: Jasna Dolenc Koce\, Damjana Drobne\
 , Nada Žnidaršič\nProstor: Predavalnica Dekanat D1\, Dvorana prof. dr. 
 Janeza Hribarja
END:VEVENT
BEGIN:VEVENT
SUMMARY:Biologija BT (BT001)\, predavanja (P)
DTSTART;TZID=Europe/Ljubljana:20251015T100000
DTEND;TZID=Europe/Ljubljana:20251015T120000
DTSTAMP:20260425T215745Z
UID:bf-AFLABS-URNIK:srecanje:24585-2025-10-15 10:00:00+02:00
DESCRIPTION:Predmet: Biologija BT (BT001)\, predavanja (P)\nLetniki: Biote
 hnologija 1. letnik (BTUN)\nIzvajalci: Jasna Dolenc Koce\, Damjana Drobne\
 , Nada Žnidaršič\nProstor: Predavalnica Dekanat D1\, Dvorana prof. dr. 
 Janeza Hribarja
END:VEVENT
BEGIN:VEVENT
SUMMARY:Biologija BT (BT001)\, predavanja (P)
DTSTART;TZID=Europe/Ljubljana:20251022T100000
DTEND;TZID=Europe/Ljubljana:20251022T120000
DTSTAMP:20260425T215745Z
UID:bf-AFLABS-URNIK:srecanje:24585-2025-10-22 10:00:00+02:00
DESCRIPTION:Predmet: Biologija BT (BT001)\, predavanja (P)\nLetniki: Biote
 hnologija 1. letnik (BTUN)\nIzvajalci: Jasna Dolenc Koce\, Damjana Drobne\
 , Nada Žnidaršič\nProstor: Predavalnica Dekanat D1\, Dvorana prof. dr. 
 Janeza Hribarja
END:VEVENT
BEGIN:VEVENT
SUMMARY:Biologija ZP (ZP038)\, predavanja in seminarji (P+S)
DTSTART;TZID=Europe/Ljubljana:20251001T100000
DTEND;TZID=Europe/Ljubljana:20251001T120000
DTSTAMP:20260425T215745Z
UID:bf-AFLABS-URNIK:srecanje:24622-2025-10-01 10:00:00+02:00
DESCRIPTION:Predmet: Biologija ZP (ZP038)\, predavanja in seminarji (P+S)\
 nLetniki: Živilstvo in prehrana 1. letnik (FSUN)\nIzvajalci: Jasna Dolenc
  Koce\, Damjana Drobne\, Nada Žnidaršič\nProstor: Predavalnica Dekanat 
 D1\, Dvorana prof. dr. Janeza Hribarja
END:VEVENT
BEGIN:VEVENT
SUMMARY:Biologija ZP (ZP038)\, predavanja in seminarji (P+S)
DTSTART;TZID=Europe/Ljubljana:20251008T100000
DTEND;TZID=Europe/Ljubljana:20251008T120000
DTSTAMP:20260425T215745Z
UID:bf-AFLABS-URNIK:srecanje:24622-2025-10-08 10:00:00+02:00
DESCRIPTION:Predmet: Biologija ZP (ZP038)\, predavanja in seminarji (P+S)\
 nLetniki: Živilstvo in prehrana 1. letnik (FSUN)\nIzvajalci: Jasna Dolenc
  Koce\, Damjana Drobne\, Nada Žnidaršič\nProstor: Predavalnica Dekanat 
 D1\, Dvorana prof. dr. Janeza Hribarja
END:VEVENT
BEGIN:VEVENT
SUMMARY:Biologija ZP (ZP038)\, predavanja in seminarji (P+S)
DTSTART;TZID=Europe/Ljubljana:20251015T100000
DTEND;TZID=Europe/Ljubljana:20251015T120000
DTSTAMP:20260425T215745Z
UID:bf-AFLABS-URNIK:srecanje:24622-2025-10-15 10:00:00+02:00
DESCRIPTION:Predmet: Biologija ZP (ZP038)\, predavanja in seminarji (P+S)\
 nLetniki: Živilstvo in prehrana 1. letnik (FSUN)\nIzvajalci: Jasna Dolenc
  Koce\, Damjana Drobne\, Nada Žnidaršič\nProstor: Predavalnica Dekanat 
 D1\, Dvorana prof. dr. Janeza Hribarja
END:VEVENT
BEGIN:VEVENT
SUMMARY:Biologija ZP (ZP038)\, predavanja in seminarji (P+S)
DTSTART;TZID=Europe/Ljubljana:20251022T100000
DTEND;TZID=Europe/Ljubljana:20251022T120000
DTSTAMP:20260425T215745Z
UID:bf-AFLABS-URNIK:srecanje:24622-2025-10-22 10:00:00+02:00
DESCRIPTION:Predmet: Biologija ZP (ZP038)\, predavanja in seminarji (P+S)\
 nLetniki: Živilstvo in prehrana 1. letnik (FSUN)\nIzvajalci: Jasna Dolenc
  Koce\, Damjana Drobne\, Nada Žnidaršič\nProstor: Predavalnica Dekanat 
 D1\, Dvorana prof. dr. Janeza Hribarja
END:VEVENT
BEGIN:VEVENT
SUMMARY:Biologija BT (BT001)\, predavanja (P)
DTSTART;TZID=Europe/Ljubljana:20251002T080000
DTEND;TZID=Europe/Ljubljana:20251002T100000
DTSTAMP:20260425T215745Z
UID:bf-AFLABS-URNIK:srecanje:24586-2025-10-02 08:00:00+02:00
DESCRIPTION:Predmet: Biologija BT (BT001)\, predavanja (P)\nLetniki: Biote
 hnologija 1. letnik (BTUN)\nIzvajalci: Jasna Dolenc Koce\, Damjana Drobne\
 , Nada Žnidaršič\nProstor: Predavalnica Dekanat D1\, Dvorana prof. dr. 
 Janeza Hribarja
END:VEVENT
BEGIN:VEVENT
SUMMARY:Biologija BT (BT001)\, predavanja (P)
DTSTART;TZID=Europe/Ljubljana:20251009T080000
DTEND;TZID=Europe/Ljubljana:20251009T100000
DTSTAMP:20260425T215745Z
UID:bf-AFLABS-URNIK:srecanje:24586-2025-10-09 08:00:00+02:00
DESCRIPTION:Predmet: Biologija BT (BT001)\, predavanja (P)\nLetniki: Biote
 hnologija 1. letnik (BTUN)\nIzvajalci: Jasna Dolenc Koce\, Damjana Drobne\
 , Nada Žnidaršič\nProstor: Predavalnica Dekanat D1\, Dvorana prof. dr. 
 Janeza Hribarja
END:VEVENT
BEGIN:VEVENT
SUMMARY:Biologija BT (BT001)\, predavanja (P)
DTSTART;TZID=Europe/Ljubljana:20251016T080000
DTEND;TZID=Europe/Ljubljana:20251016T100000
DTSTAMP:20260425T215745Z
UID:bf-AFLABS-URNIK:srecanje:24586-2025-10-16 08:00:00+02:00
DESCRIPTION:Predmet: Biologija BT (BT001)\, predavanja (P)\nLetniki: Biote
 hnologija 1. letnik (BTUN)\nIzvajalci: Jasna Dolenc Koce\, Damjana Drobne\
 , Nada Žnidaršič\nProstor: Predavalnica Dekanat D1\, Dvorana prof. dr. 
 Janeza Hribarja
END:VEVENT
BEGIN:VEVENT
SUMMARY:Biologija BT (BT001)\, predavanja (P)
DTSTART;TZID=Europe/Ljubljana:20251023T080000
DTEND;TZID=Europe/Ljubljana:20251023T100000
DTSTAMP:20260425T215745Z
UID:bf-AFLABS-URNIK:srecanje:24586-2025-10-23 08:00:00+02:00
DESCRIPTION:Predmet: Biologija BT (BT001)\, predavanja (P)\nLetniki: Biote
 hnologija 1. letnik (BTUN)\nIzvajalci: Jasna Dolenc Koce\, Damjana Drobne\
 , Nada Žnidaršič\nProstor: Predavalnica Dekanat D1\, Dvorana prof. dr. 
 Janeza Hribarja
END:VEVENT
BEGIN:VEVENT
SUMMARY:Biologija celice in histologija (BI002)\, predavanja in seminarji 
 (P+S)
DTSTART;TZID=Europe/Ljubljana:20251002T120000
DTEND;TZID=Europe/Ljubljana:20251002T140000
DTSTAMP:20260425T215745Z
UID:bf-AFLABS-URNIK:srecanje:24593-2025-10-02 12:00:00+02:00
DESCRIPTION:Predmet: Biologija celice in histologija (BI002)\, predavanja 
 in seminarji (P+S)\nLetniki: Biology 1 (BIUN)\nIzvajalci: Nada Žnidarši
 č\nProstor: Predavalnica Biologija B1
END:VEVENT
BEGIN:VEVENT
SUMMARY:Biologija celice in histologija (BI002)\, predavanja in seminarji 
 (P+S)
DTSTART;TZID=Europe/Ljubljana:20251009T120000
DTEND;TZID=Europe/Ljubljana:20251009T140000
DTSTAMP:20260425T215745Z
UID:bf-AFLABS-URNIK:srecanje:24593-2025-10-09 12:00:00+02:00
DESCRIPTION:Predmet: Biologija celice in histologija (BI002)\, predavanja 
 in seminarji (P+S)\nLetniki: Biology 1 (BIUN)\nIzvajalci: Nada Žnidarši
 č\nProstor: Predavalnica Biologija B1
END:VEVENT
BEGIN:VEVENT
SUMMARY:Biologija celice in histologija (BI002)\, predavanja in seminarji 
 (P+S)
DTSTART;TZID=Europe/Ljubljana:20251016T120000
DTEND;TZID=Europe/Ljubljana:20251016T140000
DTSTAMP:20260425T215745Z
UID:bf-AFLABS-URNIK:srecanje:24593-2025-10-16 12:00:00+02:00
DESCRIPTION:Predmet: Biologija celice in histologija (BI002)\, predavanja 
 in seminarji (P+S)\nLetniki: Biology 1 (BIUN)\nIzvajalci: Nada Žnidarši
 č\nProstor: Predavalnica Biologija B1
END:VEVENT
BEGIN:VEVENT
SUMMARY:Biologija celice in histologija (BI002)\, predavanja in seminarji 
 (P+S)
DTSTART;TZID=Europe/Ljubljana:20251023T120000
DTEND;TZID=Europe/Ljubljana:20251023T140000
DTSTAMP:20260425T215745Z
UID:bf-AFLABS-URNIK:srecanje:24593-2025-10-23 12:00:00+02:00
DESCRIPTION:Predmet: Biologija celice in histologija (BI002)\, predavanja 
 in seminarji (P+S)\nLetniki: Biology 1 (BIUN)\nIzvajalci: Nada Žnidarši
 č\nProstor: Predavalnica Biologija B1
END:VEVENT
BEGIN:VEVENT
SUMMARY:Biologija ZP (ZP038)\, predavanja in seminarji (P+S)
DTSTART;TZID=Europe/Ljubljana:20251002T080000
DTEND;TZID=Europe/Ljubljana:20251002T100000
DTSTAMP:20260425T215745Z
UID:bf-AFLABS-URNIK:srecanje:24623-2025-10-02 08:00:00+02:00
DESCRIPTION:Predmet: Biologija ZP (ZP038)\, predavanja in seminarji (P+S)\
 nLetniki: Živilstvo in prehrana 1. letnik (FSUN)\nIzvajalci: Jasna Dolenc
  Koce\, Damjana Drobne\, Nada Žnidaršič\nProstor: Predavalnica Dekanat 
 D1\, Dvorana prof. dr. Janeza Hribarja
END:VEVENT
BEGIN:VEVENT
SUMMARY:Biologija ZP (ZP038)\, predavanja in seminarji (P+S)
DTSTART;TZID=Europe/Ljubljana:20251009T080000
DTEND;TZID=Europe/Ljubljana:20251009T100000
DTSTAMP:20260425T215745Z
UID:bf-AFLABS-URNIK:srecanje:24623-2025-10-09 08:00:00+02:00
DESCRIPTION:Predmet: Biologija ZP (ZP038)\, predavanja in seminarji (P+S)\
 nLetniki: Živilstvo in prehrana 1. letnik (FSUN)\nIzvajalci: Jasna Dolenc
  Koce\, Damjana Drobne\, Nada Žnidaršič\nProstor: Predavalnica Dekanat 
 D1\, Dvorana prof. dr. Janeza Hribarja
END:VEVENT
BEGIN:VEVENT
SUMMARY:Biologija ZP (ZP038)\, predavanja in seminarji (P+S)
DTSTART;TZID=Europe/Ljubljana:20251016T080000
DTEND;TZID=Europe/Ljubljana:20251016T100000
DTSTAMP:20260425T215745Z
UID:bf-AFLABS-URNIK:srecanje:24623-2025-10-16 08:00:00+02:00
DESCRIPTION:Predmet: Biologija ZP (ZP038)\, predavanja in seminarji (P+S)\
 nLetniki: Živilstvo in prehrana 1. letnik (FSUN)\nIzvajalci: Jasna Dolenc
  Koce\, Damjana Drobne\, Nada Žnidaršič\nProstor: Predavalnica Dekanat 
 D1\, Dvorana prof. dr. Janeza Hribarja
END:VEVENT
BEGIN:VEVENT
SUMMARY:Biologija ZP (ZP038)\, predavanja in seminarji (P+S)
DTSTART;TZID=Europe/Ljubljana:20251023T080000
DTEND;TZID=Europe/Ljubljana:20251023T100000
DTSTAMP:20260425T215745Z
UID:bf-AFLABS-URNIK:srecanje:24623-2025-10-23 08:00:00+02:00
DESCRIPTION:Predmet: Biologija ZP (ZP038)\, predavanja in seminarji (P+S)\
 nLetniki: Živilstvo in prehrana 1. letnik (FSUN)\nIzvajalci: Jasna Dolenc
  Koce\, Damjana Drobne\, Nada Žnidaršič\nProstor: Predavalnica Dekanat 
 D1\, Dvorana prof. dr. Janeza Hribarja
END:VEVENT
BEGIN:VEVENT
SUMMARY:Biologija BT (BT001)\, predavanja (P)
DTSTART;TZID=Europe/Ljubljana:20251003T080000
DTEND;TZID=Europe/Ljubljana:20251003T100000
DTSTAMP:20260425T215745Z
UID:bf-AFLABS-URNIK:srecanje:24587-2025-10-03 08:00:00+02:00
DESCRIPTION:Predmet: Biologija BT (BT001)\, predavanja (P)\nLetniki: Biote
 hnologija 1. letnik (BTUN)\nIzvajalci: Jasna Dolenc Koce\, Damjana Drobne\
 , Nada Žnidaršič\nProstor: Predavalnica Dekanat D1\, Dvorana prof. dr. 
 Janeza Hribarja
END:VEVENT
BEGIN:VEVENT
SUMMARY:Biologija BT (BT001)\, predavanja (P)
DTSTART;TZID=Europe/Ljubljana:20251010T080000
DTEND;TZID=Europe/Ljubljana:20251010T100000
DTSTAMP:20260425T215745Z
UID:bf-AFLABS-URNIK:srecanje:24587-2025-10-10 08:00:00+02:00
DESCRIPTION:Predmet: Biologija BT (BT001)\, predavanja (P)\nLetniki: Biote
 hnologija 1. letnik (BTUN)\nIzvajalci: Jasna Dolenc Koce\, Damjana Drobne\
 , Nada Žnidaršič\nProstor: Predavalnica Dekanat D1\, Dvorana prof. dr. 
 Janeza Hribarja
END:VEVENT
BEGIN:VEVENT
SUMMARY:Biologija BT (BT001)\, predavanja (P)
DTSTART;TZID=Europe/Ljubljana:20251017T080000
DTEND;TZID=Europe/Ljubljana:20251017T100000
DTSTAMP:20260425T215745Z
UID:bf-AFLABS-URNIK:srecanje:24587-2025-10-17 08:00:00+02:00
DESCRIPTION:Predmet: Biologija BT (BT001)\, predavanja (P)\nLetniki: Biote
 hnologija 1. letnik (BTUN)\nIzvajalci: Jasna Dolenc Koce\, Damjana Drobne\
 , Nada Žnidaršič\nProstor: Predavalnica Dekanat D1\, Dvorana prof. dr. 
 Janeza Hribarja
END:VEVENT
BEGIN:VEVENT
SUMMARY:Biologija BT (BT001)\, predavanja (P)
DTSTART;TZID=Europe/Ljubljana:20251024T080000
DTEND;TZID=Europe/Ljubljana:20251024T100000
DTSTAMP:20260425T215745Z
UID:bf-AFLABS-URNIK:srecanje:24587-2025-10-24 08:00:00+02:00
DESCRIPTION:Predmet: Biologija BT (BT001)\, predavanja (P)\nLetniki: Biote
 hnologija 1. letnik (BTUN)\nIzvajalci: Jasna Dolenc Koce\, Damjana Drobne\
 , Nada Žnidaršič\nProstor: Predavalnica Dekanat D1\, Dvorana prof. dr. 
 Janeza Hribarja
END:VEVENT
BEGIN:VEVENT
SUMMARY:Biologija ZP (ZP038)\, predavanja in seminarji (P+S)
DTSTART;TZID=Europe/Ljubljana:20251003T080000
DTEND;TZID=Europe/Ljubljana:20251003T100000
DTSTAMP:20260425T215745Z
UID:bf-AFLABS-URNIK:srecanje:24624-2025-10-03 08:00:00+02:00
DESCRIPTION:Predmet: Biologija ZP (ZP038)\, predavanja in seminarji (P+S)\
 nLetniki: Živilstvo in prehrana 1. letnik (FSUN)\nIzvajalci: Jasna Dolenc
  Koce\, Damjana Drobne\, Nada Žnidaršič\nProstor: Predavalnica Dekanat 
 D1\, Dvorana prof. dr. Janeza Hribarja
END:VEVENT
BEGIN:VEVENT
SUMMARY:Biologija ZP (ZP038)\, predavanja in seminarji (P+S)
DTSTART;TZID=Europe/Ljubljana:20251010T080000
DTEND;TZID=Europe/Ljubljana:20251010T100000
DTSTAMP:20260425T215745Z
UID:bf-AFLABS-URNIK:srecanje:24624-2025-10-10 08:00:00+02:00
DESCRIPTION:Predmet: Biologija ZP (ZP038)\, predavanja in seminarji (P+S)\
 nLetniki: Živilstvo in prehrana 1. letnik (FSUN)\nIzvajalci: Jasna Dolenc
  Koce\, Damjana Drobne\, Nada Žnidaršič\nProstor: Predavalnica Dekanat 
 D1\, Dvorana prof. dr. Janeza Hribarja
END:VEVENT
BEGIN:VEVENT
SUMMARY:Biologija ZP (ZP038)\, predavanja in seminarji (P+S)
DTSTART;TZID=Europe/Ljubljana:20251017T080000
DTEND;TZID=Europe/Ljubljana:20251017T100000
DTSTAMP:20260425T215745Z
UID:bf-AFLABS-URNIK:srecanje:24624-2025-10-17 08:00:00+02:00
DESCRIPTION:Predmet: Biologija ZP (ZP038)\, predavanja in seminarji (P+S)\
 nLetniki: Živilstvo in prehrana 1. letnik (FSUN)\nIzvajalci: Jasna Dolenc
  Koce\, Damjana Drobne\, Nada Žnidaršič\nProstor: Predavalnica Dekanat 
 D1\, Dvorana prof. dr. Janeza Hribarja
END:VEVENT
BEGIN:VEVENT
SUMMARY:Biologija ZP (ZP038)\, predavanja in seminarji (P+S)
DTSTART;TZID=Europe/Ljubljana:20251024T080000
DTEND;TZID=Europe/Ljubljana:20251024T100000
DTSTAMP:20260425T215745Z
UID:bf-AFLABS-URNIK:srecanje:24624-2025-10-24 08:00:00+02:00
DESCRIPTION:Predmet: Biologija ZP (ZP038)\, predavanja in seminarji (P+S)\
 nLetniki: Živilstvo in prehrana 1. letnik (FSUN)\nIzvajalci: Jasna Dolenc
  Koce\, Damjana Drobne\, Nada Žnidaršič\nProstor: Predavalnica Dekanat 
 D1\, Dvorana prof. dr. Janeza Hribarja
END:VEVENT
BEGIN:VEVENT
SUMMARY:Funkcionalna biologija celice (BI330)\, predavanja in seminarji (P
 +S)
DTSTART;TZID=Europe/Ljubljana:20251003T120000
DTEND;TZID=Europe/Ljubljana:20251003T140000
DTSTAMP:20260425T215745Z
UID:bf-AFLABS-URNIK:srecanje:24816-2025-10-03 12:00:00+02:00
DESCRIPTION:Predmet: Funkcionalna biologija celice (BI330)\, predavanja in
  seminarji (P+S)\nLetniki: \nIzvajalci: Nada Žnidaršič\nProstor: Predav
 alnica Biologija B5
END:VEVENT
BEGIN:VEVENT
SUMMARY:Funkcionalna biologija celice (BI330)\, predavanja in seminarji (P
 +S)
DTSTART;TZID=Europe/Ljubljana:20251010T120000
DTEND;TZID=Europe/Ljubljana:20251010T140000
DTSTAMP:20260425T215745Z
UID:bf-AFLABS-URNIK:srecanje:24816-2025-10-10 12:00:00+02:00
DESCRIPTION:Predmet: Funkcionalna biologija celice (BI330)\, predavanja in
  seminarji (P+S)\nLetniki: \nIzvajalci: Nada Žnidaršič\nProstor: Predav
 alnica Biologija B5
END:VEVENT
BEGIN:VEVENT
SUMMARY:Funkcionalna biologija celice (BI330)\, predavanja in seminarji (P
 +S)
DTSTART;TZID=Europe/Ljubljana:20251017T120000
DTEND;TZID=Europe/Ljubljana:20251017T140000
DTSTAMP:20260425T215745Z
UID:bf-AFLABS-URNIK:srecanje:24816-2025-10-17 12:00:00+02:00
DESCRIPTION:Predmet: Funkcionalna biologija celice (BI330)\, predavanja in
  seminarji (P+S)\nLetniki: \nIzvajalci: Nada Žnidaršič\nProstor: Predav
 alnica Biologija B5
END:VEVENT
BEGIN:VEVENT
SUMMARY:Funkcionalna biologija celice (BI330)\, predavanja in seminarji (P
 +S)
DTSTART;TZID=Europe/Ljubljana:20251024T120000
DTEND;TZID=Europe/Ljubljana:20251024T140000
DTSTAMP:20260425T215745Z
UID:bf-AFLABS-URNIK:srecanje:24816-2025-10-24 12:00:00+02:00
DESCRIPTION:Predmet: Funkcionalna biologija celice (BI330)\, predavanja in
  seminarji (P+S)\nLetniki: \nIzvajalci: Nada Žnidaršič\nProstor: Predav
 alnica Biologija B5
END:VEVENT
BEGIN:VEVENT
SUMMARY:Biologija BT (BT001)\, predavanja (P)
DTSTART;TZID=Europe/Ljubljana:20251006T080000
DTEND;TZID=Europe/Ljubljana:20251006T100000
DTSTAMP:20260425T215745Z
UID:bf-AFLABS-URNIK:srecanje:24583-2025-10-06 08:00:00+02:00
DESCRIPTION:Predmet: Biologija BT (BT001)\, predavanja (P)\nLetniki: Biote
 hnologija 1. letnik (BTUN)\nIzvajalci: Jasna Dolenc Koce\, Damjana Drobne\
 , Nada Žnidaršič\nProstor: Predavalnica Dekanat D1\, Dvorana prof. dr. 
 Janeza Hribarja
END:VEVENT
BEGIN:VEVENT
SUMMARY:Biologija BT (BT001)\, predavanja (P)
DTSTART;TZID=Europe/Ljubljana:20251013T080000
DTEND;TZID=Europe/Ljubljana:20251013T100000
DTSTAMP:20260425T215745Z
UID:bf-AFLABS-URNIK:srecanje:24583-2025-10-13 08:00:00+02:00
DESCRIPTION:Predmet: Biologija BT (BT001)\, predavanja (P)\nLetniki: Biote
 hnologija 1. letnik (BTUN)\nIzvajalci: Jasna Dolenc Koce\, Damjana Drobne\
 , Nada Žnidaršič\nProstor: Predavalnica Dekanat D1\, Dvorana prof. dr. 
 Janeza Hribarja
END:VEVENT
BEGIN:VEVENT
SUMMARY:Biologija BT (BT001)\, predavanja (P)
DTSTART;TZID=Europe/Ljubljana:20251020T080000
DTEND;TZID=Europe/Ljubljana:20251020T100000
DTSTAMP:20260425T215745Z
UID:bf-AFLABS-URNIK:srecanje:24583-2025-10-20 08:00:00+02:00
DESCRIPTION:Predmet: Biologija BT (BT001)\, predavanja (P)\nLetniki: Biote
 hnologija 1. letnik (BTUN)\nIzvajalci: Jasna Dolenc Koce\, Damjana Drobne\
 , Nada Žnidaršič\nProstor: Predavalnica Dekanat D1\, Dvorana prof. dr. 
 Janeza Hribarja
END:VEVENT
BEGIN:VEVENT
SUMMARY:Biologija BT (BT001)\, predavanja (P)
DTSTART;TZID=Europe/Ljubljana:20251027T080000
DTEND;TZID=Europe/Ljubljana:20251027T100000
DTSTAMP:20260425T215745Z
UID:bf-AFLABS-URNIK:srecanje:24583-2025-10-27 08:00:00+01:00
DESCRIPTION:Predmet: Biologija BT (BT001)\, predavanja (P)\nLetniki: Biote
 hnologija 1. letnik (BTUN)\nIzvajalci: Jasna Dolenc Koce\, Damjana Drobne\
 , Nada Žnidaršič\nProstor: Predavalnica Dekanat D1\, Dvorana prof. dr. 
 Janeza Hribarja
END:VEVENT
BEGIN:VEVENT
SUMMARY:Biologija ZP (ZP038)\, predavanja in seminarji (P+S)
DTSTART;TZID=Europe/Ljubljana:20251006T080000
DTEND;TZID=Europe/Ljubljana:20251006T100000
DTSTAMP:20260425T215745Z
UID:bf-AFLABS-URNIK:srecanje:24620-2025-10-06 08:00:00+02:00
DESCRIPTION:Predmet: Biologija ZP (ZP038)\, predavanja in seminarji (P+S)\
 nLetniki: Živilstvo in prehrana 1. letnik (FSUN)\nIzvajalci: Jasna Dolenc
  Koce\, Damjana Drobne\, Nada Žnidaršič\nProstor: Predavalnica Dekanat 
 D1\, Dvorana prof. dr. Janeza Hribarja
END:VEVENT
BEGIN:VEVENT
SUMMARY:Biologija ZP (ZP038)\, predavanja in seminarji (P+S)
DTSTART;TZID=Europe/Ljubljana:20251013T080000
DTEND;TZID=Europe/Ljubljana:20251013T100000
DTSTAMP:20260425T215745Z
UID:bf-AFLABS-URNIK:srecanje:24620-2025-10-13 08:00:00+02:00
DESCRIPTION:Predmet: Biologija ZP (ZP038)\, predavanja in seminarji (P+S)\
 nLetniki: Živilstvo in prehrana 1. letnik (FSUN)\nIzvajalci: Jasna Dolenc
  Koce\, Damjana Drobne\, Nada Žnidaršič\nProstor: Predavalnica Dekanat 
 D1\, Dvorana prof. dr. Janeza Hribarja
END:VEVENT
BEGIN:VEVENT
SUMMARY:Biologija ZP (ZP038)\, predavanja in seminarji (P+S)
DTSTART;TZID=Europe/Ljubljana:20251020T080000
DTEND;TZID=Europe/Ljubljana:20251020T100000
DTSTAMP:20260425T215745Z
UID:bf-AFLABS-URNIK:srecanje:24620-2025-10-20 08:00:00+02:00
DESCRIPTION:Predmet: Biologija ZP (ZP038)\, predavanja in seminarji (P+S)\
 nLetniki: Živilstvo in prehrana 1. letnik (FSUN)\nIzvajalci: Jasna Dolenc
  Koce\, Damjana Drobne\, Nada Žnidaršič\nProstor: Predavalnica Dekanat 
 D1\, Dvorana prof. dr. Janeza Hribarja
END:VEVENT
BEGIN:VEVENT
SUMMARY:Biologija ZP (ZP038)\, predavanja in seminarji (P+S)
DTSTART;TZID=Europe/Ljubljana:20251027T080000
DTEND;TZID=Europe/Ljubljana:20251027T100000
DTSTAMP:20260425T215745Z
UID:bf-AFLABS-URNIK:srecanje:24620-2025-10-27 08:00:00+01:00
DESCRIPTION:Predmet: Biologija ZP (ZP038)\, predavanja in seminarji (P+S)\
 nLetniki: Živilstvo in prehrana 1. letnik (FSUN)\nIzvajalci: Jasna Dolenc
  Koce\, Damjana Drobne\, Nada Žnidaršič\nProstor: Predavalnica Dekanat 
 D1\, Dvorana prof. dr. Janeza Hribarja
END:VEVENT
BEGIN:VEVENT
SUMMARY:Splošna biologija FKKT (Sp_Bi-FKKT)\, predavanja in seminarji (P+
 S)
DTSTART;TZID=Europe/Ljubljana:20251006T120000
DTEND;TZID=Europe/Ljubljana:20251006T160000
DTSTAMP:20260425T215745Z
UID:bf-AFLABS-URNIK:srecanje:25415-2025-10-06 12:00:00+02:00
DESCRIPTION:Predmet: Splošna biologija FKKT (Sp_Bi-FKKT)\, predavanja in 
 seminarji (P+S)\nLetniki: \nIzvajalci: Nada Žnidaršič\nProstor: None
END:VEVENT
BEGIN:VEVENT
SUMMARY:Splošna biologija FKKT (Sp_Bi-FKKT)\, predavanja in seminarji (P+
 S)
DTSTART;TZID=Europe/Ljubljana:20251013T120000
DTEND;TZID=Europe/Ljubljana:20251013T160000
DTSTAMP:20260425T215745Z
UID:bf-AFLABS-URNIK:srecanje:25415-2025-10-13 12:00:00+02:00
DESCRIPTION:Predmet: Splošna biologija FKKT (Sp_Bi-FKKT)\, predavanja in 
 seminarji (P+S)\nLetniki: \nIzvajalci: Nada Žnidaršič\nProstor: None
END:VEVENT
BEGIN:VEVENT
SUMMARY:Splošna biologija FKKT (Sp_Bi-FKKT)\, predavanja in seminarji (P+
 S)
DTSTART;TZID=Europe/Ljubljana:20251020T120000
DTEND;TZID=Europe/Ljubljana:20251020T160000
DTSTAMP:20260425T215745Z
UID:bf-AFLABS-URNIK:srecanje:25415-2025-10-20 12:00:00+02:00
DESCRIPTION:Predmet: Splošna biologija FKKT (Sp_Bi-FKKT)\, predavanja in 
 seminarji (P+S)\nLetniki: \nIzvajalci: Nada Žnidaršič\nProstor: None
END:VEVENT
BEGIN:VEVENT
SUMMARY:Splošna biologija FKKT (Sp_Bi-FKKT)\, predavanja in seminarji (P+
 S)
DTSTART;TZID=Europe/Ljubljana:20251027T120000
DTEND;TZID=Europe/Ljubljana:20251027T160000
DTSTAMP:20260425T215745Z
UID:bf-AFLABS-URNIK:srecanje:25415-2025-10-27 12:00:00+01:00
DESCRIPTION:Predmet: Splošna biologija FKKT (Sp_Bi-FKKT)\, predavanja in 
 seminarji (P+S)\nLetniki: \nIzvajalci: Nada Žnidaršič\nProstor: None
END:VEVENT
BEGIN:VEVENT
SUMMARY:Biologija BT (BT001)\, predavanja (P)
DTSTART;TZID=Europe/Ljubljana:20251007T120000
DTEND;TZID=Europe/Ljubljana:20251007T140000
DTSTAMP:20260425T215745Z
UID:bf-AFLABS-URNIK:srecanje:24584-2025-10-07 12:00:00+02:00
DESCRIPTION:Predmet: Biologija BT (BT001)\, predavanja (P)\nLetniki: Biote
 hnologija 1. letnik (BTUN)\nIzvajalci: Jasna Dolenc Koce\, Damjana Drobne\
 , Nada Žnidaršič\nProstor: Predavalnica Dekanat D1\, Dvorana prof. dr. 
 Janeza Hribarja
END:VEVENT
BEGIN:VEVENT
SUMMARY:Biologija BT (BT001)\, predavanja (P)
DTSTART;TZID=Europe/Ljubljana:20251014T120000
DTEND;TZID=Europe/Ljubljana:20251014T140000
DTSTAMP:20260425T215745Z
UID:bf-AFLABS-URNIK:srecanje:24584-2025-10-14 12:00:00+02:00
DESCRIPTION:Predmet: Biologija BT (BT001)\, predavanja (P)\nLetniki: Biote
 hnologija 1. letnik (BTUN)\nIzvajalci: Jasna Dolenc Koce\, Damjana Drobne\
 , Nada Žnidaršič\nProstor: Predavalnica Dekanat D1\, Dvorana prof. dr. 
 Janeza Hribarja
END:VEVENT
BEGIN:VEVENT
SUMMARY:Biologija BT (BT001)\, predavanja (P)
DTSTART;TZID=Europe/Ljubljana:20251021T120000
DTEND;TZID=Europe/Ljubljana:20251021T140000
DTSTAMP:20260425T215745Z
UID:bf-AFLABS-URNIK:srecanje:24584-2025-10-21 12:00:00+02:00
DESCRIPTION:Predmet: Biologija BT (BT001)\, predavanja (P)\nLetniki: Biote
 hnologija 1. letnik (BTUN)\nIzvajalci: Jasna Dolenc Koce\, Damjana Drobne\
 , Nada Žnidaršič\nProstor: Predavalnica Dekanat D1\, Dvorana prof. dr. 
 Janeza Hribarja
END:VEVENT
BEGIN:VEVENT
SUMMARY:Biologija ZP (ZP038)\, predavanja in seminarji (P+S)
DTSTART;TZID=Europe/Ljubljana:20251007T120000
DTEND;TZID=Europe/Ljubljana:20251007T140000
DTSTAMP:20260425T215745Z
UID:bf-AFLABS-URNIK:srecanje:24621-2025-10-07 12:00:00+02:00
DESCRIPTION:Predmet: Biologija ZP (ZP038)\, predavanja in seminarji (P+S)\
 nLetniki: Živilstvo in prehrana 1. letnik (FSUN)\nIzvajalci: Jasna Dolenc
  Koce\, Damjana Drobne\, Nada Žnidaršič\nProstor: Predavalnica Dekanat 
 D1\, Dvorana prof. dr. Janeza Hribarja
END:VEVENT
BEGIN:VEVENT
SUMMARY:Biologija ZP (ZP038)\, predavanja in seminarji (P+S)
DTSTART;TZID=Europe/Ljubljana:20251014T120000
DTEND;TZID=Europe/Ljubljana:20251014T140000
DTSTAMP:20260425T215745Z
UID:bf-AFLABS-URNIK:srecanje:24621-2025-10-14 12:00:00+02:00
DESCRIPTION:Predmet: Biologija ZP (ZP038)\, predavanja in seminarji (P+S)\
 nLetniki: Živilstvo in prehrana 1. letnik (FSUN)\nIzvajalci: Jasna Dolenc
  Koce\, Damjana Drobne\, Nada Žnidaršič\nProstor: Predavalnica Dekanat 
 D1\, Dvorana prof. dr. Janeza Hribarja
END:VEVENT
BEGIN:VEVENT
SUMMARY:Biologija ZP (ZP038)\, predavanja in seminarji (P+S)
DTSTART;TZID=Europe/Ljubljana:20251021T120000
DTEND;TZID=Europe/Ljubljana:20251021T140000
DTSTAMP:20260425T215745Z
UID:bf-AFLABS-URNIK:srecanje:24621-2025-10-21 12:00:00+02:00
DESCRIPTION:Predmet: Biologija ZP (ZP038)\, predavanja in seminarji (P+S)\
 nLetniki: Živilstvo in prehrana 1. letnik (FSUN)\nIzvajalci: Jasna Dolenc
  Koce\, Damjana Drobne\, Nada Žnidaršič\nProstor: Predavalnica Dekanat 
 D1\, Dvorana prof. dr. Janeza Hribarja
END:VEVENT
BEGIN:VEVENT
SUMMARY:sestanek SDM
DTSTART;TZID=Europe/Ljubljana:20251001T130000
DTEND;TZID=Europe/Ljubljana:20251001T150000
DTSTAMP:20260425T215745Z
UID:bf-AFLABS-URNIK:rezervacija:23645
CATEGORIES:Reservation
COLOR:royalblue
DESCRIPTION:Predmeti: \nLetniki: \nIzvajalci: Polona Mrak\, Nada Žnidarš
 ič\nProstori: Sejna soba Biologija
LOCATION:Department of biology\, Sejna soba Biologija
ORGANIZER:Polona Mrak, Nada Žnidaršič
X-WR-TIMEZONE:Europe/Ljubljana
END:VEVENT
BEGIN:VEVENT
SUMMARY:mentorska ura 1. letnik Biologija
DTSTART;TZID=Europe/Ljubljana:20251010T073000
DTEND;TZID=Europe/Ljubljana:20251010T080000
DTSTAMP:20260425T215745Z
UID:bf-AFLABS-URNIK:rezervacija:24124
CATEGORIES:Reservation
COLOR:royalblue
DESCRIPTION:Predmeti: \nLetniki: Biology 1 (BIUN)\nIzvajalci: Nada Žnidar
 šič\nProstori: Predavalnica Biologija B1
LOCATION:Department of biology\, Predavalnica Biologija B1
ORGANIZER:Nada Žnidaršič
X-WR-TIMEZONE:Europe/Ljubljana
END:VEVENT
BEGIN:VEVENT
SUMMARY:Zagovor magistrske naloge Jenko
DTSTART;TZID=Europe/Ljubljana:20251024T160000
DTEND;TZID=Europe/Ljubljana:20251024T180000
DTSTAMP:20260425T215745Z
UID:bf-AFLABS-URNIK:rezervacija:24396
CATEGORIES:Reservation
COLOR:royalblue
DESCRIPTION:Predmeti: \nLetniki: \nIzvajalci: Urban Bogataj\, Polona Mrak\
 , Nada Žnidaršič\nProstori: Predavalnica Biologija B4
LOCATION:Department of biology\, Predavalnica Biologija B4
ORGANIZER:Urban Bogataj, Polona Mrak, Nada Žnidaršič
X-WR-TIMEZONE:Europe/Ljubljana
END:VEVENT
END:VCALENDAR
