BEGIN:VCALENDAR
VERSION:2.0
PRODID:-//AFLabs urnik izvoz - bf//aflabs.si//SI
NAME:UL BF Urnik
X-WR-CALNAME:UL BF Urnik
DTSTAMP:20260426T032354Z
REFRESH-INTERVAL:PT1H
SOURCE:https://urniki.bf.uni-lj.si/en/teacher/749/?day=2025-11-10&export=1
URL:https://urniki.bf.uni-lj.si/en/teacher/749/?day=2025-11-10&export=1
X-PUBLISHED-TTL:PT1H
X-WR-TIMEZONE:Europe/Ljubljana
BEGIN:VTIMEZONE
TZID:Europe/Ljubljana
BEGIN:DAYLIGHT
DTSTART:20260329T020000
RDATE:20260329T020000
RDATE:20270328T020000
TZNAME:CEST
TZOFFSETFROM:+0100
TZOFFSETTO:+0200
END:DAYLIGHT
BEGIN:STANDARD
DTSTART:20261025T030000
RDATE:20261025T030000
RDATE:20271031T030000
TZNAME:CET
TZOFFSETFROM:+0200
TZOFFSETTO:+0100
END:STANDARD
END:VTIMEZONE
BEGIN:VEVENT
SUMMARY:Izbrana poglavja v mikrobiologiji (MB220)\, predavanja (P)
DTSTART;TZID=Europe/Ljubljana:20251003T083000
DTEND;TZID=Europe/Ljubljana:20251003T113000
DTSTAMP:20260426T032354Z
UID:bf-AFLABS-URNIK:srecanje:24945-2025-10-03 08:30:00+02:00
DESCRIPTION:Predmet: Izbrana poglavja v mikrobiologiji (MB220)\, predavanj
 a (P)\nLetniki: Mikrobiologija 2. letnik (MMB)\nIzvajalci: Janja Trček\nP
 rostor: Predavalnica Biologija B7
END:VEVENT
BEGIN:VEVENT
SUMMARY:Izbrana poglavja v mikrobiologiji (MB220)\, predavanja (P)
DTSTART;TZID=Europe/Ljubljana:20251010T083000
DTEND;TZID=Europe/Ljubljana:20251010T113000
DTSTAMP:20260426T032354Z
UID:bf-AFLABS-URNIK:srecanje:24945-2025-10-10 08:30:00+02:00
DESCRIPTION:Predmet: Izbrana poglavja v mikrobiologiji (MB220)\, predavanj
 a (P)\nLetniki: Mikrobiologija 2. letnik (MMB)\nIzvajalci: Janja Trček\nP
 rostor: Predavalnica Biologija B7
END:VEVENT
BEGIN:VEVENT
SUMMARY:Izbrana poglavja v mikrobiologiji (MB220)\, predavanja (P)
DTSTART;TZID=Europe/Ljubljana:20251017T083000
DTEND;TZID=Europe/Ljubljana:20251017T113000
DTSTAMP:20260426T032354Z
UID:bf-AFLABS-URNIK:srecanje:24945-2025-10-17 08:30:00+02:00
DESCRIPTION:Predmet: Izbrana poglavja v mikrobiologiji (MB220)\, predavanj
 a (P)\nLetniki: Mikrobiologija 2. letnik (MMB)\nIzvajalci: Janja Trček\nP
 rostor: Predavalnica Biologija B7
END:VEVENT
BEGIN:VEVENT
SUMMARY:Izbrana poglavja v mikrobiologiji (MB220)\, predavanja (P)
DTSTART;TZID=Europe/Ljubljana:20251024T083000
DTEND;TZID=Europe/Ljubljana:20251024T113000
DTSTAMP:20260426T032354Z
UID:bf-AFLABS-URNIK:srecanje:24945-2025-10-24 08:30:00+02:00
DESCRIPTION:Predmet: Izbrana poglavja v mikrobiologiji (MB220)\, predavanj
 a (P)\nLetniki: Mikrobiologija 2. letnik (MMB)\nIzvajalci: Janja Trček\nP
 rostor: Predavalnica Biologija B7
END:VEVENT
BEGIN:VEVENT
SUMMARY:Izbrana poglavja v mikrobiologiji (MB220)\, predavanja (P)
DTSTART;TZID=Europe/Ljubljana:20251107T083000
DTEND;TZID=Europe/Ljubljana:20251107T113000
DTSTAMP:20260426T032354Z
UID:bf-AFLABS-URNIK:srecanje:24945-2025-11-07 08:30:00+01:00
DESCRIPTION:Predmet: Izbrana poglavja v mikrobiologiji (MB220)\, predavanj
 a (P)\nLetniki: Mikrobiologija 2. letnik (MMB)\nIzvajalci: Janja Trček\nP
 rostor: Predavalnica Biologija B7
END:VEVENT
BEGIN:VEVENT
SUMMARY:Izbrana poglavja v mikrobiologiji (MB220)\, predavanja (P)
DTSTART;TZID=Europe/Ljubljana:20251114T083000
DTEND;TZID=Europe/Ljubljana:20251114T113000
DTSTAMP:20260426T032354Z
UID:bf-AFLABS-URNIK:srecanje:24945-2025-11-14 08:30:00+01:00
DESCRIPTION:Predmet: Izbrana poglavja v mikrobiologiji (MB220)\, predavanj
 a (P)\nLetniki: Mikrobiologija 2. letnik (MMB)\nIzvajalci: Janja Trček\nP
 rostor: Predavalnica Biologija B7
END:VEVENT
BEGIN:VEVENT
SUMMARY:Izbrana poglavja v mikrobiologiji (MB220)\, predavanja (P)
DTSTART;TZID=Europe/Ljubljana:20251031T083000
DTEND;TZID=Europe/Ljubljana:20251031T113000
DTSTAMP:20260426T032354Z
UID:bf-AFLABS-URNIK:srecanje:29155-2025-10-31 08:30:00+01:00
DESCRIPTION:Predmet: Izbrana poglavja v mikrobiologiji (MB220)\, predavanj
 a (P)\nLetniki: Mikrobiologija 2. letnik (MMB)\nIzvajalci: Janja Trček\nP
 rostor: Predavalnica Biologija B7
END:VEVENT
BEGIN:VEVENT
SUMMARY:Naravovarstvena biotehnologija BT (BT229)\, predavanja (P)
DTSTART;TZID=Europe/Ljubljana:20251125T160000
DTEND;TZID=Europe/Ljubljana:20251125T200000
DTSTAMP:20260426T032354Z
UID:bf-AFLABS-URNIK:srecanje:26309-2025-11-25 16:00:00+01:00
DESCRIPTION:Predmet: Naravovarstvena biotehnologija BT (BT229)\, predavanj
 a (P)\nLetniki: Biotehnologija 1. letnik (MBT)\, Biotehnologija 2. letnik 
 (MBT)\nIzvajalci: Janja Trček\nProstor: Predavalnica Živilstvo Ž1
END:VEVENT
BEGIN:VEVENT
SUMMARY:Naravovarstvena biotehnologija BT (BT229)\, predavanja (P)
DTSTART;TZID=Europe/Ljubljana:20251202T160000
DTEND;TZID=Europe/Ljubljana:20251202T200000
DTSTAMP:20260426T032354Z
UID:bf-AFLABS-URNIK:srecanje:26309-2025-12-02 16:00:00+01:00
DESCRIPTION:Predmet: Naravovarstvena biotehnologija BT (BT229)\, predavanj
 a (P)\nLetniki: Biotehnologija 1. letnik (MBT)\, Biotehnologija 2. letnik 
 (MBT)\nIzvajalci: Janja Trček\nProstor: Predavalnica Živilstvo Ž1
END:VEVENT
BEGIN:VEVENT
SUMMARY:Naravovarstvena biotehnologija BT (BT229)\, predavanja (P)
DTSTART;TZID=Europe/Ljubljana:20251209T160000
DTEND;TZID=Europe/Ljubljana:20251209T200000
DTSTAMP:20260426T032354Z
UID:bf-AFLABS-URNIK:srecanje:26309-2025-12-09 16:00:00+01:00
DESCRIPTION:Predmet: Naravovarstvena biotehnologija BT (BT229)\, predavanj
 a (P)\nLetniki: Biotehnologija 1. letnik (MBT)\, Biotehnologija 2. letnik 
 (MBT)\nIzvajalci: Janja Trček\nProstor: Predavalnica Živilstvo Ž1
END:VEVENT
BEGIN:VEVENT
SUMMARY:Naravovarstvena biotehnologija MB (MB212)\, predavanja in seminarj
 i (P+S)
DTSTART;TZID=Europe/Ljubljana:20251125T160000
DTEND;TZID=Europe/Ljubljana:20251125T200000
DTSTAMP:20260426T032354Z
UID:bf-AFLABS-URNIK:srecanje:26313-2025-11-25 16:00:00+01:00
DESCRIPTION:Predmet: Naravovarstvena biotehnologija MB (MB212)\, predavanj
 a in seminarji (P+S)\nLetniki: Mikrobiologija 1. letnik (MMB)\nIzvajalci: 
 Janja Trček\nProstor: Predavalnica Živilstvo Ž1
END:VEVENT
BEGIN:VEVENT
SUMMARY:Naravovarstvena biotehnologija MB (MB212)\, predavanja in seminarj
 i (P+S)
DTSTART;TZID=Europe/Ljubljana:20251202T160000
DTEND;TZID=Europe/Ljubljana:20251202T200000
DTSTAMP:20260426T032354Z
UID:bf-AFLABS-URNIK:srecanje:26313-2025-12-02 16:00:00+01:00
DESCRIPTION:Predmet: Naravovarstvena biotehnologija MB (MB212)\, predavanj
 a in seminarji (P+S)\nLetniki: Mikrobiologija 1. letnik (MMB)\nIzvajalci: 
 Janja Trček\nProstor: Predavalnica Živilstvo Ž1
END:VEVENT
BEGIN:VEVENT
SUMMARY:Naravovarstvena biotehnologija MB (MB212)\, predavanja in seminarj
 i (P+S)
DTSTART;TZID=Europe/Ljubljana:20251209T160000
DTEND;TZID=Europe/Ljubljana:20251209T200000
DTSTAMP:20260426T032354Z
UID:bf-AFLABS-URNIK:srecanje:26313-2025-12-09 16:00:00+01:00
DESCRIPTION:Predmet: Naravovarstvena biotehnologija MB (MB212)\, predavanj
 a in seminarji (P+S)\nLetniki: Mikrobiologija 1. letnik (MMB)\nIzvajalci: 
 Janja Trček\nProstor: Predavalnica Živilstvo Ž1
END:VEVENT
BEGIN:VEVENT
SUMMARY:Izbrana poglavja v mikrobiologiji
DTSTART;TZID=Europe/Ljubljana:20251010T083000
DTEND;TZID=Europe/Ljubljana:20251010T113000
DTSTAMP:20260426T032354Z
UID:bf-AFLABS-URNIK:rezervacija:22078
ATTENDEE:Mikrobiologija 2. letnik (MMB)
CATEGORIES:Reservation
COLOR:royalblue
DESCRIPTION:Predmeti: Izbrana poglavja v mikrobiologiji (MB220)\nLetniki: 
 Mikrobiologija 2. letnik (MMB)\nIzvajalci: Janja Trček\nProstori: Predava
 lnica Agronomija A1
LOCATION:Department of agronomy\, Predavalnica Agronomija A1
ORGANIZER:Janja Trček
X-WR-TIMEZONE:Europe/Ljubljana
END:VEVENT
BEGIN:VEVENT
SUMMARY:Predavanje: Erazmus
DTSTART;TZID=Europe/Ljubljana:20251106T083000
DTEND;TZID=Europe/Ljubljana:20251106T113000
DTSTAMP:20260426T032354Z
UID:bf-AFLABS-URNIK:rezervacija:24778
CATEGORIES:Reservation
COLOR:royalblue
DESCRIPTION:Predmeti: Biotransformacije in biodegradacije (MB229)\nLetniki
 : \nIzvajalci: Janja Trček\nProstori: Sejna soba Biologija
LOCATION:Department of biology\, Sejna soba Biologija
ORGANIZER:Janja Trček
X-WR-TIMEZONE:Europe/Ljubljana
END:VEVENT
BEGIN:VEVENT
SUMMARY:Predavanja Erasmus študenti: Biodegradation and Biotransformation
DTSTART;TZID=Europe/Ljubljana:20251119T100000
DTEND;TZID=Europe/Ljubljana:20251119T130000
DTSTAMP:20260426T032354Z
UID:bf-AFLABS-URNIK:rezervacija:24902
CATEGORIES:Reservation
COLOR:royalblue
DESCRIPTION:Predmeti: \nLetniki: \nIzvajalci: Janja Trček\nProstori: Pred
 avalnica Biologija B4
LOCATION:Department of biology\, Predavalnica Biologija B4
ORGANIZER:Janja Trček
X-WR-TIMEZONE:Europe/Ljubljana
END:VEVENT
BEGIN:VEVENT
SUMMARY:Izbrana poglavja v mikrobiologiji izpit
DTSTART;TZID=Europe/Ljubljana:20251128T100000
DTEND;TZID=Europe/Ljubljana:20251128T110000
DTSTAMP:20260426T032354Z
UID:bf-AFLABS-URNIK:rezervacija:25276
CATEGORIES:Reservation
COLOR:royalblue
DESCRIPTION:Predmeti: \nLetniki: \nIzvajalci: Janja Trček\nProstori: Pred
 avalnica Agronomija A5
LOCATION:Department of agronomy\, Predavalnica Agronomija A5
ORGANIZER:Janja Trček
X-WR-TIMEZONE:Europe/Ljubljana
END:VEVENT
BEGIN:VEVENT
SUMMARY:Erasmus študenti
DTSTART;TZID=Europe/Ljubljana:20251208T100000
DTEND;TZID=Europe/Ljubljana:20251208T123000
DTSTAMP:20260426T032354Z
UID:bf-AFLABS-URNIK:rezervacija:25494
CATEGORIES:Reservation
COLOR:royalblue
DESCRIPTION:Predmeti: Biotransformacije in biodegradacije (MB229)\nLetniki
 : \nIzvajalci: Janja Trček\nProstori: Predavalnica Agronomija A8
LOCATION:Department of agronomy\, Predavalnica Agronomija A8
ORGANIZER:Janja Trček
X-WR-TIMEZONE:Europe/Ljubljana
END:VEVENT
BEGIN:VEVENT
SUMMARY:Rezervacija erasmus
DTSTART;TZID=Europe/Ljubljana:20251212T110000
DTEND;TZID=Europe/Ljubljana:20251212T120000
DTSTAMP:20260426T032354Z
UID:bf-AFLABS-URNIK:rezervacija:25546
CATEGORIES:Reservation
COLOR:royalblue
DESCRIPTION:Predmeti: \nLetniki: \nIzvajalci: Janja Trček\nProstori: Pred
 avalnica Biologija B4
LOCATION:Department of biology\, Predavalnica Biologija B4
ORGANIZER:Janja Trček
X-WR-TIMEZONE:Europe/Ljubljana
END:VEVENT
END:VCALENDAR
