BEGIN:VCALENDAR
VERSION:2.0
PRODID:-//AFLabs urnik izvoz - bf//aflabs.si//SI
NAME:UL BF Urnik
X-WR-CALNAME:UL BF Urnik
DTSTAMP:20260425T200604Z
REFRESH-INTERVAL:PT1H
SOURCE:https://urniki.bf.uni-lj.si/en/teacher/746/?day=2025-10-13&export=1
URL:https://urniki.bf.uni-lj.si/en/teacher/746/?day=2025-10-13&export=1
X-PUBLISHED-TTL:PT1H
X-WR-TIMEZONE:Europe/Ljubljana
BEGIN:VTIMEZONE
TZID:Europe/Ljubljana
BEGIN:DAYLIGHT
DTSTART:20260329T020000
RDATE:20260329T020000
RDATE:20270328T020000
TZNAME:CEST
TZOFFSETFROM:+0100
TZOFFSETTO:+0200
END:DAYLIGHT
BEGIN:STANDARD
DTSTART:20261025T030000
RDATE:20261025T030000
RDATE:20271031T030000
TZNAME:CET
TZOFFSETFROM:+0200
TZOFFSETTO:+0100
END:STANDARD
END:VTIMEZONE
BEGIN:VEVENT
SUMMARY:Travništvo in pridelovanje krme ZO (ZO238)\, laboratorijske vaje 
 (LV)
DTSTART;TZID=Europe/Ljubljana:20251006T080000
DTEND;TZID=Europe/Ljubljana:20251006T100000
DTSTAMP:20260425T200604Z
UID:bf-AFLABS-URNIK:srecanje:28997-2025-10-06 08:00:00+02:00
DESCRIPTION:Predmet: Travništvo in pridelovanje krme ZO (ZO238)\, laborat
 orijske vaje (LV)\nLetniki: Znanost o živalih 2. letnik (MAS)\nIzvajalci:
  Miha Curk\nProstor: Predavalnica Agronomija A8
END:VEVENT
BEGIN:VEVENT
SUMMARY:Travništvo in pridelovanje krme ZO (ZO238)\, laboratorijske vaje 
 (LV)
DTSTART;TZID=Europe/Ljubljana:20251013T080000
DTEND;TZID=Europe/Ljubljana:20251013T100000
DTSTAMP:20260425T200604Z
UID:bf-AFLABS-URNIK:srecanje:28997-2025-10-13 08:00:00+02:00
DESCRIPTION:Predmet: Travništvo in pridelovanje krme ZO (ZO238)\, laborat
 orijske vaje (LV)\nLetniki: Znanost o živalih 2. letnik (MAS)\nIzvajalci:
  Miha Curk\nProstor: Predavalnica Agronomija A8
END:VEVENT
BEGIN:VEVENT
SUMMARY:Travništvo in pridelovanje krme ZO (ZO238)\, laboratorijske vaje 
 (LV)
DTSTART;TZID=Europe/Ljubljana:20251020T080000
DTEND;TZID=Europe/Ljubljana:20251020T100000
DTSTAMP:20260425T200604Z
UID:bf-AFLABS-URNIK:srecanje:28997-2025-10-20 08:00:00+02:00
DESCRIPTION:Predmet: Travništvo in pridelovanje krme ZO (ZO238)\, laborat
 orijske vaje (LV)\nLetniki: Znanost o živalih 2. letnik (MAS)\nIzvajalci:
  Miha Curk\nProstor: Predavalnica Agronomija A8
END:VEVENT
BEGIN:VEVENT
SUMMARY:Travništvo in pridelovanje krme ZO (ZO238)\, laboratorijske vaje 
 (LV)
DTSTART;TZID=Europe/Ljubljana:20251027T080000
DTEND;TZID=Europe/Ljubljana:20251027T100000
DTSTAMP:20260425T200604Z
UID:bf-AFLABS-URNIK:srecanje:28997-2025-10-27 08:00:00+01:00
DESCRIPTION:Predmet: Travništvo in pridelovanje krme ZO (ZO238)\, laborat
 orijske vaje (LV)\nLetniki: Znanost o živalih 2. letnik (MAS)\nIzvajalci:
  Miha Curk\nProstor: Predavalnica Agronomija A8
END:VEVENT
BEGIN:VEVENT
SUMMARY:Travništvo in pridelovanje krme ZO (ZO238)\, laboratorijske vaje 
 (LV)
DTSTART;TZID=Europe/Ljubljana:20251103T080000
DTEND;TZID=Europe/Ljubljana:20251103T100000
DTSTAMP:20260425T200604Z
UID:bf-AFLABS-URNIK:srecanje:28997-2025-11-03 08:00:00+01:00
DESCRIPTION:Predmet: Travništvo in pridelovanje krme ZO (ZO238)\, laborat
 orijske vaje (LV)\nLetniki: Znanost o živalih 2. letnik (MAS)\nIzvajalci:
  Miha Curk\nProstor: Predavalnica Agronomija A8
END:VEVENT
BEGIN:VEVENT
SUMMARY:Travništvo in pridelovanje krme ZO (ZO238)\, laboratorijske vaje 
 (LV)
DTSTART;TZID=Europe/Ljubljana:20251110T080000
DTEND;TZID=Europe/Ljubljana:20251110T100000
DTSTAMP:20260425T200604Z
UID:bf-AFLABS-URNIK:srecanje:28997-2025-11-10 08:00:00+01:00
DESCRIPTION:Predmet: Travništvo in pridelovanje krme ZO (ZO238)\, laborat
 orijske vaje (LV)\nLetniki: Znanost o živalih 2. letnik (MAS)\nIzvajalci:
  Miha Curk\nProstor: Predavalnica Agronomija A8
END:VEVENT
BEGIN:VEVENT
SUMMARY:Travništvo in pašništvo (AH018)\, laboratorijske vaje (LV)
DTSTART;TZID=Europe/Ljubljana:20251007T080000
DTEND;TZID=Europe/Ljubljana:20251007T120000
DTSTAMP:20260425T200604Z
UID:bf-AFLABS-URNIK:srecanje:25540-2025-10-07 08:00:00+02:00
DESCRIPTION:Predmet: Travništvo in pašništvo (AH018)\, laboratorijske v
 aje (LV)\nLetniki: Kmetijstvo - agronomija 2. letnik (AGA)\nIzvajalci: Mih
 a Curk\nProstor: Predavalnica Agronomija A8
END:VEVENT
BEGIN:VEVENT
SUMMARY:Travništvo in pašništvo (AH018)\, laboratorijske vaje (LV)
DTSTART;TZID=Europe/Ljubljana:20251014T080000
DTEND;TZID=Europe/Ljubljana:20251014T120000
DTSTAMP:20260425T200604Z
UID:bf-AFLABS-URNIK:srecanje:25540-2025-10-14 08:00:00+02:00
DESCRIPTION:Predmet: Travništvo in pašništvo (AH018)\, laboratorijske v
 aje (LV)\nLetniki: Kmetijstvo - agronomija 2. letnik (AGA)\nIzvajalci: Mih
 a Curk\nProstor: Predavalnica Agronomija A8
END:VEVENT
BEGIN:VEVENT
SUMMARY:Travništvo in pašništvo (AH018)\, laboratorijske vaje (LV)
DTSTART;TZID=Europe/Ljubljana:20251021T080000
DTEND;TZID=Europe/Ljubljana:20251021T120000
DTSTAMP:20260425T200604Z
UID:bf-AFLABS-URNIK:srecanje:25540-2025-10-21 08:00:00+02:00
DESCRIPTION:Predmet: Travništvo in pašništvo (AH018)\, laboratorijske v
 aje (LV)\nLetniki: Kmetijstvo - agronomija 2. letnik (AGA)\nIzvajalci: Mih
 a Curk\nProstor: Predavalnica Agronomija A8
END:VEVENT
BEGIN:VEVENT
SUMMARY:Travništvo in pašništvo (AH018)\, laboratorijske vaje (LV)
DTSTART;TZID=Europe/Ljubljana:20251028T080000
DTEND;TZID=Europe/Ljubljana:20251028T120000
DTSTAMP:20260425T200604Z
UID:bf-AFLABS-URNIK:srecanje:25540-2025-10-28 08:00:00+01:00
DESCRIPTION:Predmet: Travništvo in pašništvo (AH018)\, laboratorijske v
 aje (LV)\nLetniki: Kmetijstvo - agronomija 2. letnik (AGA)\nIzvajalci: Mih
 a Curk\nProstor: Predavalnica Agronomija A8
END:VEVENT
BEGIN:VEVENT
SUMMARY:Travništvo in pašništvo (AH018)\, laboratorijske vaje (LV)
DTSTART;TZID=Europe/Ljubljana:20251104T080000
DTEND;TZID=Europe/Ljubljana:20251104T120000
DTSTAMP:20260425T200604Z
UID:bf-AFLABS-URNIK:srecanje:25540-2025-11-04 08:00:00+01:00
DESCRIPTION:Predmet: Travništvo in pašništvo (AH018)\, laboratorijske v
 aje (LV)\nLetniki: Kmetijstvo - agronomija 2. letnik (AGA)\nIzvajalci: Mih
 a Curk\nProstor: Predavalnica Agronomija A8
END:VEVENT
BEGIN:VEVENT
SUMMARY:Travništvo in pašništvo (AH018)\, laboratorijske vaje (LV)
DTSTART;TZID=Europe/Ljubljana:20251111T080000
DTEND;TZID=Europe/Ljubljana:20251111T120000
DTSTAMP:20260425T200604Z
UID:bf-AFLABS-URNIK:srecanje:25540-2025-11-11 08:00:00+01:00
DESCRIPTION:Predmet: Travništvo in pašništvo (AH018)\, laboratorijske v
 aje (LV)\nLetniki: Kmetijstvo - agronomija 2. letnik (AGA)\nIzvajalci: Mih
 a Curk\nProstor: Predavalnica Agronomija A8
END:VEVENT
BEGIN:VEVENT
SUMMARY:Travništvo in pridelovanje krme - izbirni (ZO)
DTSTART;TZID=Europe/Ljubljana:20251013T080000
DTEND;TZID=Europe/Ljubljana:20251013T093000
DTSTAMP:20260425T200604Z
UID:bf-AFLABS-URNIK:rezervacija:24162
ATTENDEE:Znanost o živalih 2. letnik (MAS)
CATEGORIES:Reservation
COLOR:royalblue
DESCRIPTION:Predmeti: Travništvo in pridelovanje krme ZO (ZO238)\nLetniki
 : Znanost o živalih 2. letnik (MAS)\nIzvajalci: Miha Curk\nProstori: Pred
 avalnica Agronomija A7
LOCATION:Department of agronomy\, Predavalnica Agronomija A7
ORGANIZER:Miha Curk
X-WR-TIMEZONE:Europe/Ljubljana
END:VEVENT
BEGIN:VEVENT
SUMMARY:Kolokvij TiP
DTSTART;TZID=Europe/Ljubljana:20251112T120000
DTEND;TZID=Europe/Ljubljana:20251112T130000
DTSTAMP:20260425T200604Z
UID:bf-AFLABS-URNIK:rezervacija:24771
ATTENDEE:Kmetijstvo - agronomija 2. letnik (AGA)
CATEGORIES:Reservation
COLOR:royalblue
DESCRIPTION:Predmeti: Travništvo in pašništvo (AH018)\nLetniki: Kmetijs
 tvo - agronomija 2. letnik (AGA)\nIzvajalci: Miha Curk\nProstori: Predaval
 nica Agronomija A6
LOCATION:Department of agronomy\, Predavalnica Agronomija A6
ORGANIZER:Miha Curk
X-WR-TIMEZONE:Europe/Ljubljana
END:VEVENT
BEGIN:VEVENT
SUMMARY:Kolokvij TiPK ZO
DTSTART;TZID=Europe/Ljubljana:20251113T080000
DTEND;TZID=Europe/Ljubljana:20251113T090000
DTSTAMP:20260425T200604Z
UID:bf-AFLABS-URNIK:rezervacija:24799
ATTENDEE:Znanost o živalih 2. letnik (MAS)
CATEGORIES:Reservation
COLOR:royalblue
DESCRIPTION:Predmeti: Travništvo in pridelovanje krme ZO (ZO238)\nLetniki
 : Znanost o živalih 2. letnik (MAS)\nIzvajalci: Miha Curk\nProstori: Pred
 avalnica Agronomija A3
LOCATION:Department of agronomy\, Predavalnica Agronomija A3
ORGANIZER:Miha Curk
X-WR-TIMEZONE:Europe/Ljubljana
END:VEVENT
END:VCALENDAR
