BEGIN:VCALENDAR
VERSION:2.0
PRODID:-//AFLabs urnik izvoz - bf//aflabs.si//SI
NAME:UL BF Urnik
X-WR-CALNAME:UL BF Urnik
DTSTAMP:20260420T182512Z
REFRESH-INTERVAL:PT1H
SOURCE:https://urniki.bf.uni-lj.si/en/teacher/71/?day=2025-10-27&export=1
URL:https://urniki.bf.uni-lj.si/en/teacher/71/?day=2025-10-27&export=1
X-PUBLISHED-TTL:PT1H
X-WR-TIMEZONE:Europe/Ljubljana
BEGIN:VTIMEZONE
TZID:Europe/Ljubljana
BEGIN:DAYLIGHT
DTSTART:20260329T020000
RDATE:20260329T020000
RDATE:20270328T020000
TZNAME:CEST
TZOFFSETFROM:+0100
TZOFFSETTO:+0200
END:DAYLIGHT
BEGIN:STANDARD
DTSTART:20261025T030000
RDATE:20261025T030000
RDATE:20271031T030000
TZNAME:CET
TZOFFSETFROM:+0200
TZOFFSETTO:+0100
END:STANDARD
END:VTIMEZONE
BEGIN:VEVENT
SUMMARY:Nauk o tleh (AH005)\, predavanja (P)
DTSTART;TZID=Europe/Ljubljana:20251002T150000
DTEND;TZID=Europe/Ljubljana:20251002T170000
DTSTAMP:20260420T182512Z
UID:bf-AFLABS-URNIK:srecanje:25196-2025-10-02 15:00:00+02:00
DESCRIPTION:Predmet: Nauk o tleh (AH005)\, predavanja (P)\nLetniki: Kmetij
 stvo - agronomija in hortikultura 1. letnik (AGAH)\nIzvajalci: Marko Zupan
 \nProstor: Predavalnica Agronomija A1
END:VEVENT
BEGIN:VEVENT
SUMMARY:Nauk o tleh (AH005)\, predavanja (P)
DTSTART;TZID=Europe/Ljubljana:20251009T150000
DTEND;TZID=Europe/Ljubljana:20251009T170000
DTSTAMP:20260420T182512Z
UID:bf-AFLABS-URNIK:srecanje:25196-2025-10-09 15:00:00+02:00
DESCRIPTION:Predmet: Nauk o tleh (AH005)\, predavanja (P)\nLetniki: Kmetij
 stvo - agronomija in hortikultura 1. letnik (AGAH)\nIzvajalci: Marko Zupan
 \nProstor: Predavalnica Agronomija A1
END:VEVENT
BEGIN:VEVENT
SUMMARY:Nauk o tleh (AH005)\, predavanja (P)
DTSTART;TZID=Europe/Ljubljana:20251016T150000
DTEND;TZID=Europe/Ljubljana:20251016T170000
DTSTAMP:20260420T182512Z
UID:bf-AFLABS-URNIK:srecanje:25196-2025-10-16 15:00:00+02:00
DESCRIPTION:Predmet: Nauk o tleh (AH005)\, predavanja (P)\nLetniki: Kmetij
 stvo - agronomija in hortikultura 1. letnik (AGAH)\nIzvajalci: Marko Zupan
 \nProstor: Predavalnica Agronomija A1
END:VEVENT
BEGIN:VEVENT
SUMMARY:Nauk o tleh (AH005)\, predavanja (P)
DTSTART;TZID=Europe/Ljubljana:20251023T150000
DTEND;TZID=Europe/Ljubljana:20251023T170000
DTSTAMP:20260420T182512Z
UID:bf-AFLABS-URNIK:srecanje:25196-2025-10-23 15:00:00+02:00
DESCRIPTION:Predmet: Nauk o tleh (AH005)\, predavanja (P)\nLetniki: Kmetij
 stvo - agronomija in hortikultura 1. letnik (AGAH)\nIzvajalci: Marko Zupan
 \nProstor: Predavalnica Agronomija A1
END:VEVENT
BEGIN:VEVENT
SUMMARY:Nauk o tleh (AH005)\, predavanja (P)
DTSTART;TZID=Europe/Ljubljana:20251030T150000
DTEND;TZID=Europe/Ljubljana:20251030T170000
DTSTAMP:20260420T182512Z
UID:bf-AFLABS-URNIK:srecanje:25196-2025-10-30 15:00:00+01:00
DESCRIPTION:Predmet: Nauk o tleh (AH005)\, predavanja (P)\nLetniki: Kmetij
 stvo - agronomija in hortikultura 1. letnik (AGAH)\nIzvajalci: Marko Zupan
 \nProstor: Predavalnica Agronomija A1
END:VEVENT
BEGIN:VEVENT
SUMMARY:Nauk o tleh (AH005)\, predavanja (P)
DTSTART;TZID=Europe/Ljubljana:20251106T150000
DTEND;TZID=Europe/Ljubljana:20251106T170000
DTSTAMP:20260420T182512Z
UID:bf-AFLABS-URNIK:srecanje:25196-2025-11-06 15:00:00+01:00
DESCRIPTION:Predmet: Nauk o tleh (AH005)\, predavanja (P)\nLetniki: Kmetij
 stvo - agronomija in hortikultura 1. letnik (AGAH)\nIzvajalci: Marko Zupan
 \nProstor: Predavalnica Agronomija A1
END:VEVENT
BEGIN:VEVENT
SUMMARY:Nauk o tleh (AH005)\, predavanja (P)
DTSTART;TZID=Europe/Ljubljana:20251113T150000
DTEND;TZID=Europe/Ljubljana:20251113T170000
DTSTAMP:20260420T182512Z
UID:bf-AFLABS-URNIK:srecanje:25196-2025-11-13 15:00:00+01:00
DESCRIPTION:Predmet: Nauk o tleh (AH005)\, predavanja (P)\nLetniki: Kmetij
 stvo - agronomija in hortikultura 1. letnik (AGAH)\nIzvajalci: Marko Zupan
 \nProstor: Predavalnica Agronomija A1
END:VEVENT
BEGIN:VEVENT
SUMMARY:Monitoring okolja in informacijski sistemi (AG212)\, predavanja (P
 )
DTSTART;TZID=Europe/Ljubljana:20251003T110000
DTEND;TZID=Europe/Ljubljana:20251003T150000
DTSTAMP:20260420T182512Z
UID:bf-AFLABS-URNIK:srecanje:25186-2025-10-03 11:00:00+02:00
DESCRIPTION:Predmet: Monitoring okolja in informacijski sistemi (AG212)\, 
 predavanja (P)\nLetniki: Agronomija 2. letnik (MAG)\nIzvajalci: Klemen Ele
 r\, Marko Zupan\nProstor: Predavalnica Agronomija A3
END:VEVENT
BEGIN:VEVENT
SUMMARY:Monitoring okolja in informacijski sistemi (AG212)\, predavanja (P
 )
DTSTART;TZID=Europe/Ljubljana:20251010T110000
DTEND;TZID=Europe/Ljubljana:20251010T150000
DTSTAMP:20260420T182512Z
UID:bf-AFLABS-URNIK:srecanje:25186-2025-10-10 11:00:00+02:00
DESCRIPTION:Predmet: Monitoring okolja in informacijski sistemi (AG212)\, 
 predavanja (P)\nLetniki: Agronomija 2. letnik (MAG)\nIzvajalci: Klemen Ele
 r\, Marko Zupan\nProstor: Predavalnica Agronomija A3
END:VEVENT
BEGIN:VEVENT
SUMMARY:Monitoring okolja in informacijski sistemi (AG212)\, predavanja (P
 )
DTSTART;TZID=Europe/Ljubljana:20251017T110000
DTEND;TZID=Europe/Ljubljana:20251017T150000
DTSTAMP:20260420T182512Z
UID:bf-AFLABS-URNIK:srecanje:25186-2025-10-17 11:00:00+02:00
DESCRIPTION:Predmet: Monitoring okolja in informacijski sistemi (AG212)\, 
 predavanja (P)\nLetniki: Agronomija 2. letnik (MAG)\nIzvajalci: Klemen Ele
 r\, Marko Zupan\nProstor: Predavalnica Agronomija A3
END:VEVENT
BEGIN:VEVENT
SUMMARY:Monitoring okolja in informacijski sistemi (AG212)\, predavanja (P
 )
DTSTART;TZID=Europe/Ljubljana:20251024T110000
DTEND;TZID=Europe/Ljubljana:20251024T150000
DTSTAMP:20260420T182512Z
UID:bf-AFLABS-URNIK:srecanje:25186-2025-10-24 11:00:00+02:00
DESCRIPTION:Predmet: Monitoring okolja in informacijski sistemi (AG212)\, 
 predavanja (P)\nLetniki: Agronomija 2. letnik (MAG)\nIzvajalci: Klemen Ele
 r\, Marko Zupan\nProstor: Predavalnica Agronomija A3
END:VEVENT
BEGIN:VEVENT
SUMMARY:Monitoring okolja in informacijski sistemi (AG212)\, predavanja (P
 )
DTSTART;TZID=Europe/Ljubljana:20251107T110000
DTEND;TZID=Europe/Ljubljana:20251107T150000
DTSTAMP:20260420T182512Z
UID:bf-AFLABS-URNIK:srecanje:25186-2025-11-07 11:00:00+01:00
DESCRIPTION:Predmet: Monitoring okolja in informacijski sistemi (AG212)\, 
 predavanja (P)\nLetniki: Agronomija 2. letnik (MAG)\nIzvajalci: Klemen Ele
 r\, Marko Zupan\nProstor: Predavalnica Agronomija A3
END:VEVENT
BEGIN:VEVENT
SUMMARY:Monitoring okolja in informacijski sistemi (AG212)\, predavanja (P
 )
DTSTART;TZID=Europe/Ljubljana:20251114T110000
DTEND;TZID=Europe/Ljubljana:20251114T150000
DTSTAMP:20260420T182512Z
UID:bf-AFLABS-URNIK:srecanje:25186-2025-11-14 11:00:00+01:00
DESCRIPTION:Predmet: Monitoring okolja in informacijski sistemi (AG212)\, 
 predavanja (P)\nLetniki: Agronomija 2. letnik (MAG)\nIzvajalci: Klemen Ele
 r\, Marko Zupan\nProstor: Predavalnica Agronomija A3
END:VEVENT
BEGIN:VEVENT
SUMMARY:Nauk o tleh (AH005)\, predavanja (P)
DTSTART;TZID=Europe/Ljubljana:20251006T120000
DTEND;TZID=Europe/Ljubljana:20251006T140000
DTSTAMP:20260420T182512Z
UID:bf-AFLABS-URNIK:srecanje:25195-2025-10-06 12:00:00+02:00
DESCRIPTION:Predmet: Nauk o tleh (AH005)\, predavanja (P)\nLetniki: Kmetij
 stvo - agronomija in hortikultura 1. letnik (AGAH)\nIzvajalci: Marko Zupan
 \nProstor: Predavalnica Agronomija A1
END:VEVENT
BEGIN:VEVENT
SUMMARY:Nauk o tleh (AH005)\, predavanja (P)
DTSTART;TZID=Europe/Ljubljana:20251013T120000
DTEND;TZID=Europe/Ljubljana:20251013T140000
DTSTAMP:20260420T182512Z
UID:bf-AFLABS-URNIK:srecanje:25195-2025-10-13 12:00:00+02:00
DESCRIPTION:Predmet: Nauk o tleh (AH005)\, predavanja (P)\nLetniki: Kmetij
 stvo - agronomija in hortikultura 1. letnik (AGAH)\nIzvajalci: Marko Zupan
 \nProstor: Predavalnica Agronomija A1
END:VEVENT
BEGIN:VEVENT
SUMMARY:Nauk o tleh (AH005)\, predavanja (P)
DTSTART;TZID=Europe/Ljubljana:20251020T120000
DTEND;TZID=Europe/Ljubljana:20251020T140000
DTSTAMP:20260420T182512Z
UID:bf-AFLABS-URNIK:srecanje:25195-2025-10-20 12:00:00+02:00
DESCRIPTION:Predmet: Nauk o tleh (AH005)\, predavanja (P)\nLetniki: Kmetij
 stvo - agronomija in hortikultura 1. letnik (AGAH)\nIzvajalci: Marko Zupan
 \nProstor: Predavalnica Agronomija A1
END:VEVENT
BEGIN:VEVENT
SUMMARY:Nauk o tleh (AH005)\, predavanja (P)
DTSTART;TZID=Europe/Ljubljana:20251027T120000
DTEND;TZID=Europe/Ljubljana:20251027T140000
DTSTAMP:20260420T182512Z
UID:bf-AFLABS-URNIK:srecanje:25195-2025-10-27 12:00:00+01:00
DESCRIPTION:Predmet: Nauk o tleh (AH005)\, predavanja (P)\nLetniki: Kmetij
 stvo - agronomija in hortikultura 1. letnik (AGAH)\nIzvajalci: Marko Zupan
 \nProstor: Predavalnica Agronomija A1
END:VEVENT
BEGIN:VEVENT
SUMMARY:Nauk o tleh (AH005)\, predavanja (P)
DTSTART;TZID=Europe/Ljubljana:20251103T120000
DTEND;TZID=Europe/Ljubljana:20251103T140000
DTSTAMP:20260420T182512Z
UID:bf-AFLABS-URNIK:srecanje:25195-2025-11-03 12:00:00+01:00
DESCRIPTION:Predmet: Nauk o tleh (AH005)\, predavanja (P)\nLetniki: Kmetij
 stvo - agronomija in hortikultura 1. letnik (AGAH)\nIzvajalci: Marko Zupan
 \nProstor: Predavalnica Agronomija A1
END:VEVENT
BEGIN:VEVENT
SUMMARY:Nauk o tleh (AH005)\, predavanja (P)
DTSTART;TZID=Europe/Ljubljana:20251110T120000
DTEND;TZID=Europe/Ljubljana:20251110T140000
DTSTAMP:20260420T182512Z
UID:bf-AFLABS-URNIK:srecanje:25195-2025-11-10 12:00:00+01:00
DESCRIPTION:Predmet: Nauk o tleh (AH005)\, predavanja (P)\nLetniki: Kmetij
 stvo - agronomija in hortikultura 1. letnik (AGAH)\nIzvajalci: Marko Zupan
 \nProstor: Predavalnica Agronomija A1
END:VEVENT
BEGIN:VEVENT
SUMMARY:Monitoring okolja in informacijski sistemi (AG212)\, predavanja (P
 )
DTSTART;TZID=Europe/Ljubljana:20251008T080000
DTEND;TZID=Europe/Ljubljana:20251008T100000
DTSTAMP:20260420T182512Z
UID:bf-AFLABS-URNIK:srecanje:29515-2025-10-08 08:00:00+02:00
DESCRIPTION:Predmet: Monitoring okolja in informacijski sistemi (AG212)\, 
 predavanja (P)\nLetniki: Agronomija 2. letnik (MAG)\nIzvajalci: Klemen Ele
 r\, Marko Zupan\nProstor: Predavalnica Agronomija A8
END:VEVENT
BEGIN:VEVENT
SUMMARY:Monitoring okolja in informacijski sistemi (AG212)\, predavanja (P
 )
DTSTART;TZID=Europe/Ljubljana:20251015T080000
DTEND;TZID=Europe/Ljubljana:20251015T100000
DTSTAMP:20260420T182512Z
UID:bf-AFLABS-URNIK:srecanje:29515-2025-10-15 08:00:00+02:00
DESCRIPTION:Predmet: Monitoring okolja in informacijski sistemi (AG212)\, 
 predavanja (P)\nLetniki: Agronomija 2. letnik (MAG)\nIzvajalci: Klemen Ele
 r\, Marko Zupan\nProstor: Predavalnica Agronomija A8
END:VEVENT
BEGIN:VEVENT
SUMMARY:Monitoring okolja in informacijski sistemi (AG212)\, predavanja (P
 )
DTSTART;TZID=Europe/Ljubljana:20251022T080000
DTEND;TZID=Europe/Ljubljana:20251022T100000
DTSTAMP:20260420T182512Z
UID:bf-AFLABS-URNIK:srecanje:29515-2025-10-22 08:00:00+02:00
DESCRIPTION:Predmet: Monitoring okolja in informacijski sistemi (AG212)\, 
 predavanja (P)\nLetniki: Agronomija 2. letnik (MAG)\nIzvajalci: Klemen Ele
 r\, Marko Zupan\nProstor: Predavalnica Agronomija A8
END:VEVENT
BEGIN:VEVENT
SUMMARY:Monitoring okolja in informacijski sistemi (AG212)\, predavanja (P
 )
DTSTART;TZID=Europe/Ljubljana:20251029T080000
DTEND;TZID=Europe/Ljubljana:20251029T100000
DTSTAMP:20260420T182512Z
UID:bf-AFLABS-URNIK:srecanje:29515-2025-10-29 08:00:00+01:00
DESCRIPTION:Predmet: Monitoring okolja in informacijski sistemi (AG212)\, 
 predavanja (P)\nLetniki: Agronomija 2. letnik (MAG)\nIzvajalci: Klemen Ele
 r\, Marko Zupan\nProstor: Predavalnica Agronomija A8
END:VEVENT
BEGIN:VEVENT
SUMMARY:Monitoring okolja in informacijski sistemi (AG212)\, predavanja (P
 )
DTSTART;TZID=Europe/Ljubljana:20251105T080000
DTEND;TZID=Europe/Ljubljana:20251105T100000
DTSTAMP:20260420T182512Z
UID:bf-AFLABS-URNIK:srecanje:29515-2025-11-05 08:00:00+01:00
DESCRIPTION:Predmet: Monitoring okolja in informacijski sistemi (AG212)\, 
 predavanja (P)\nLetniki: Agronomija 2. letnik (MAG)\nIzvajalci: Klemen Ele
 r\, Marko Zupan\nProstor: Predavalnica Agronomija A8
END:VEVENT
BEGIN:VEVENT
SUMMARY:Monitoring okolja in informacijski sistemi (AG212)\, predavanja (P
 )
DTSTART;TZID=Europe/Ljubljana:20251112T080000
DTEND;TZID=Europe/Ljubljana:20251112T100000
DTSTAMP:20260420T182512Z
UID:bf-AFLABS-URNIK:srecanje:29515-2025-11-12 08:00:00+01:00
DESCRIPTION:Predmet: Monitoring okolja in informacijski sistemi (AG212)\, 
 predavanja (P)\nLetniki: Agronomija 2. letnik (MAG)\nIzvajalci: Klemen Ele
 r\, Marko Zupan\nProstor: Predavalnica Agronomija A8
END:VEVENT
BEGIN:VEVENT
SUMMARY:Pedologija in osnove geologije (KA006)\, predavanja (P)
DTSTART;TZID=Europe/Ljubljana:20251125T120000
DTEND;TZID=Europe/Ljubljana:20251125T150000
DTSTAMP:20260420T182512Z
UID:bf-AFLABS-URNIK:srecanje:26408-2025-11-25 12:00:00+01:00
DESCRIPTION:Predmet: Pedologija in osnove geologije (KA006)\, predavanja (
 P)\nLetniki: Krajinska arhitektura 1. letnik (LAUN)\nIzvajalci: Marko Zupa
 n\nProstor: Risalnica Krajinska arhitektura 5
END:VEVENT
BEGIN:VEVENT
SUMMARY:Nauk o tleh (AH005)\, predavanja (P)
DTSTART;TZID=Europe/Ljubljana:20251126T100000
DTEND;TZID=Europe/Ljubljana:20251126T120000
DTSTAMP:20260420T182512Z
UID:bf-AFLABS-URNIK:srecanje:26319-2025-11-26 10:00:00+01:00
DESCRIPTION:Predmet: Nauk o tleh (AH005)\, predavanja (P)\nLetniki: Kmetij
 stvo - agronomija in hortikultura 1. letnik (AGAH)\nIzvajalci: Marko Zupan
 \nProstor: Predavalnica Agronomija A1
END:VEVENT
BEGIN:VEVENT
SUMMARY:Sonaravna hortikultura - izjemoma le 3.10.2025 v A11
DTSTART;TZID=Europe/Ljubljana:20251003T080000
DTEND;TZID=Europe/Ljubljana:20251003T120000
DTSTAMP:20260420T182512Z
UID:bf-AFLABS-URNIK:rezervacija:23761
ATTENDEE:Hortikultura 2. letnik (MHO)
CATEGORIES:Reservation
COLOR:royalblue
DESCRIPTION:Predmeti: Sonaravna hortikultura (AG328)\nLetniki: Hortikultur
 a 2. letnik (MHO)\nIzvajalci: Jerneja Jakopič\, Marko Zupan\nProstori: Pr
 edavalnica Agronomija A11
LOCATION:Department of agronomy\, Predavalnica Agronomija A11
ORGANIZER:Jerneja Jakopič, Marko Zupan
X-WR-TIMEZONE:Europe/Ljubljana
END:VEVENT
BEGIN:VEVENT
SUMMARY:Usposabljanje svetovalcev
DTSTART;TZID=Europe/Ljubljana:20251002T140000
DTEND;TZID=Europe/Ljubljana:20251002T180000
DTSTAMP:20260420T182512Z
UID:bf-AFLABS-URNIK:rezervacija:23855
CATEGORIES:Reservation
COLOR:royalblue
DESCRIPTION:Predmeti: \nLetniki: \nIzvajalci: Marko Zupan\nProstori: Preda
 valnica Hortikultura (Agronomija)
LOCATION:Department of agronomy\, Predavalnica Hortikultura (Agronomija)
ORGANIZER:Marko Zupan
X-WR-TIMEZONE:Europe/Ljubljana
END:VEVENT
BEGIN:VEVENT
SUMMARY:Usposabljanje svetovalcev
DTSTART;TZID=Europe/Ljubljana:20251003T140000
DTEND;TZID=Europe/Ljubljana:20251003T160000
DTSTAMP:20260420T182512Z
UID:bf-AFLABS-URNIK:rezervacija:23857
CATEGORIES:Reservation
COLOR:royalblue
DESCRIPTION:Predmeti: \nLetniki: \nIzvajalci: Marko Zupan\nProstori: Preda
 valnica Hortikultura (Agronomija)
LOCATION:Department of agronomy\, Predavalnica Hortikultura (Agronomija)
ORGANIZER:Marko Zupan
X-WR-TIMEZONE:Europe/Ljubljana
END:VEVENT
BEGIN:VEVENT
SUMMARY:Usposabljanje svetovalcev
DTSTART;TZID=Europe/Ljubljana:20251003T120000
DTEND;TZID=Europe/Ljubljana:20251003T140000
DTSTAMP:20260420T182512Z
UID:bf-AFLABS-URNIK:rezervacija:23858
CATEGORIES:Reservation
COLOR:royalblue
DESCRIPTION:Predmeti: \nLetniki: \nIzvajalci: Marko Zupan\nProstori: Preda
 valnica Hortikultura (Agronomija)
LOCATION:Department of agronomy\, Predavalnica Hortikultura (Agronomija)
ORGANIZER:Marko Zupan
X-WR-TIMEZONE:Europe/Ljubljana
END:VEVENT
END:VCALENDAR
