BEGIN:VCALENDAR
VERSION:2.0
PRODID:-//AFLabs urnik izvoz - bf//aflabs.si//SI
NAME:UL BF Urnik
X-WR-CALNAME:UL BF Urnik
DTSTAMP:20260424T040253Z
REFRESH-INTERVAL:PT1H
SOURCE:https://urniki.bf.uni-lj.si/en/teacher/693/?day=2026-01-05&export=1
URL:https://urniki.bf.uni-lj.si/en/teacher/693/?day=2026-01-05&export=1
X-PUBLISHED-TTL:PT1H
X-WR-TIMEZONE:Europe/Ljubljana
BEGIN:VTIMEZONE
TZID:Europe/Ljubljana
BEGIN:DAYLIGHT
DTSTART:20260329T020000
RDATE:20260329T020000
RDATE:20270328T020000
TZNAME:CEST
TZOFFSETFROM:+0100
TZOFFSETTO:+0200
END:DAYLIGHT
BEGIN:STANDARD
DTSTART:20261025T030000
RDATE:20261025T030000
RDATE:20271031T030000
TZNAME:CET
TZOFFSETFROM:+0200
TZOFFSETTO:+0100
END:STANDARD
END:VTIMEZONE
BEGIN:VEVENT
SUMMARY:Genomika (BT218)\, predavanja (P)
DTSTART;TZID=Europe/Ljubljana:20251003T104500
DTEND;TZID=Europe/Ljubljana:20251003T140000
DTSTAMP:20260424T040253Z
UID:bf-AFLABS-URNIK:srecanje:29372-2025-10-03 10:45:00+02:00
DESCRIPTION:Predmet: Genomika (BT218)\, predavanja (P)\nLetniki: Biotehnol
 ogija 2. letnik (MBT)\nIzvajalci: Nataša Debeljak\, Tanja Kunej\nProstor:
  Predavalnica Agronomija A1
END:VEVENT
BEGIN:VEVENT
SUMMARY:Genomika (BT218)\, laboratorijske vaje (LV)\, [1. sk.]
DTSTART;TZID=Europe/Ljubljana:20251006T083000
DTEND;TZID=Europe/Ljubljana:20251006T110000
DTSTAMP:20260424T040253Z
UID:bf-AFLABS-URNIK:srecanje:29373-2025-10-06 08:30:00+02:00
DESCRIPTION:Predmet: Genomika (BT218)\, laboratorijske vaje (LV)\, [1. sk.
 ]\nLetniki: Biotehnologija 2. letnik (MBT)\nIzvajalci: Nataša Debeljak\nP
 rostor: Inštitut za biokemijo in molekularno genetiko
END:VEVENT
BEGIN:VEVENT
SUMMARY:Genomika (BT218)\, laboratorijske vaje (LV)\, [2. in 3. sk.]
DTSTART;TZID=Europe/Ljubljana:20251006T113000
DTEND;TZID=Europe/Ljubljana:20251006T140000
DTSTAMP:20260424T040253Z
UID:bf-AFLABS-URNIK:srecanje:29375-2025-10-06 11:30:00+02:00
DESCRIPTION:Predmet: Genomika (BT218)\, laboratorijske vaje (LV)\, [2. in 
 3. sk.]\nLetniki: Biotehnologija 2. letnik (MBT)\nIzvajalci: Nataša Debel
 jak\nProstor: Inštitut za biokemijo in molekularno genetiko
END:VEVENT
END:VCALENDAR
