BEGIN:VCALENDAR
VERSION:2.0
PRODID:-//AFLabs urnik izvoz - bf//aflabs.si//SI
NAME:UL BF Urnik
X-WR-CALNAME:UL BF Urnik
DTSTAMP:20260425T142415Z
REFRESH-INTERVAL:PT1H
SOURCE:https://urniki.bf.uni-lj.si/en/teacher/669/?day=2026-10-19&export=1
URL:https://urniki.bf.uni-lj.si/en/teacher/669/?day=2026-10-19&export=1
X-PUBLISHED-TTL:PT1H
X-WR-TIMEZONE:Europe/Ljubljana
BEGIN:VTIMEZONE
TZID:Europe/Ljubljana
BEGIN:DAYLIGHT
DTSTART:20260329T020000
RDATE:20260329T020000
RDATE:20270328T020000
TZNAME:CEST
TZOFFSETFROM:+0100
TZOFFSETTO:+0200
END:DAYLIGHT
BEGIN:STANDARD
DTSTART:20261025T030000
RDATE:20261025T030000
RDATE:20271031T030000
TZNAME:CET
TZOFFSETFROM:+0200
TZOFFSETTO:+0100
END:STANDARD
END:VTIMEZONE
BEGIN:VEVENT
SUMMARY:Kolegij prodekana B
DTSTART;TZID=Europe/Ljubljana:20260917T100000
DTEND;TZID=Europe/Ljubljana:20260917T120000
DTSTAMP:20260425T142415Z
UID:bf-AFLABS-URNIK:rezervacija:23169
CATEGORIES:Reservation
COLOR:royalblue
DESCRIPTION:Predmeti: \nLetniki: \nIzvajalci: Tanja Dečman Flis\, Marko K
 reft\nProstori: Sejna soba Biologija
LOCATION:Department of biology\, Sejna soba Biologija
ORGANIZER:Tanja Dečman Flis, Marko Kreft
X-WR-TIMEZONE:Europe/Ljubljana
END:VEVENT
BEGIN:VEVENT
SUMMARY:Senat oddelka B
DTSTART;TZID=Europe/Ljubljana:20260918T080000
DTEND;TZID=Europe/Ljubljana:20260918T110000
DTSTAMP:20260425T142415Z
UID:bf-AFLABS-URNIK:rezervacija:23175
CATEGORIES:Reservation
COLOR:royalblue
DESCRIPTION:Predmeti: \nLetniki: \nIzvajalci: Tanja Dečman Flis\nProstori
 : Predavalnica Biologija B2
LOCATION:Department of biology\, Predavalnica Biologija B2
ORGANIZER:Tanja Dečman Flis
X-WR-TIMEZONE:Europe/Ljubljana
END:VEVENT
END:VCALENDAR
