BEGIN:VCALENDAR
VERSION:2.0
PRODID:-//AFLabs urnik izvoz - bf//aflabs.si//SI
NAME:UL BF Urnik
X-WR-CALNAME:UL BF Urnik
DTSTAMP:20260424T030153Z
REFRESH-INTERVAL:PT1H
SOURCE:https://urniki.bf.uni-lj.si/en/teacher/603/?day=2025-09-01&export=1
URL:https://urniki.bf.uni-lj.si/en/teacher/603/?day=2025-09-01&export=1
X-PUBLISHED-TTL:PT1H
X-WR-TIMEZONE:Europe/Ljubljana
BEGIN:VTIMEZONE
TZID:Europe/Ljubljana
BEGIN:DAYLIGHT
DTSTART:20260329T020000
RDATE:20260329T020000
RDATE:20270328T020000
TZNAME:CEST
TZOFFSETFROM:+0100
TZOFFSETTO:+0200
END:DAYLIGHT
BEGIN:STANDARD
DTSTART:20261025T030000
RDATE:20261025T030000
RDATE:20271031T030000
TZNAME:CET
TZOFFSETFROM:+0200
TZOFFSETTO:+0100
END:STANDARD
END:VTIMEZONE
BEGIN:VEVENT
SUMMARY:Diverziteta in ekologija mokrišč (BI252)\, predavanja in seminar
 ji (P+S)
DTSTART;TZID=Europe/Ljubljana:20251002T160000
DTEND;TZID=Europe/Ljubljana:20251002T180000
DTSTAMP:20260424T030153Z
UID:bf-AFLABS-URNIK:srecanje:28936-2025-10-02 16:00:00+02:00
DESCRIPTION:Predmet: Diverziteta in ekologija mokrišč (BI252)\, predavan
 ja in seminarji (P+S)\nLetniki: Ekologija in biodiverziteta 1. letnik (MEB
 )\, Ekologija in biodiverziteta 2. letnik (MEB)\nIzvajalci: Mateja Germ\, 
 Igor Zelnik\nProstor: Predavalnica Biologija B4
END:VEVENT
END:VCALENDAR
