BEGIN:VCALENDAR
VERSION:2.0
PRODID:-//AFLabs urnik izvoz - bf//aflabs.si//SI
NAME:UL BF Urnik
X-WR-CALNAME:UL BF Urnik
DTSTAMP:20260421T212042Z
REFRESH-INTERVAL:PT1H
SOURCE:https://urniki.bf.uni-lj.si/en/teacher/57/?day=2025-10-06&export=1
URL:https://urniki.bf.uni-lj.si/en/teacher/57/?day=2025-10-06&export=1
X-PUBLISHED-TTL:PT1H
X-WR-TIMEZONE:Europe/Ljubljana
BEGIN:VTIMEZONE
TZID:Europe/Ljubljana
BEGIN:DAYLIGHT
DTSTART:20260329T020000
RDATE:20260329T020000
RDATE:20270328T020000
TZNAME:CEST
TZOFFSETFROM:+0100
TZOFFSETTO:+0200
END:DAYLIGHT
BEGIN:STANDARD
DTSTART:20261025T030000
RDATE:20261025T030000
RDATE:20271031T030000
TZNAME:CET
TZOFFSETFROM:+0200
TZOFFSETTO:+0100
END:STANDARD
END:VTIMEZONE
BEGIN:VEVENT
SUMMARY:SPREJEM BRUCEV NAJPREJ NA BF IN POTEM NA ODDELKU
DTSTART;TZID=Europe/Ljubljana:20251001T090000
DTEND;TZID=Europe/Ljubljana:20251001T120000
DTSTAMP:20260421T212042Z
UID:bf-AFLABS-URNIK:rezervacija:23787
CATEGORIES:Reservation
COLOR:royalblue
DESCRIPTION:Predmeti: \nLetniki: Gozdarstvo in obnovljivi gozdni viri 1. l
 etnik (FOUN)\, Gozdarstvo 1. letnik (FOPS)\nIzvajalci: Tatjana Stritar\nPr
 ostori: Predavalnica Gozdarstvo G6
LOCATION:Department of forestry\, Predavalnica Gozdarstvo G6
ORGANIZER:Tatjana Stritar
X-WR-TIMEZONE:Europe/Ljubljana
END:VEVENT
BEGIN:VEVENT
SUMMARY:Zdravo in varno delo v  izobraževalnem procesu  (dr.  Poje)  OBVE
 ZNO
DTSTART;TZID=Europe/Ljubljana:20251021T130000
DTEND;TZID=Europe/Ljubljana:20251021T140000
DTSTAMP:20260421T212042Z
UID:bf-AFLABS-URNIK:rezervacija:24394
CATEGORIES:Reservation
COLOR:royalblue
DESCRIPTION:Predmeti: \nLetniki: Gozdarstvo in obnovljivi gozdni viri 1. l
 etnik (FOUN)\, Gozdarstvo 1. letnik (FOPS)\nIzvajalci: Tatjana Stritar\nPr
 ostori: Predavalnica Gozdarstvo G6
LOCATION:Department of forestry\, Predavalnica Gozdarstvo G6
ORGANIZER:Tatjana Stritar
X-WR-TIMEZONE:Europe/Ljubljana
END:VEVENT
BEGIN:VEVENT
SUMMARY:Sestanek KŠŠV
DTSTART;TZID=Europe/Ljubljana:20251023T133000
DTEND;TZID=Europe/Ljubljana:20251023T150000
DTSTAMP:20260421T212042Z
UID:bf-AFLABS-URNIK:rezervacija:24557
CATEGORIES:Reservation
COLOR:royalblue
DESCRIPTION:Predmeti: \nLetniki: \nIzvajalci: Tatjana Stritar\nProstori: S
 ejna soba Gozdarstvo
LOCATION:Department of forestry\, Sejna soba Gozdarstvo
ORGANIZER:Tatjana Stritar
X-WR-TIMEZONE:Europe/Ljubljana
END:VEVENT
BEGIN:VEVENT
SUMMARY:Kostanjev piknik  Študentski svet in Bovčka
DTSTART;TZID=Europe/Ljubljana:20251021T170000
DTEND;TZID=Europe/Ljubljana:20251021T200000
DTSTAMP:20260421T212042Z
UID:bf-AFLABS-URNIK:rezervacija:24595
CATEGORIES:Reservation
COLOR:royalblue
DESCRIPTION:Predmeti: \nLetniki: \nIzvajalci: Tatjana Stritar\nProstori: A
 mfiteater G
LOCATION:Department of forestry\, Amfiteater G
ORGANIZER:Tatjana Stritar
X-WR-TIMEZONE:Europe/Ljubljana
END:VEVENT
BEGIN:VEVENT
SUMMARY:Kostanjev piknik brucovanje  Mikrobilologi
DTSTART;TZID=Europe/Ljubljana:20251023T180000
DTEND;TZID=Europe/Ljubljana:20251023T200000
DTSTAMP:20260421T212042Z
UID:bf-AFLABS-URNIK:rezervacija:24596
CATEGORIES:Reservation
COLOR:royalblue
DESCRIPTION:Predmeti: \nLetniki: \nIzvajalci: Tatjana Stritar\nProstori: A
 mfiteater G
LOCATION:Department of forestry\, Amfiteater G
ORGANIZER:Tatjana Stritar
X-WR-TIMEZONE:Europe/Ljubljana
END:VEVENT
END:VCALENDAR
