BEGIN:VCALENDAR
VERSION:2.0
PRODID:-//AFLabs urnik izvoz - bf//aflabs.si//SI
NAME:UL BF Urnik
X-WR-CALNAME:UL BF Urnik
DTSTAMP:20260420T075924Z
REFRESH-INTERVAL:PT1H
SOURCE:https://urniki.bf.uni-lj.si/en/teacher/558/?day=2025-10-27&export=1
URL:https://urniki.bf.uni-lj.si/en/teacher/558/?day=2025-10-27&export=1
X-PUBLISHED-TTL:PT1H
X-WR-TIMEZONE:Europe/Ljubljana
BEGIN:VTIMEZONE
TZID:Europe/Ljubljana
BEGIN:DAYLIGHT
DTSTART:20260329T020000
RDATE:20260329T020000
RDATE:20270328T020000
TZNAME:CEST
TZOFFSETFROM:+0100
TZOFFSETTO:+0200
END:DAYLIGHT
BEGIN:STANDARD
DTSTART:20261025T030000
RDATE:20261025T030000
RDATE:20271031T030000
TZNAME:CET
TZOFFSETFROM:+0200
TZOFFSETTO:+0100
END:STANDARD
END:VTIMEZONE
BEGIN:VEVENT
SUMMARY:Kolokvij BtVG
DTSTART;TZID=Europe/Ljubljana:20251117T090000
DTEND;TZID=Europe/Ljubljana:20251117T120000
DTSTAMP:20260420T075924Z
UID:bf-AFLABS-URNIK:rezervacija:24798
ATTENDEE:Biotehnologija 3. letnik (BTUN)
CATEGORIES:Reservation
COLOR:royalblue
DESCRIPTION:Predmeti: Biotehnologija višjih gliv (BT019)\nLetniki: Bioteh
 nologija 3. letnik (BTUN)\nIzvajalci: Davor Kržišnik\, Andreja Žagar\nP
 rostori: Predavalnica Lesarstvo L6\, Velika predavalnica
LOCATION:Department of wood science and technology\, Predavalnica Lesarstv
 o L6\, Velika predavalnica
ORGANIZER:Davor Kržišnik, Andreja Žagar
X-WR-TIMEZONE:Europe/Ljubljana
END:VEVENT
BEGIN:VEVENT
SUMMARY:Izpit
DTSTART;TZID=Europe/Ljubljana:20251127T160000
DTEND;TZID=Europe/Ljubljana:20251127T180000
DTSTAMP:20260420T075924Z
UID:bf-AFLABS-URNIK:rezervacija:25128
ATTENDEE:Biotehnologija 3. letnik (BTUN)
CATEGORIES:Reservation
COLOR:royalblue
DESCRIPTION:Predmeti: Biotehnologija višjih gliv (BT019)\nLetniki: Bioteh
 nologija 3. letnik (BTUN)\nIzvajalci: Davor Kržišnik\, Andreja Žagar\nP
 rostori: Predavalnica Lesarstvo L6\, Velika predavalnica
LOCATION:Department of wood science and technology\, Predavalnica Lesarstv
 o L6\, Velika predavalnica
ORGANIZER:Davor Kržišnik, Andreja Žagar
X-WR-TIMEZONE:Europe/Ljubljana
END:VEVENT
END:VCALENDAR
