BEGIN:VCALENDAR
VERSION:2.0
PRODID:-//AFLabs urnik izvoz - bf//aflabs.si//SI
NAME:UL BF Urnik
X-WR-CALNAME:UL BF Urnik
DTSTAMP:20260422T053306Z
REFRESH-INTERVAL:PT1H
SOURCE:https://urniki.bf.uni-lj.si/en/teacher/528/?day=2026-10-05&export=1
URL:https://urniki.bf.uni-lj.si/en/teacher/528/?day=2026-10-05&export=1
X-PUBLISHED-TTL:PT1H
X-WR-TIMEZONE:Europe/Ljubljana
BEGIN:VTIMEZONE
TZID:Europe/Ljubljana
BEGIN:DAYLIGHT
DTSTART:20260329T020000
RDATE:20260329T020000
RDATE:20270328T020000
TZNAME:CEST
TZOFFSETFROM:+0100
TZOFFSETTO:+0200
END:DAYLIGHT
BEGIN:STANDARD
DTSTART:20261025T030000
RDATE:20261025T030000
RDATE:20271031T030000
TZNAME:CET
TZOFFSETFROM:+0200
TZOFFSETTO:+0100
END:STANDARD
END:VTIMEZONE
BEGIN:VEVENT
SUMMARY:izpit Kvantitativna genetika in kolokvij Reja prašičev in TRPr
DTSTART;TZID=Europe/Ljubljana:20260903T120000
DTEND;TZID=Europe/Ljubljana:20260903T140000
DTSTAMP:20260422T053306Z
UID:bf-AFLABS-URNIK:rezervacija:27731
CATEGORIES:Reservation
COLOR:royalblue
DESCRIPTION:Predmeti: \nLetniki: \nIzvajalci: Mojca Simčič\, Anita Ule\n
 Prostori: Viteška dvorana
LOCATION:Department of animal science\, Viteška dvorana
ORGANIZER:Mojca Simčič, Anita Ule
X-WR-TIMEZONE:Europe/Ljubljana
END:VEVENT
BEGIN:VEVENT
SUMMARY:kolokvij ZO Tehnologija reje prašičev VSŠ BSc
DTSTART;TZID=Europe/Ljubljana:20260907T120000
DTEND;TZID=Europe/Ljubljana:20260907T133000
DTSTAMP:20260422T053306Z
UID:bf-AFLABS-URNIK:rezervacija:27978
CATEGORIES:Reservation
COLOR:royalblue
DESCRIPTION:Predmeti: \nLetniki: \nIzvajalci: Anita Ule\nProstori: Predava
 lnica Ro-2
LOCATION:Department of animal science\, Predavalnica Ro-2
ORGANIZER:Anita Ule
X-WR-TIMEZONE:Europe/Ljubljana
END:VEVENT
END:VCALENDAR
