BEGIN:VCALENDAR
VERSION:2.0
PRODID:-//AFLabs urnik izvoz - bf//aflabs.si//SI
NAME:UL BF Urnik
X-WR-CALNAME:UL BF Urnik
DTSTAMP:20260421T053309Z
REFRESH-INTERVAL:PT1H
SOURCE:https://urniki.bf.uni-lj.si/en/teacher/514/?day=2025-10-06&export=1
URL:https://urniki.bf.uni-lj.si/en/teacher/514/?day=2025-10-06&export=1
X-PUBLISHED-TTL:PT1H
X-WR-TIMEZONE:Europe/Ljubljana
BEGIN:VTIMEZONE
TZID:Europe/Ljubljana
BEGIN:DAYLIGHT
DTSTART:20260329T020000
RDATE:20260329T020000
RDATE:20270328T020000
TZNAME:CEST
TZOFFSETFROM:+0100
TZOFFSETTO:+0200
END:DAYLIGHT
BEGIN:STANDARD
DTSTART:20261025T030000
RDATE:20261025T030000
RDATE:20271031T030000
TZNAME:CET
TZOFFSETFROM:+0200
TZOFFSETTO:+0100
END:STANDARD
END:VTIMEZONE
BEGIN:VEVENT
SUMMARY:Psihologija učenja in pouka  (BI502)\, predavanja in seminarji (P
 +S)
DTSTART;TZID=Europe/Ljubljana:20251007T140000
DTEND;TZID=Europe/Ljubljana:20251007T160000
DTSTAMP:20260421T053309Z
UID:bf-AFLABS-URNIK:srecanje:25344-2025-10-07 14:00:00+02:00
DESCRIPTION:Predmet: Psihologija učenja in pouka  (BI502)\, predavanja in
  seminarji (P+S)\nLetniki: Biološko izobraževanje 1. letnik (MBE)\nIzvaj
 alci: Melita Puklek Levpušček\nProstor: Fakulteta za matematiko in fizik
 o\, predavalnica P.02
END:VEVENT
BEGIN:VEVENT
SUMMARY:Psihologija učenja in pouka  (BI502)\, predavanja in seminarji (P
 +S)
DTSTART;TZID=Europe/Ljubljana:20251014T140000
DTEND;TZID=Europe/Ljubljana:20251014T160000
DTSTAMP:20260421T053309Z
UID:bf-AFLABS-URNIK:srecanje:25344-2025-10-14 14:00:00+02:00
DESCRIPTION:Predmet: Psihologija učenja in pouka  (BI502)\, predavanja in
  seminarji (P+S)\nLetniki: Biološko izobraževanje 1. letnik (MBE)\nIzvaj
 alci: Melita Puklek Levpušček\nProstor: Fakulteta za matematiko in fizik
 o\, predavalnica P.02
END:VEVENT
BEGIN:VEVENT
SUMMARY:Psihologija učenja in pouka  (BI502)\, predavanja in seminarji (P
 +S)
DTSTART;TZID=Europe/Ljubljana:20251021T140000
DTEND;TZID=Europe/Ljubljana:20251021T160000
DTSTAMP:20260421T053309Z
UID:bf-AFLABS-URNIK:srecanje:25344-2025-10-21 14:00:00+02:00
DESCRIPTION:Predmet: Psihologija učenja in pouka  (BI502)\, predavanja in
  seminarji (P+S)\nLetniki: Biološko izobraževanje 1. letnik (MBE)\nIzvaj
 alci: Melita Puklek Levpušček\nProstor: Fakulteta za matematiko in fizik
 o\, predavalnica P.02
END:VEVENT
BEGIN:VEVENT
SUMMARY:Psihologija učenja in pouka  (BI502)\, predavanja in seminarji (P
 +S)
DTSTART;TZID=Europe/Ljubljana:20251028T140000
DTEND;TZID=Europe/Ljubljana:20251028T160000
DTSTAMP:20260421T053309Z
UID:bf-AFLABS-URNIK:srecanje:25344-2025-10-28 14:00:00+01:00
DESCRIPTION:Predmet: Psihologija učenja in pouka  (BI502)\, predavanja in
  seminarji (P+S)\nLetniki: Biološko izobraževanje 1. letnik (MBE)\nIzvaj
 alci: Melita Puklek Levpušček\nProstor: Fakulteta za matematiko in fizik
 o\, predavalnica P.02
END:VEVENT
BEGIN:VEVENT
SUMMARY:Psihologija učenja in pouka  (BI502)\, predavanja in seminarji (P
 +S)
DTSTART;TZID=Europe/Ljubljana:20251104T140000
DTEND;TZID=Europe/Ljubljana:20251104T160000
DTSTAMP:20260421T053309Z
UID:bf-AFLABS-URNIK:srecanje:25344-2025-11-04 14:00:00+01:00
DESCRIPTION:Predmet: Psihologija učenja in pouka  (BI502)\, predavanja in
  seminarji (P+S)\nLetniki: Biološko izobraževanje 1. letnik (MBE)\nIzvaj
 alci: Melita Puklek Levpušček\nProstor: Fakulteta za matematiko in fizik
 o\, predavalnica P.02
END:VEVENT
BEGIN:VEVENT
SUMMARY:Psihologija učenja in pouka  (BI502)\, predavanja in seminarji (P
 +S)
DTSTART;TZID=Europe/Ljubljana:20251111T140000
DTEND;TZID=Europe/Ljubljana:20251111T160000
DTSTAMP:20260421T053309Z
UID:bf-AFLABS-URNIK:srecanje:25344-2025-11-11 14:00:00+01:00
DESCRIPTION:Predmet: Psihologija učenja in pouka  (BI502)\, predavanja in
  seminarji (P+S)\nLetniki: Biološko izobraževanje 1. letnik (MBE)\nIzvaj
 alci: Melita Puklek Levpušček\nProstor: Fakulteta za matematiko in fizik
 o\, predavalnica P.02
END:VEVENT
END:VCALENDAR
