BEGIN:VCALENDAR
VERSION:2.0
PRODID:-//AFLabs urnik izvoz - bf//aflabs.si//SI
NAME:UL BF Urnik
X-WR-CALNAME:UL BF Urnik
DTSTAMP:20260420T023716Z
REFRESH-INTERVAL:PT1H
SOURCE:https://urniki.bf.uni-lj.si/en/teacher/458/?day=2026-04-06&export=1
URL:https://urniki.bf.uni-lj.si/en/teacher/458/?day=2026-04-06&export=1
X-PUBLISHED-TTL:PT1H
X-WR-TIMEZONE:Europe/Ljubljana
BEGIN:VTIMEZONE
TZID:Europe/Ljubljana
BEGIN:DAYLIGHT
DTSTART:20260329T020000
RDATE:20260329T020000
RDATE:20270328T020000
TZNAME:CEST
TZOFFSETFROM:+0100
TZOFFSETTO:+0200
END:DAYLIGHT
BEGIN:STANDARD
DTSTART:20261025T030000
RDATE:20261025T030000
RDATE:20271031T030000
TZNAME:CET
TZOFFSETFROM:+0200
TZOFFSETTO:+0100
END:STANDARD
END:VTIMEZONE
BEGIN:VEVENT
SUMMARY:Projektno delo (BI050)\, drugo delo (DD)
DTSTART;TZID=Europe/Ljubljana:20251125T120000
DTEND;TZID=Europe/Ljubljana:20251125T150000
DTSTAMP:20260420T023716Z
UID:bf-AFLABS-URNIK:srecanje:26465-2025-11-25 12:00:00+01:00
DESCRIPTION:Predmet: Projektno delo (BI050)\, drugo delo (DD)\nLetniki: \n
 Izvajalci: Matej Holcar\, Franc Kljun\nProstor: Biološka vajalnica BV5\, 
 Ekološka vajalnica
END:VEVENT
BEGIN:VEVENT
SUMMARY:Projektno delo (BI050)\, drugo delo (DD)
DTSTART;TZID=Europe/Ljubljana:20251202T120000
DTEND;TZID=Europe/Ljubljana:20251202T150000
DTSTAMP:20260420T023716Z
UID:bf-AFLABS-URNIK:srecanje:26465-2025-12-02 12:00:00+01:00
DESCRIPTION:Predmet: Projektno delo (BI050)\, drugo delo (DD)\nLetniki: \n
 Izvajalci: Matej Holcar\, Franc Kljun\nProstor: Biološka vajalnica BV5\, 
 Ekološka vajalnica
END:VEVENT
BEGIN:VEVENT
SUMMARY:Projektno delo (BI050)\, drugo delo (DD)
DTSTART;TZID=Europe/Ljubljana:20251209T120000
DTEND;TZID=Europe/Ljubljana:20251209T150000
DTSTAMP:20260420T023716Z
UID:bf-AFLABS-URNIK:srecanje:26465-2025-12-09 12:00:00+01:00
DESCRIPTION:Predmet: Projektno delo (BI050)\, drugo delo (DD)\nLetniki: \n
 Izvajalci: Matej Holcar\, Franc Kljun\nProstor: Biološka vajalnica BV5\, 
 Ekološka vajalnica
END:VEVENT
BEGIN:VEVENT
SUMMARY:Projektno delo (BI050)\, drugo delo (DD)
DTSTART;TZID=Europe/Ljubljana:20251216T120000
DTEND;TZID=Europe/Ljubljana:20251216T150000
DTSTAMP:20260420T023716Z
UID:bf-AFLABS-URNIK:srecanje:26465-2025-12-16 12:00:00+01:00
DESCRIPTION:Predmet: Projektno delo (BI050)\, drugo delo (DD)\nLetniki: \n
 Izvajalci: Matej Holcar\, Franc Kljun\nProstor: Biološka vajalnica BV5\, 
 Ekološka vajalnica
END:VEVENT
BEGIN:VEVENT
SUMMARY:Projektno delo (BI050)\, drugo delo (DD)
DTSTART;TZID=Europe/Ljubljana:20251223T120000
DTEND;TZID=Europe/Ljubljana:20251223T150000
DTSTAMP:20260420T023716Z
UID:bf-AFLABS-URNIK:srecanje:26465-2025-12-23 12:00:00+01:00
DESCRIPTION:Predmet: Projektno delo (BI050)\, drugo delo (DD)\nLetniki: \n
 Izvajalci: Matej Holcar\, Franc Kljun\nProstor: Biološka vajalnica BV5\, 
 Ekološka vajalnica
END:VEVENT
BEGIN:VEVENT
SUMMARY:Projektno delo (BI050)\, drugo delo (DD)
DTSTART;TZID=Europe/Ljubljana:20251230T120000
DTEND;TZID=Europe/Ljubljana:20251230T150000
DTSTAMP:20260420T023716Z
UID:bf-AFLABS-URNIK:srecanje:26465-2025-12-30 12:00:00+01:00
DESCRIPTION:Predmet: Projektno delo (BI050)\, drugo delo (DD)\nLetniki: \n
 Izvajalci: Matej Holcar\, Franc Kljun\nProstor: Biološka vajalnica BV5\, 
 Ekološka vajalnica
END:VEVENT
BEGIN:VEVENT
SUMMARY:Projektno delo (BI050)\, drugo delo (DD)
DTSTART;TZID=Europe/Ljubljana:20260106T120000
DTEND;TZID=Europe/Ljubljana:20260106T150000
DTSTAMP:20260420T023716Z
UID:bf-AFLABS-URNIK:srecanje:26465-2026-01-06 12:00:00+01:00
DESCRIPTION:Predmet: Projektno delo (BI050)\, drugo delo (DD)\nLetniki: \n
 Izvajalci: Matej Holcar\, Franc Kljun\nProstor: Biološka vajalnica BV5\, 
 Ekološka vajalnica
END:VEVENT
BEGIN:VEVENT
SUMMARY:Projektno delo (BI050)\, drugo delo (DD)
DTSTART;TZID=Europe/Ljubljana:20260113T120000
DTEND;TZID=Europe/Ljubljana:20260113T150000
DTSTAMP:20260420T023716Z
UID:bf-AFLABS-URNIK:srecanje:26465-2026-01-13 12:00:00+01:00
DESCRIPTION:Predmet: Projektno delo (BI050)\, drugo delo (DD)\nLetniki: \n
 Izvajalci: Matej Holcar\, Franc Kljun\nProstor: Biološka vajalnica BV5\, 
 Ekološka vajalnica
END:VEVENT
BEGIN:VEVENT
SUMMARY:Projektno delo (BI050)\, drugo delo (DD)
DTSTART;TZID=Europe/Ljubljana:20251126T080000
DTEND;TZID=Europe/Ljubljana:20251126T130000
DTSTAMP:20260420T023716Z
UID:bf-AFLABS-URNIK:srecanje:26466-2025-11-26 08:00:00+01:00
DESCRIPTION:Predmet: Projektno delo (BI050)\, drugo delo (DD)\nLetniki: \n
 Izvajalci: Matej Holcar\, Franc Kljun\nProstor: Biološka vajalnica BV5\, 
 Ekološka vajalnica
END:VEVENT
BEGIN:VEVENT
SUMMARY:Projektno delo (BI050)\, drugo delo (DD)
DTSTART;TZID=Europe/Ljubljana:20251203T080000
DTEND;TZID=Europe/Ljubljana:20251203T130000
DTSTAMP:20260420T023716Z
UID:bf-AFLABS-URNIK:srecanje:26466-2025-12-03 08:00:00+01:00
DESCRIPTION:Predmet: Projektno delo (BI050)\, drugo delo (DD)\nLetniki: \n
 Izvajalci: Matej Holcar\, Franc Kljun\nProstor: Biološka vajalnica BV5\, 
 Ekološka vajalnica
END:VEVENT
BEGIN:VEVENT
SUMMARY:Projektno delo (BI050)\, drugo delo (DD)
DTSTART;TZID=Europe/Ljubljana:20251210T080000
DTEND;TZID=Europe/Ljubljana:20251210T130000
DTSTAMP:20260420T023716Z
UID:bf-AFLABS-URNIK:srecanje:26466-2025-12-10 08:00:00+01:00
DESCRIPTION:Predmet: Projektno delo (BI050)\, drugo delo (DD)\nLetniki: \n
 Izvajalci: Matej Holcar\, Franc Kljun\nProstor: Biološka vajalnica BV5\, 
 Ekološka vajalnica
END:VEVENT
BEGIN:VEVENT
SUMMARY:Projektno delo (BI050)\, drugo delo (DD)
DTSTART;TZID=Europe/Ljubljana:20251217T080000
DTEND;TZID=Europe/Ljubljana:20251217T130000
DTSTAMP:20260420T023716Z
UID:bf-AFLABS-URNIK:srecanje:26466-2025-12-17 08:00:00+01:00
DESCRIPTION:Predmet: Projektno delo (BI050)\, drugo delo (DD)\nLetniki: \n
 Izvajalci: Matej Holcar\, Franc Kljun\nProstor: Biološka vajalnica BV5\, 
 Ekološka vajalnica
END:VEVENT
BEGIN:VEVENT
SUMMARY:Projektno delo (BI050)\, drugo delo (DD)
DTSTART;TZID=Europe/Ljubljana:20251224T080000
DTEND;TZID=Europe/Ljubljana:20251224T130000
DTSTAMP:20260420T023716Z
UID:bf-AFLABS-URNIK:srecanje:26466-2025-12-24 08:00:00+01:00
DESCRIPTION:Predmet: Projektno delo (BI050)\, drugo delo (DD)\nLetniki: \n
 Izvajalci: Matej Holcar\, Franc Kljun\nProstor: Biološka vajalnica BV5\, 
 Ekološka vajalnica
END:VEVENT
BEGIN:VEVENT
SUMMARY:Projektno delo (BI050)\, drugo delo (DD)
DTSTART;TZID=Europe/Ljubljana:20251231T080000
DTEND;TZID=Europe/Ljubljana:20251231T130000
DTSTAMP:20260420T023716Z
UID:bf-AFLABS-URNIK:srecanje:26466-2025-12-31 08:00:00+01:00
DESCRIPTION:Predmet: Projektno delo (BI050)\, drugo delo (DD)\nLetniki: \n
 Izvajalci: Matej Holcar\, Franc Kljun\nProstor: Biološka vajalnica BV5\, 
 Ekološka vajalnica
END:VEVENT
BEGIN:VEVENT
SUMMARY:Projektno delo (BI050)\, drugo delo (DD)
DTSTART;TZID=Europe/Ljubljana:20260107T080000
DTEND;TZID=Europe/Ljubljana:20260107T130000
DTSTAMP:20260420T023716Z
UID:bf-AFLABS-URNIK:srecanje:26466-2026-01-07 08:00:00+01:00
DESCRIPTION:Predmet: Projektno delo (BI050)\, drugo delo (DD)\nLetniki: \n
 Izvajalci: Matej Holcar\, Franc Kljun\nProstor: Biološka vajalnica BV5\, 
 Ekološka vajalnica
END:VEVENT
BEGIN:VEVENT
SUMMARY:Projektno delo (BI050)\, drugo delo (DD)
DTSTART;TZID=Europe/Ljubljana:20260114T080000
DTEND;TZID=Europe/Ljubljana:20260114T130000
DTSTAMP:20260420T023716Z
UID:bf-AFLABS-URNIK:srecanje:26466-2026-01-14 08:00:00+01:00
DESCRIPTION:Predmet: Projektno delo (BI050)\, drugo delo (DD)\nLetniki: \n
 Izvajalci: Matej Holcar\, Franc Kljun\nProstor: Biološka vajalnica BV5\, 
 Ekološka vajalnica
END:VEVENT
BEGIN:VEVENT
SUMMARY:Projektno delo (BI050)\, drugo delo (DD)
DTSTART;TZID=Europe/Ljubljana:20251127T080000
DTEND;TZID=Europe/Ljubljana:20251127T140000
DTSTAMP:20260420T023716Z
UID:bf-AFLABS-URNIK:srecanje:26467-2025-11-27 08:00:00+01:00
DESCRIPTION:Predmet: Projektno delo (BI050)\, drugo delo (DD)\nLetniki: \n
 Izvajalci: Matej Holcar\, Franc Kljun\nProstor: Biološka vajalnica BV5\, 
 Ekološka vajalnica
END:VEVENT
BEGIN:VEVENT
SUMMARY:Projektno delo (BI050)\, drugo delo (DD)
DTSTART;TZID=Europe/Ljubljana:20251204T080000
DTEND;TZID=Europe/Ljubljana:20251204T140000
DTSTAMP:20260420T023716Z
UID:bf-AFLABS-URNIK:srecanje:26467-2025-12-04 08:00:00+01:00
DESCRIPTION:Predmet: Projektno delo (BI050)\, drugo delo (DD)\nLetniki: \n
 Izvajalci: Matej Holcar\, Franc Kljun\nProstor: Biološka vajalnica BV5\, 
 Ekološka vajalnica
END:VEVENT
BEGIN:VEVENT
SUMMARY:Projektno delo (BI050)\, drugo delo (DD)
DTSTART;TZID=Europe/Ljubljana:20251211T080000
DTEND;TZID=Europe/Ljubljana:20251211T140000
DTSTAMP:20260420T023716Z
UID:bf-AFLABS-URNIK:srecanje:26467-2025-12-11 08:00:00+01:00
DESCRIPTION:Predmet: Projektno delo (BI050)\, drugo delo (DD)\nLetniki: \n
 Izvajalci: Matej Holcar\, Franc Kljun\nProstor: Biološka vajalnica BV5\, 
 Ekološka vajalnica
END:VEVENT
BEGIN:VEVENT
SUMMARY:Projektno delo (BI050)\, drugo delo (DD)
DTSTART;TZID=Europe/Ljubljana:20251218T080000
DTEND;TZID=Europe/Ljubljana:20251218T140000
DTSTAMP:20260420T023716Z
UID:bf-AFLABS-URNIK:srecanje:26467-2025-12-18 08:00:00+01:00
DESCRIPTION:Predmet: Projektno delo (BI050)\, drugo delo (DD)\nLetniki: \n
 Izvajalci: Matej Holcar\, Franc Kljun\nProstor: Biološka vajalnica BV5\, 
 Ekološka vajalnica
END:VEVENT
BEGIN:VEVENT
SUMMARY:Projektno delo (BI050)\, drugo delo (DD)
DTSTART;TZID=Europe/Ljubljana:20251225T080000
DTEND;TZID=Europe/Ljubljana:20251225T140000
DTSTAMP:20260420T023716Z
UID:bf-AFLABS-URNIK:srecanje:26467-2025-12-25 08:00:00+01:00
DESCRIPTION:Predmet: Projektno delo (BI050)\, drugo delo (DD)\nLetniki: \n
 Izvajalci: Matej Holcar\, Franc Kljun\nProstor: Biološka vajalnica BV5\, 
 Ekološka vajalnica
END:VEVENT
BEGIN:VEVENT
SUMMARY:Projektno delo (BI050)\, drugo delo (DD)
DTSTART;TZID=Europe/Ljubljana:20260101T080000
DTEND;TZID=Europe/Ljubljana:20260101T140000
DTSTAMP:20260420T023716Z
UID:bf-AFLABS-URNIK:srecanje:26467-2026-01-01 08:00:00+01:00
DESCRIPTION:Predmet: Projektno delo (BI050)\, drugo delo (DD)\nLetniki: \n
 Izvajalci: Matej Holcar\, Franc Kljun\nProstor: Biološka vajalnica BV5\, 
 Ekološka vajalnica
END:VEVENT
BEGIN:VEVENT
SUMMARY:Projektno delo (BI050)\, drugo delo (DD)
DTSTART;TZID=Europe/Ljubljana:20260108T080000
DTEND;TZID=Europe/Ljubljana:20260108T140000
DTSTAMP:20260420T023716Z
UID:bf-AFLABS-URNIK:srecanje:26467-2026-01-08 08:00:00+01:00
DESCRIPTION:Predmet: Projektno delo (BI050)\, drugo delo (DD)\nLetniki: \n
 Izvajalci: Matej Holcar\, Franc Kljun\nProstor: Biološka vajalnica BV5\, 
 Ekološka vajalnica
END:VEVENT
BEGIN:VEVENT
SUMMARY:Projektno delo (BI050)\, drugo delo (DD)
DTSTART;TZID=Europe/Ljubljana:20260115T080000
DTEND;TZID=Europe/Ljubljana:20260115T140000
DTSTAMP:20260420T023716Z
UID:bf-AFLABS-URNIK:srecanje:26467-2026-01-15 08:00:00+01:00
DESCRIPTION:Predmet: Projektno delo (BI050)\, drugo delo (DD)\nLetniki: \n
 Izvajalci: Matej Holcar\, Franc Kljun\nProstor: Biološka vajalnica BV5\, 
 Ekološka vajalnica
END:VEVENT
BEGIN:VEVENT
SUMMARY:Projektno delo (BI050)\, drugo delo (DD)
DTSTART;TZID=Europe/Ljubljana:20251128T080000
DTEND;TZID=Europe/Ljubljana:20251128T120000
DTSTAMP:20260420T023716Z
UID:bf-AFLABS-URNIK:srecanje:26468-2025-11-28 08:00:00+01:00
DESCRIPTION:Predmet: Projektno delo (BI050)\, drugo delo (DD)\nLetniki: \n
 Izvajalci: Matej Holcar\, Franc Kljun\nProstor: Biološka vajalnica BV5\, 
 Ekološka vajalnica
END:VEVENT
BEGIN:VEVENT
SUMMARY:Projektno delo (BI050)\, drugo delo (DD)
DTSTART;TZID=Europe/Ljubljana:20251205T080000
DTEND;TZID=Europe/Ljubljana:20251205T120000
DTSTAMP:20260420T023716Z
UID:bf-AFLABS-URNIK:srecanje:26468-2025-12-05 08:00:00+01:00
DESCRIPTION:Predmet: Projektno delo (BI050)\, drugo delo (DD)\nLetniki: \n
 Izvajalci: Matej Holcar\, Franc Kljun\nProstor: Biološka vajalnica BV5\, 
 Ekološka vajalnica
END:VEVENT
BEGIN:VEVENT
SUMMARY:Projektno delo (BI050)\, drugo delo (DD)
DTSTART;TZID=Europe/Ljubljana:20251212T080000
DTEND;TZID=Europe/Ljubljana:20251212T120000
DTSTAMP:20260420T023716Z
UID:bf-AFLABS-URNIK:srecanje:26468-2025-12-12 08:00:00+01:00
DESCRIPTION:Predmet: Projektno delo (BI050)\, drugo delo (DD)\nLetniki: \n
 Izvajalci: Matej Holcar\, Franc Kljun\nProstor: Biološka vajalnica BV5\, 
 Ekološka vajalnica
END:VEVENT
BEGIN:VEVENT
SUMMARY:Projektno delo (BI050)\, drugo delo (DD)
DTSTART;TZID=Europe/Ljubljana:20251219T080000
DTEND;TZID=Europe/Ljubljana:20251219T120000
DTSTAMP:20260420T023716Z
UID:bf-AFLABS-URNIK:srecanje:26468-2025-12-19 08:00:00+01:00
DESCRIPTION:Predmet: Projektno delo (BI050)\, drugo delo (DD)\nLetniki: \n
 Izvajalci: Matej Holcar\, Franc Kljun\nProstor: Biološka vajalnica BV5\, 
 Ekološka vajalnica
END:VEVENT
BEGIN:VEVENT
SUMMARY:Projektno delo (BI050)\, drugo delo (DD)
DTSTART;TZID=Europe/Ljubljana:20251226T080000
DTEND;TZID=Europe/Ljubljana:20251226T120000
DTSTAMP:20260420T023716Z
UID:bf-AFLABS-URNIK:srecanje:26468-2025-12-26 08:00:00+01:00
DESCRIPTION:Predmet: Projektno delo (BI050)\, drugo delo (DD)\nLetniki: \n
 Izvajalci: Matej Holcar\, Franc Kljun\nProstor: Biološka vajalnica BV5\, 
 Ekološka vajalnica
END:VEVENT
BEGIN:VEVENT
SUMMARY:Projektno delo (BI050)\, drugo delo (DD)
DTSTART;TZID=Europe/Ljubljana:20260102T080000
DTEND;TZID=Europe/Ljubljana:20260102T120000
DTSTAMP:20260420T023716Z
UID:bf-AFLABS-URNIK:srecanje:26468-2026-01-02 08:00:00+01:00
DESCRIPTION:Predmet: Projektno delo (BI050)\, drugo delo (DD)\nLetniki: \n
 Izvajalci: Matej Holcar\, Franc Kljun\nProstor: Biološka vajalnica BV5\, 
 Ekološka vajalnica
END:VEVENT
BEGIN:VEVENT
SUMMARY:Projektno delo (BI050)\, drugo delo (DD)
DTSTART;TZID=Europe/Ljubljana:20260109T080000
DTEND;TZID=Europe/Ljubljana:20260109T120000
DTSTAMP:20260420T023716Z
UID:bf-AFLABS-URNIK:srecanje:26468-2026-01-09 08:00:00+01:00
DESCRIPTION:Predmet: Projektno delo (BI050)\, drugo delo (DD)\nLetniki: \n
 Izvajalci: Matej Holcar\, Franc Kljun\nProstor: Biološka vajalnica BV5\, 
 Ekološka vajalnica
END:VEVENT
BEGIN:VEVENT
SUMMARY:Projektno delo (BI050)\, drugo delo (DD)
DTSTART;TZID=Europe/Ljubljana:20260116T080000
DTEND;TZID=Europe/Ljubljana:20260116T120000
DTSTAMP:20260420T023716Z
UID:bf-AFLABS-URNIK:srecanje:26468-2026-01-16 08:00:00+01:00
DESCRIPTION:Predmet: Projektno delo (BI050)\, drugo delo (DD)\nLetniki: \n
 Izvajalci: Matej Holcar\, Franc Kljun\nProstor: Biološka vajalnica BV5\, 
 Ekološka vajalnica
END:VEVENT
BEGIN:VEVENT
SUMMARY:Generalka - Bioznanost in človek 2025
DTSTART;TZID=Europe/Ljubljana:20251107T110000
DTEND;TZID=Europe/Ljubljana:20251107T150000
DTSTAMP:20260420T023716Z
UID:bf-AFLABS-URNIK:rezervacija:24290
CATEGORIES:Reservation
COLOR:royalblue
DESCRIPTION:Predmeti: \nLetniki: \nIzvajalci: Matej Holcar\, Matej Jošt\,
  Suzana Perman\, Matej Šergan\nProstori: Predavalnica Dekanat D1\, Dvoran
 a prof. dr. Janeza Hribarja
LOCATION:Main building\, Predavalnica Dekanat D1\, Dvorana prof. dr. Janez
 a Hribarja
ORGANIZER:Matej Holcar, Matej Jošt, Suzana Perman, Matej Šergan
X-WR-TIMEZONE:Europe/Ljubljana
END:VEVENT
BEGIN:VEVENT
SUMMARY:Testiranje predavalnice
DTSTART;TZID=Europe/Ljubljana:20260310T140000
DTEND;TZID=Europe/Ljubljana:20260310T150000
DTSTAMP:20260420T023716Z
UID:bf-AFLABS-URNIK:rezervacija:28189
CATEGORIES:Reservation
COLOR:royalblue
DESCRIPTION:Predmeti: \nLetniki: \nIzvajalci: Matej Holcar\, Irena Kržan\
 , David Stopar\nProstori: Predavalnica Biologija B3
LOCATION:Department of biology\, Predavalnica Biologija B3
ORGANIZER:Matej Holcar, Irena Kržan, David Stopar
X-WR-TIMEZONE:Europe/Ljubljana
END:VEVENT
BEGIN:VEVENT
SUMMARY:Tehnično vzdrževanje
DTSTART;TZID=Europe/Ljubljana:20251017T110000
DTEND;TZID=Europe/Ljubljana:20251017T140000
DTSTAMP:20260420T023716Z
UID:bf-AFLABS-URNIK:rezervacija:24336
CATEGORIES:Reservation
COLOR:royalblue
DESCRIPTION:Predmeti: \nLetniki: \nIzvajalci: Matej Holcar\, Matej Jošt\,
  Matej Šergan\nProstori: Predavalnica Dekanat D1\, Dvorana prof. dr. Jane
 za Hribarja
LOCATION:Main building\, Predavalnica Dekanat D1\, Dvorana prof. dr. Janez
 a Hribarja
ORGANIZER:Matej Holcar, Matej Jošt, Matej Šergan
X-WR-TIMEZONE:Europe/Ljubljana
END:VEVENT
BEGIN:VEVENT
SUMMARY:Tonska vaja - BF festival 2026
DTSTART;TZID=Europe/Ljubljana:20260211T120000
DTEND;TZID=Europe/Ljubljana:20260211T133000
DTSTAMP:20260420T023716Z
UID:bf-AFLABS-URNIK:rezervacija:27245
CATEGORIES:Reservation
COLOR:royalblue
DESCRIPTION:Predmeti: \nLetniki: \nIzvajalci: Matej Holcar\, Matej Jošt\,
  Suzana Perman\, Matej Šergan\nProstori: Predavalnica Dekanat D1\, Dvoran
 a prof. dr. Janeza Hribarja
LOCATION:Main building\, Predavalnica Dekanat D1\, Dvorana prof. dr. Janez
 a Hribarja
ORGANIZER:Matej Holcar, Matej Jošt, Suzana Perman, Matej Šergan
X-WR-TIMEZONE:Europe/Ljubljana
END:VEVENT
END:VCALENDAR
