BEGIN:VCALENDAR
VERSION:2.0
PRODID:-//AFLabs urnik izvoz - bf//aflabs.si//SI
NAME:UL BF Urnik
X-WR-CALNAME:UL BF Urnik
DTSTAMP:20260422T181423Z
REFRESH-INTERVAL:PT1H
SOURCE:https://urniki.bf.uni-lj.si/en/teacher/44/?day=2025-10-13&export=1
URL:https://urniki.bf.uni-lj.si/en/teacher/44/?day=2025-10-13&export=1
X-PUBLISHED-TTL:PT1H
X-WR-TIMEZONE:Europe/Ljubljana
BEGIN:VTIMEZONE
TZID:Europe/Ljubljana
BEGIN:DAYLIGHT
DTSTART:20260329T020000
RDATE:20260329T020000
RDATE:20270328T020000
TZNAME:CEST
TZOFFSETFROM:+0100
TZOFFSETTO:+0200
END:DAYLIGHT
BEGIN:STANDARD
DTSTART:20261025T030000
RDATE:20261025T030000
RDATE:20271031T030000
TZNAME:CET
TZOFFSETFROM:+0200
TZOFFSETTO:+0100
END:STANDARD
END:VTIMEZONE
BEGIN:VEVENT
SUMMARY:Sonaravno gojenje gozdov (GO204)\, terensko delo (TD)
DTSTART;TZID=Europe/Ljubljana:20251001T130000
DTEND;TZID=Europe/Ljubljana:20251001T180000
DTSTAMP:20260422T181423Z
UID:bf-AFLABS-URNIK:srecanje:29344-2025-10-01 13:00:00+02:00
DESCRIPTION:Predmet: Sonaravno gojenje gozdov (GO204)\, terensko delo (TD)
 \nLetniki: Gozdarstvo in upravljanje gozdnih ekosistemov 1. letnik (MFO)\n
 Izvajalci: Dušan Roženbergar\nProstor: Terensko delo - gozdarstvo
END:VEVENT
END:VCALENDAR
