BEGIN:VCALENDAR
VERSION:2.0
PRODID:-//AFLabs urnik izvoz - bf//aflabs.si//SI
NAME:UL BF Urnik
X-WR-CALNAME:UL BF Urnik
DTSTAMP:20260424T030155Z
REFRESH-INTERVAL:PT1H
SOURCE:https://urniki.bf.uni-lj.si/en/teacher/426/?day=2025-10-13&export=1
URL:https://urniki.bf.uni-lj.si/en/teacher/426/?day=2025-10-13&export=1
X-PUBLISHED-TTL:PT1H
X-WR-TIMEZONE:Europe/Ljubljana
BEGIN:VTIMEZONE
TZID:Europe/Ljubljana
BEGIN:DAYLIGHT
DTSTART:20260329T020000
RDATE:20260329T020000
RDATE:20270328T020000
TZNAME:CEST
TZOFFSETFROM:+0100
TZOFFSETTO:+0200
END:DAYLIGHT
BEGIN:STANDARD
DTSTART:20261025T030000
RDATE:20261025T030000
RDATE:20271031T030000
TZNAME:CET
TZOFFSETFROM:+0200
TZOFFSETTO:+0100
END:STANDARD
END:VTIMEZONE
BEGIN:VEVENT
SUMMARY:Ekonomika kmetijskih gospodarstev (AH020)\, seminarske vaje (SV)
DTSTART;TZID=Europe/Ljubljana:20251002T120000
DTEND;TZID=Europe/Ljubljana:20251002T150000
DTSTAMP:20260424T030155Z
UID:bf-AFLABS-URNIK:srecanje:24716-2025-10-02 12:00:00+02:00
DESCRIPTION:Predmet: Ekonomika kmetijskih gospodarstev (AH020)\, seminarsk
 e vaje (SV)\nLetniki: Kmetijstvo - agronomija 3. letnik (AGA)\, Kmetijstvo
  - hortikultura 3. letnik (AGH)\nIzvajalci: Anton Perpar\nProstor: Predava
 lnica Agronomija A2
END:VEVENT
BEGIN:VEVENT
SUMMARY:Ekonomika kmetijskih gospodarstev (AH020)\, seminarske vaje (SV)
DTSTART;TZID=Europe/Ljubljana:20251009T120000
DTEND;TZID=Europe/Ljubljana:20251009T150000
DTSTAMP:20260424T030155Z
UID:bf-AFLABS-URNIK:srecanje:24716-2025-10-09 12:00:00+02:00
DESCRIPTION:Predmet: Ekonomika kmetijskih gospodarstev (AH020)\, seminarsk
 e vaje (SV)\nLetniki: Kmetijstvo - agronomija 3. letnik (AGA)\, Kmetijstvo
  - hortikultura 3. letnik (AGH)\nIzvajalci: Anton Perpar\nProstor: Predava
 lnica Agronomija A2
END:VEVENT
BEGIN:VEVENT
SUMMARY:Ekonomika kmetijskih gospodarstev (AH020)\, seminarske vaje (SV)
DTSTART;TZID=Europe/Ljubljana:20251016T120000
DTEND;TZID=Europe/Ljubljana:20251016T150000
DTSTAMP:20260424T030155Z
UID:bf-AFLABS-URNIK:srecanje:24716-2025-10-16 12:00:00+02:00
DESCRIPTION:Predmet: Ekonomika kmetijskih gospodarstev (AH020)\, seminarsk
 e vaje (SV)\nLetniki: Kmetijstvo - agronomija 3. letnik (AGA)\, Kmetijstvo
  - hortikultura 3. letnik (AGH)\nIzvajalci: Anton Perpar\nProstor: Predava
 lnica Agronomija A2
END:VEVENT
BEGIN:VEVENT
SUMMARY:Ekonomika kmetijskih gospodarstev (AH020)\, seminarske vaje (SV)
DTSTART;TZID=Europe/Ljubljana:20251023T120000
DTEND;TZID=Europe/Ljubljana:20251023T150000
DTSTAMP:20260424T030155Z
UID:bf-AFLABS-URNIK:srecanje:24716-2025-10-23 12:00:00+02:00
DESCRIPTION:Predmet: Ekonomika kmetijskih gospodarstev (AH020)\, seminarsk
 e vaje (SV)\nLetniki: Kmetijstvo - agronomija 3. letnik (AGA)\, Kmetijstvo
  - hortikultura 3. letnik (AGH)\nIzvajalci: Anton Perpar\nProstor: Predava
 lnica Agronomija A2
END:VEVENT
BEGIN:VEVENT
SUMMARY:Ekonomika kmetijskih gospodarstev (AH020)\, seminarske vaje (SV)
DTSTART;TZID=Europe/Ljubljana:20251030T120000
DTEND;TZID=Europe/Ljubljana:20251030T150000
DTSTAMP:20260424T030155Z
UID:bf-AFLABS-URNIK:srecanje:24716-2025-10-30 12:00:00+01:00
DESCRIPTION:Predmet: Ekonomika kmetijskih gospodarstev (AH020)\, seminarsk
 e vaje (SV)\nLetniki: Kmetijstvo - agronomija 3. letnik (AGA)\, Kmetijstvo
  - hortikultura 3. letnik (AGH)\nIzvajalci: Anton Perpar\nProstor: Predava
 lnica Agronomija A2
END:VEVENT
BEGIN:VEVENT
SUMMARY:Ekonomika kmetijskih gospodarstev (AH020)\, seminarske vaje (SV)
DTSTART;TZID=Europe/Ljubljana:20251106T120000
DTEND;TZID=Europe/Ljubljana:20251106T150000
DTSTAMP:20260424T030155Z
UID:bf-AFLABS-URNIK:srecanje:24716-2025-11-06 12:00:00+01:00
DESCRIPTION:Predmet: Ekonomika kmetijskih gospodarstev (AH020)\, seminarsk
 e vaje (SV)\nLetniki: Kmetijstvo - agronomija 3. letnik (AGA)\, Kmetijstvo
  - hortikultura 3. letnik (AGH)\nIzvajalci: Anton Perpar\nProstor: Predava
 lnica Agronomija A2
END:VEVENT
BEGIN:VEVENT
SUMMARY:Ekonomika kmetijskih gospodarstev (AH020)\, seminarske vaje (SV)
DTSTART;TZID=Europe/Ljubljana:20251113T120000
DTEND;TZID=Europe/Ljubljana:20251113T150000
DTSTAMP:20260424T030155Z
UID:bf-AFLABS-URNIK:srecanje:24716-2025-11-13 12:00:00+01:00
DESCRIPTION:Predmet: Ekonomika kmetijskih gospodarstev (AH020)\, seminarsk
 e vaje (SV)\nLetniki: Kmetijstvo - agronomija 3. letnik (AGA)\, Kmetijstvo
  - hortikultura 3. letnik (AGH)\nIzvajalci: Anton Perpar\nProstor: Predava
 lnica Agronomija A2
END:VEVENT
BEGIN:VEVENT
SUMMARY:Ekonomika kmetijske proizvodnje (AG023)\, seminarske vaje (SV)
DTSTART;TZID=Europe/Ljubljana:20251006T080000
DTEND;TZID=Europe/Ljubljana:20251006T120000
DTSTAMP:20260424T030155Z
UID:bf-AFLABS-URNIK:srecanje:24714-2025-10-06 08:00:00+02:00
DESCRIPTION:Predmet: Ekonomika kmetijske proizvodnje (AG023)\, seminarske 
 vaje (SV)\nLetniki: Kmetijstvo - agronomija 3. letnik (AGUN)\nIzvajalci: A
 nton Perpar\nProstor: Predavalnica Agronomija A6
END:VEVENT
BEGIN:VEVENT
SUMMARY:Ekonomika kmetijske proizvodnje (AG023)\, seminarske vaje (SV)
DTSTART;TZID=Europe/Ljubljana:20251013T080000
DTEND;TZID=Europe/Ljubljana:20251013T120000
DTSTAMP:20260424T030155Z
UID:bf-AFLABS-URNIK:srecanje:24714-2025-10-13 08:00:00+02:00
DESCRIPTION:Predmet: Ekonomika kmetijske proizvodnje (AG023)\, seminarske 
 vaje (SV)\nLetniki: Kmetijstvo - agronomija 3. letnik (AGUN)\nIzvajalci: A
 nton Perpar\nProstor: Predavalnica Agronomija A6
END:VEVENT
BEGIN:VEVENT
SUMMARY:Ekonomika kmetijske proizvodnje (AG023)\, seminarske vaje (SV)
DTSTART;TZID=Europe/Ljubljana:20251020T080000
DTEND;TZID=Europe/Ljubljana:20251020T120000
DTSTAMP:20260424T030155Z
UID:bf-AFLABS-URNIK:srecanje:24714-2025-10-20 08:00:00+02:00
DESCRIPTION:Predmet: Ekonomika kmetijske proizvodnje (AG023)\, seminarske 
 vaje (SV)\nLetniki: Kmetijstvo - agronomija 3. letnik (AGUN)\nIzvajalci: A
 nton Perpar\nProstor: Predavalnica Agronomija A6
END:VEVENT
BEGIN:VEVENT
SUMMARY:Ekonomika kmetijske proizvodnje (AG023)\, seminarske vaje (SV)
DTSTART;TZID=Europe/Ljubljana:20251027T080000
DTEND;TZID=Europe/Ljubljana:20251027T120000
DTSTAMP:20260424T030155Z
UID:bf-AFLABS-URNIK:srecanje:24714-2025-10-27 08:00:00+01:00
DESCRIPTION:Predmet: Ekonomika kmetijske proizvodnje (AG023)\, seminarske 
 vaje (SV)\nLetniki: Kmetijstvo - agronomija 3. letnik (AGUN)\nIzvajalci: A
 nton Perpar\nProstor: Predavalnica Agronomija A6
END:VEVENT
BEGIN:VEVENT
SUMMARY:Ekonomika kmetijske proizvodnje (AG023)\, seminarske vaje (SV)
DTSTART;TZID=Europe/Ljubljana:20251103T080000
DTEND;TZID=Europe/Ljubljana:20251103T120000
DTSTAMP:20260424T030155Z
UID:bf-AFLABS-URNIK:srecanje:24714-2025-11-03 08:00:00+01:00
DESCRIPTION:Predmet: Ekonomika kmetijske proizvodnje (AG023)\, seminarske 
 vaje (SV)\nLetniki: Kmetijstvo - agronomija 3. letnik (AGUN)\nIzvajalci: A
 nton Perpar\nProstor: Predavalnica Agronomija A6
END:VEVENT
BEGIN:VEVENT
SUMMARY:Ekonomika kmetijske proizvodnje (AG023)\, seminarske vaje (SV)
DTSTART;TZID=Europe/Ljubljana:20251110T080000
DTEND;TZID=Europe/Ljubljana:20251110T120000
DTSTAMP:20260424T030155Z
UID:bf-AFLABS-URNIK:srecanje:24714-2025-11-10 08:00:00+01:00
DESCRIPTION:Predmet: Ekonomika kmetijske proizvodnje (AG023)\, seminarske 
 vaje (SV)\nLetniki: Kmetijstvo - agronomija 3. letnik (AGUN)\nIzvajalci: A
 nton Perpar\nProstor: Predavalnica Agronomija A6
END:VEVENT
END:VCALENDAR
