BEGIN:VCALENDAR
VERSION:2.0
PRODID:-//AFLabs urnik izvoz - bf//aflabs.si//SI
NAME:UL BF Urnik
X-WR-CALNAME:UL BF Urnik
DTSTAMP:20260420T060704Z
REFRESH-INTERVAL:PT1H
SOURCE:https://urniki.bf.uni-lj.si/en/teacher/408/?day=2026-05-04&export=1
URL:https://urniki.bf.uni-lj.si/en/teacher/408/?day=2026-05-04&export=1
X-PUBLISHED-TTL:PT1H
X-WR-TIMEZONE:Europe/Ljubljana
BEGIN:VTIMEZONE
TZID:Europe/Ljubljana
BEGIN:DAYLIGHT
DTSTART:20260329T020000
RDATE:20260329T020000
RDATE:20270328T020000
TZNAME:CEST
TZOFFSETFROM:+0100
TZOFFSETTO:+0200
END:DAYLIGHT
BEGIN:STANDARD
DTSTART:20261025T030000
RDATE:20261025T030000
RDATE:20271031T030000
TZNAME:CET
TZOFFSETFROM:+0200
TZOFFSETTO:+0100
END:STANDARD
END:VTIMEZONE
BEGIN:VEVENT
SUMMARY:Izbrana poglavja v mikrobiologiji (MB220)\, predavanja (P)
DTSTART;TZID=Europe/Ljubljana:20251007T080000
DTEND;TZID=Europe/Ljubljana:20251007T110000
DTSTAMP:20260420T060704Z
UID:bf-AFLABS-URNIK:srecanje:24943-2025-10-07 08:00:00+02:00
DESCRIPTION:Predmet: Izbrana poglavja v mikrobiologiji (MB220)\, predavanj
 a (P)\nLetniki: Mikrobiologija 2. letnik (MMB)\nIzvajalci: Tadeja Matos\nP
 rostor: Seminarska soba na Inštituta za mikrobiologijo in imunologijo
END:VEVENT
BEGIN:VEVENT
SUMMARY:Izbrana poglavja v mikrobiologiji (MB220)\, predavanja (P)
DTSTART;TZID=Europe/Ljubljana:20251014T080000
DTEND;TZID=Europe/Ljubljana:20251014T110000
DTSTAMP:20260420T060704Z
UID:bf-AFLABS-URNIK:srecanje:24943-2025-10-14 08:00:00+02:00
DESCRIPTION:Predmet: Izbrana poglavja v mikrobiologiji (MB220)\, predavanj
 a (P)\nLetniki: Mikrobiologija 2. letnik (MMB)\nIzvajalci: Tadeja Matos\nP
 rostor: Seminarska soba na Inštituta za mikrobiologijo in imunologijo
END:VEVENT
BEGIN:VEVENT
SUMMARY:Izbrana poglavja v mikrobiologiji (MB220)\, predavanja (P)
DTSTART;TZID=Europe/Ljubljana:20251021T080000
DTEND;TZID=Europe/Ljubljana:20251021T110000
DTSTAMP:20260420T060704Z
UID:bf-AFLABS-URNIK:srecanje:24943-2025-10-21 08:00:00+02:00
DESCRIPTION:Predmet: Izbrana poglavja v mikrobiologiji (MB220)\, predavanj
 a (P)\nLetniki: Mikrobiologija 2. letnik (MMB)\nIzvajalci: Tadeja Matos\nP
 rostor: Seminarska soba na Inštituta za mikrobiologijo in imunologijo
END:VEVENT
BEGIN:VEVENT
SUMMARY:Izbrana poglavja v mikrobiologiji (MB220)\, predavanja (P)
DTSTART;TZID=Europe/Ljubljana:20251028T080000
DTEND;TZID=Europe/Ljubljana:20251028T110000
DTSTAMP:20260420T060704Z
UID:bf-AFLABS-URNIK:srecanje:24943-2025-10-28 08:00:00+01:00
DESCRIPTION:Predmet: Izbrana poglavja v mikrobiologiji (MB220)\, predavanj
 a (P)\nLetniki: Mikrobiologija 2. letnik (MMB)\nIzvajalci: Tadeja Matos\nP
 rostor: Seminarska soba na Inštituta za mikrobiologijo in imunologijo
END:VEVENT
BEGIN:VEVENT
SUMMARY:Izbrana poglavja v mikrobiologiji (MB220)\, predavanja (P)
DTSTART;TZID=Europe/Ljubljana:20251104T080000
DTEND;TZID=Europe/Ljubljana:20251104T110000
DTSTAMP:20260420T060704Z
UID:bf-AFLABS-URNIK:srecanje:24943-2025-11-04 08:00:00+01:00
DESCRIPTION:Predmet: Izbrana poglavja v mikrobiologiji (MB220)\, predavanj
 a (P)\nLetniki: Mikrobiologija 2. letnik (MMB)\nIzvajalci: Tadeja Matos\nP
 rostor: Seminarska soba na Inštituta za mikrobiologijo in imunologijo
END:VEVENT
BEGIN:VEVENT
SUMMARY:Izbrana poglavja v mikrobiologiji (MB220)\, predavanja (P)
DTSTART;TZID=Europe/Ljubljana:20251111T080000
DTEND;TZID=Europe/Ljubljana:20251111T110000
DTSTAMP:20260420T060704Z
UID:bf-AFLABS-URNIK:srecanje:24943-2025-11-11 08:00:00+01:00
DESCRIPTION:Predmet: Izbrana poglavja v mikrobiologiji (MB220)\, predavanj
 a (P)\nLetniki: Mikrobiologija 2. letnik (MMB)\nIzvajalci: Tadeja Matos\nP
 rostor: Seminarska soba na Inštituta za mikrobiologijo in imunologijo
END:VEVENT
BEGIN:VEVENT
SUMMARY:Izbrana poglavja v mikrobiologiji (MB220)\, seminarske vaje (SV)
DTSTART;TZID=Europe/Ljubljana:20251007T110000
DTEND;TZID=Europe/Ljubljana:20251007T130000
DTSTAMP:20260420T060704Z
UID:bf-AFLABS-URNIK:srecanje:24947-2025-10-07 11:00:00+02:00
DESCRIPTION:Predmet: Izbrana poglavja v mikrobiologiji (MB220)\, seminarsk
 e vaje (SV)\nLetniki: Mikrobiologija 2. letnik (MMB)\nIzvajalci: Tadeja Ma
 tos\nProstor: Seminarska soba na Inštituta za mikrobiologijo in imunologi
 jo
END:VEVENT
BEGIN:VEVENT
SUMMARY:Izbrana poglavja v mikrobiologiji (MB220)\, seminarske vaje (SV)
DTSTART;TZID=Europe/Ljubljana:20251014T110000
DTEND;TZID=Europe/Ljubljana:20251014T130000
DTSTAMP:20260420T060704Z
UID:bf-AFLABS-URNIK:srecanje:24947-2025-10-14 11:00:00+02:00
DESCRIPTION:Predmet: Izbrana poglavja v mikrobiologiji (MB220)\, seminarsk
 e vaje (SV)\nLetniki: Mikrobiologija 2. letnik (MMB)\nIzvajalci: Tadeja Ma
 tos\nProstor: Seminarska soba na Inštituta za mikrobiologijo in imunologi
 jo
END:VEVENT
BEGIN:VEVENT
SUMMARY:Izbrana poglavja v mikrobiologiji (MB220)\, seminarske vaje (SV)
DTSTART;TZID=Europe/Ljubljana:20251021T110000
DTEND;TZID=Europe/Ljubljana:20251021T130000
DTSTAMP:20260420T060704Z
UID:bf-AFLABS-URNIK:srecanje:24947-2025-10-21 11:00:00+02:00
DESCRIPTION:Predmet: Izbrana poglavja v mikrobiologiji (MB220)\, seminarsk
 e vaje (SV)\nLetniki: Mikrobiologija 2. letnik (MMB)\nIzvajalci: Tadeja Ma
 tos\nProstor: Seminarska soba na Inštituta za mikrobiologijo in imunologi
 jo
END:VEVENT
BEGIN:VEVENT
SUMMARY:Izbrana poglavja v mikrobiologiji (MB220)\, seminarske vaje (SV)
DTSTART;TZID=Europe/Ljubljana:20251028T110000
DTEND;TZID=Europe/Ljubljana:20251028T130000
DTSTAMP:20260420T060704Z
UID:bf-AFLABS-URNIK:srecanje:24947-2025-10-28 11:00:00+01:00
DESCRIPTION:Predmet: Izbrana poglavja v mikrobiologiji (MB220)\, seminarsk
 e vaje (SV)\nLetniki: Mikrobiologija 2. letnik (MMB)\nIzvajalci: Tadeja Ma
 tos\nProstor: Seminarska soba na Inštituta za mikrobiologijo in imunologi
 jo
END:VEVENT
BEGIN:VEVENT
SUMMARY:Izbrana poglavja v mikrobiologiji (MB220)\, seminarske vaje (SV)
DTSTART;TZID=Europe/Ljubljana:20251104T110000
DTEND;TZID=Europe/Ljubljana:20251104T130000
DTSTAMP:20260420T060704Z
UID:bf-AFLABS-URNIK:srecanje:24947-2025-11-04 11:00:00+01:00
DESCRIPTION:Predmet: Izbrana poglavja v mikrobiologiji (MB220)\, seminarsk
 e vaje (SV)\nLetniki: Mikrobiologija 2. letnik (MMB)\nIzvajalci: Tadeja Ma
 tos\nProstor: Seminarska soba na Inštituta za mikrobiologijo in imunologi
 jo
END:VEVENT
BEGIN:VEVENT
SUMMARY:Izbrana poglavja v mikrobiologiji (MB220)\, seminarske vaje (SV)
DTSTART;TZID=Europe/Ljubljana:20251111T110000
DTEND;TZID=Europe/Ljubljana:20251111T130000
DTSTAMP:20260420T060704Z
UID:bf-AFLABS-URNIK:srecanje:24947-2025-11-11 11:00:00+01:00
DESCRIPTION:Predmet: Izbrana poglavja v mikrobiologiji (MB220)\, seminarsk
 e vaje (SV)\nLetniki: Mikrobiologija 2. letnik (MMB)\nIzvajalci: Tadeja Ma
 tos\nProstor: Seminarska soba na Inštituta za mikrobiologijo in imunologi
 jo
END:VEVENT
BEGIN:VEVENT
SUMMARY:Sanitarna mikrobiologija (MB223)\, laboratorijske vaje (LV)\, [: 1
 ]
DTSTART;TZID=Europe/Ljubljana:20260218T140000
DTEND;TZID=Europe/Ljubljana:20260218T170000
DTSTAMP:20260420T060704Z
UID:bf-AFLABS-URNIK:srecanje:27490-2026-02-18 14:00:00+01:00
DESCRIPTION:Predmet: Sanitarna mikrobiologija (MB223)\, laboratorijske vaj
 e (LV)\, [: 1]\nLetniki: Mikrobiologija 1. letnik (MMB)\nIzvajalci: Tadeja
  Matos\nProstor: Vajalnica V1 na Inštitutu za mikrobiologijo in imunologi
 jo
END:VEVENT
BEGIN:VEVENT
SUMMARY:Sanitarna mikrobiologija (MB223)\, laboratorijske vaje (LV)\, [: 1
 ]
DTSTART;TZID=Europe/Ljubljana:20260225T140000
DTEND;TZID=Europe/Ljubljana:20260225T170000
DTSTAMP:20260420T060704Z
UID:bf-AFLABS-URNIK:srecanje:27490-2026-02-25 14:00:00+01:00
DESCRIPTION:Predmet: Sanitarna mikrobiologija (MB223)\, laboratorijske vaj
 e (LV)\, [: 1]\nLetniki: Mikrobiologija 1. letnik (MMB)\nIzvajalci: Tadeja
  Matos\nProstor: Vajalnica V1 na Inštitutu za mikrobiologijo in imunologi
 jo
END:VEVENT
BEGIN:VEVENT
SUMMARY:Sanitarna mikrobiologija (MB223)\, laboratorijske vaje (LV)\, [: 1
 ]
DTSTART;TZID=Europe/Ljubljana:20260304T140000
DTEND;TZID=Europe/Ljubljana:20260304T170000
DTSTAMP:20260420T060704Z
UID:bf-AFLABS-URNIK:srecanje:27490-2026-03-04 14:00:00+01:00
DESCRIPTION:Predmet: Sanitarna mikrobiologija (MB223)\, laboratorijske vaj
 e (LV)\, [: 1]\nLetniki: Mikrobiologija 1. letnik (MMB)\nIzvajalci: Tadeja
  Matos\nProstor: Vajalnica V1 na Inštitutu za mikrobiologijo in imunologi
 jo
END:VEVENT
BEGIN:VEVENT
SUMMARY:Sanitarna mikrobiologija (MB223)\, laboratorijske vaje (LV)\, [: 1
 ]
DTSTART;TZID=Europe/Ljubljana:20260311T140000
DTEND;TZID=Europe/Ljubljana:20260311T170000
DTSTAMP:20260420T060704Z
UID:bf-AFLABS-URNIK:srecanje:27490-2026-03-11 14:00:00+01:00
DESCRIPTION:Predmet: Sanitarna mikrobiologija (MB223)\, laboratorijske vaj
 e (LV)\, [: 1]\nLetniki: Mikrobiologija 1. letnik (MMB)\nIzvajalci: Tadeja
  Matos\nProstor: Vajalnica V1 na Inštitutu za mikrobiologijo in imunologi
 jo
END:VEVENT
BEGIN:VEVENT
SUMMARY:Sanitarna mikrobiologija (MB223)\, laboratorijske vaje (LV)\, [: 1
 ]
DTSTART;TZID=Europe/Ljubljana:20260318T140000
DTEND;TZID=Europe/Ljubljana:20260318T170000
DTSTAMP:20260420T060704Z
UID:bf-AFLABS-URNIK:srecanje:27490-2026-03-18 14:00:00+01:00
DESCRIPTION:Predmet: Sanitarna mikrobiologija (MB223)\, laboratorijske vaj
 e (LV)\, [: 1]\nLetniki: Mikrobiologija 1. letnik (MMB)\nIzvajalci: Tadeja
  Matos\nProstor: Vajalnica V1 na Inštitutu za mikrobiologijo in imunologi
 jo
END:VEVENT
BEGIN:VEVENT
SUMMARY:Sanitarna mikrobiologija (MB223)\, laboratorijske vaje (LV)\, [: 1
 ]
DTSTART;TZID=Europe/Ljubljana:20260325T140000
DTEND;TZID=Europe/Ljubljana:20260325T170000
DTSTAMP:20260420T060704Z
UID:bf-AFLABS-URNIK:srecanje:27490-2026-03-25 14:00:00+01:00
DESCRIPTION:Predmet: Sanitarna mikrobiologija (MB223)\, laboratorijske vaj
 e (LV)\, [: 1]\nLetniki: Mikrobiologija 1. letnik (MMB)\nIzvajalci: Tadeja
  Matos\nProstor: Vajalnica V1 na Inštitutu za mikrobiologijo in imunologi
 jo
END:VEVENT
BEGIN:VEVENT
SUMMARY:Sanitarna mikrobiologija (MB223)\, laboratorijske vaje (LV)\, [: 1
 ]
DTSTART;TZID=Europe/Ljubljana:20260401T140000
DTEND;TZID=Europe/Ljubljana:20260401T170000
DTSTAMP:20260420T060704Z
UID:bf-AFLABS-URNIK:srecanje:27490-2026-04-01 14:00:00+02:00
DESCRIPTION:Predmet: Sanitarna mikrobiologija (MB223)\, laboratorijske vaj
 e (LV)\, [: 1]\nLetniki: Mikrobiologija 1. letnik (MMB)\nIzvajalci: Tadeja
  Matos\nProstor: Vajalnica V1 na Inštitutu za mikrobiologijo in imunologi
 jo
END:VEVENT
BEGIN:VEVENT
SUMMARY:Sanitarna mikrobiologija (MB223)\, laboratorijske vaje (LV)\, [: 2
 ]
DTSTART;TZID=Europe/Ljubljana:20260218T140000
DTEND;TZID=Europe/Ljubljana:20260218T170000
DTSTAMP:20260420T060704Z
UID:bf-AFLABS-URNIK:srecanje:27491-2026-02-18 14:00:00+01:00
DESCRIPTION:Predmet: Sanitarna mikrobiologija (MB223)\, laboratorijske vaj
 e (LV)\, [: 2]\nLetniki: Mikrobiologija 1. letnik (MMB)\nIzvajalci: Tadeja
  Matos\nProstor: Vajalnica V2 na Inštitutu za mikrobiologijo in imunologi
 jo
END:VEVENT
BEGIN:VEVENT
SUMMARY:Sanitarna mikrobiologija (MB223)\, laboratorijske vaje (LV)\, [: 2
 ]
DTSTART;TZID=Europe/Ljubljana:20260225T140000
DTEND;TZID=Europe/Ljubljana:20260225T170000
DTSTAMP:20260420T060704Z
UID:bf-AFLABS-URNIK:srecanje:27491-2026-02-25 14:00:00+01:00
DESCRIPTION:Predmet: Sanitarna mikrobiologija (MB223)\, laboratorijske vaj
 e (LV)\, [: 2]\nLetniki: Mikrobiologija 1. letnik (MMB)\nIzvajalci: Tadeja
  Matos\nProstor: Vajalnica V2 na Inštitutu za mikrobiologijo in imunologi
 jo
END:VEVENT
BEGIN:VEVENT
SUMMARY:Sanitarna mikrobiologija (MB223)\, laboratorijske vaje (LV)\, [: 2
 ]
DTSTART;TZID=Europe/Ljubljana:20260304T140000
DTEND;TZID=Europe/Ljubljana:20260304T170000
DTSTAMP:20260420T060704Z
UID:bf-AFLABS-URNIK:srecanje:27491-2026-03-04 14:00:00+01:00
DESCRIPTION:Predmet: Sanitarna mikrobiologija (MB223)\, laboratorijske vaj
 e (LV)\, [: 2]\nLetniki: Mikrobiologija 1. letnik (MMB)\nIzvajalci: Tadeja
  Matos\nProstor: Vajalnica V2 na Inštitutu za mikrobiologijo in imunologi
 jo
END:VEVENT
BEGIN:VEVENT
SUMMARY:Sanitarna mikrobiologija (MB223)\, laboratorijske vaje (LV)\, [: 2
 ]
DTSTART;TZID=Europe/Ljubljana:20260311T140000
DTEND;TZID=Europe/Ljubljana:20260311T170000
DTSTAMP:20260420T060704Z
UID:bf-AFLABS-URNIK:srecanje:27491-2026-03-11 14:00:00+01:00
DESCRIPTION:Predmet: Sanitarna mikrobiologija (MB223)\, laboratorijske vaj
 e (LV)\, [: 2]\nLetniki: Mikrobiologija 1. letnik (MMB)\nIzvajalci: Tadeja
  Matos\nProstor: Vajalnica V2 na Inštitutu za mikrobiologijo in imunologi
 jo
END:VEVENT
BEGIN:VEVENT
SUMMARY:Sanitarna mikrobiologija (MB223)\, laboratorijske vaje (LV)\, [: 2
 ]
DTSTART;TZID=Europe/Ljubljana:20260318T140000
DTEND;TZID=Europe/Ljubljana:20260318T170000
DTSTAMP:20260420T060704Z
UID:bf-AFLABS-URNIK:srecanje:27491-2026-03-18 14:00:00+01:00
DESCRIPTION:Predmet: Sanitarna mikrobiologija (MB223)\, laboratorijske vaj
 e (LV)\, [: 2]\nLetniki: Mikrobiologija 1. letnik (MMB)\nIzvajalci: Tadeja
  Matos\nProstor: Vajalnica V2 na Inštitutu za mikrobiologijo in imunologi
 jo
END:VEVENT
BEGIN:VEVENT
SUMMARY:Sanitarna mikrobiologija (MB223)\, laboratorijske vaje (LV)\, [: 2
 ]
DTSTART;TZID=Europe/Ljubljana:20260325T140000
DTEND;TZID=Europe/Ljubljana:20260325T170000
DTSTAMP:20260420T060704Z
UID:bf-AFLABS-URNIK:srecanje:27491-2026-03-25 14:00:00+01:00
DESCRIPTION:Predmet: Sanitarna mikrobiologija (MB223)\, laboratorijske vaj
 e (LV)\, [: 2]\nLetniki: Mikrobiologija 1. letnik (MMB)\nIzvajalci: Tadeja
  Matos\nProstor: Vajalnica V2 na Inštitutu za mikrobiologijo in imunologi
 jo
END:VEVENT
BEGIN:VEVENT
SUMMARY:Sanitarna mikrobiologija (MB223)\, laboratorijske vaje (LV)\, [: 2
 ]
DTSTART;TZID=Europe/Ljubljana:20260401T140000
DTEND;TZID=Europe/Ljubljana:20260401T170000
DTSTAMP:20260420T060704Z
UID:bf-AFLABS-URNIK:srecanje:27491-2026-04-01 14:00:00+02:00
DESCRIPTION:Predmet: Sanitarna mikrobiologija (MB223)\, laboratorijske vaj
 e (LV)\, [: 2]\nLetniki: Mikrobiologija 1. letnik (MMB)\nIzvajalci: Tadeja
  Matos\nProstor: Vajalnica V2 na Inštitutu za mikrobiologijo in imunologi
 jo
END:VEVENT
BEGIN:VEVENT
SUMMARY:Sanitarna mikrobiologija (MB223)\, laboratorijske vaje (LV)\, [: 3
 ]
DTSTART;TZID=Europe/Ljubljana:20260218T170000
DTEND;TZID=Europe/Ljubljana:20260218T200000
DTSTAMP:20260420T060704Z
UID:bf-AFLABS-URNIK:srecanje:27492-2026-02-18 17:00:00+01:00
DESCRIPTION:Predmet: Sanitarna mikrobiologija (MB223)\, laboratorijske vaj
 e (LV)\, [: 3]\nLetniki: Mikrobiologija 1. letnik (MMB)\nIzvajalci: Tadeja
  Matos\nProstor: Vajalnica V1 na Inštitutu za mikrobiologijo in imunologi
 jo
END:VEVENT
BEGIN:VEVENT
SUMMARY:Sanitarna mikrobiologija (MB223)\, laboratorijske vaje (LV)\, [: 3
 ]
DTSTART;TZID=Europe/Ljubljana:20260225T170000
DTEND;TZID=Europe/Ljubljana:20260225T200000
DTSTAMP:20260420T060704Z
UID:bf-AFLABS-URNIK:srecanje:27492-2026-02-25 17:00:00+01:00
DESCRIPTION:Predmet: Sanitarna mikrobiologija (MB223)\, laboratorijske vaj
 e (LV)\, [: 3]\nLetniki: Mikrobiologija 1. letnik (MMB)\nIzvajalci: Tadeja
  Matos\nProstor: Vajalnica V1 na Inštitutu za mikrobiologijo in imunologi
 jo
END:VEVENT
BEGIN:VEVENT
SUMMARY:Sanitarna mikrobiologija (MB223)\, laboratorijske vaje (LV)\, [: 3
 ]
DTSTART;TZID=Europe/Ljubljana:20260304T170000
DTEND;TZID=Europe/Ljubljana:20260304T200000
DTSTAMP:20260420T060704Z
UID:bf-AFLABS-URNIK:srecanje:27492-2026-03-04 17:00:00+01:00
DESCRIPTION:Predmet: Sanitarna mikrobiologija (MB223)\, laboratorijske vaj
 e (LV)\, [: 3]\nLetniki: Mikrobiologija 1. letnik (MMB)\nIzvajalci: Tadeja
  Matos\nProstor: Vajalnica V1 na Inštitutu za mikrobiologijo in imunologi
 jo
END:VEVENT
BEGIN:VEVENT
SUMMARY:Sanitarna mikrobiologija (MB223)\, laboratorijske vaje (LV)\, [: 3
 ]
DTSTART;TZID=Europe/Ljubljana:20260311T170000
DTEND;TZID=Europe/Ljubljana:20260311T200000
DTSTAMP:20260420T060704Z
UID:bf-AFLABS-URNIK:srecanje:27492-2026-03-11 17:00:00+01:00
DESCRIPTION:Predmet: Sanitarna mikrobiologija (MB223)\, laboratorijske vaj
 e (LV)\, [: 3]\nLetniki: Mikrobiologija 1. letnik (MMB)\nIzvajalci: Tadeja
  Matos\nProstor: Vajalnica V1 na Inštitutu za mikrobiologijo in imunologi
 jo
END:VEVENT
BEGIN:VEVENT
SUMMARY:Sanitarna mikrobiologija (MB223)\, laboratorijske vaje (LV)\, [: 3
 ]
DTSTART;TZID=Europe/Ljubljana:20260318T170000
DTEND;TZID=Europe/Ljubljana:20260318T200000
DTSTAMP:20260420T060704Z
UID:bf-AFLABS-URNIK:srecanje:27492-2026-03-18 17:00:00+01:00
DESCRIPTION:Predmet: Sanitarna mikrobiologija (MB223)\, laboratorijske vaj
 e (LV)\, [: 3]\nLetniki: Mikrobiologija 1. letnik (MMB)\nIzvajalci: Tadeja
  Matos\nProstor: Vajalnica V1 na Inštitutu za mikrobiologijo in imunologi
 jo
END:VEVENT
BEGIN:VEVENT
SUMMARY:Sanitarna mikrobiologija (MB223)\, laboratorijske vaje (LV)\, [: 3
 ]
DTSTART;TZID=Europe/Ljubljana:20260325T170000
DTEND;TZID=Europe/Ljubljana:20260325T200000
DTSTAMP:20260420T060704Z
UID:bf-AFLABS-URNIK:srecanje:27492-2026-03-25 17:00:00+01:00
DESCRIPTION:Predmet: Sanitarna mikrobiologija (MB223)\, laboratorijske vaj
 e (LV)\, [: 3]\nLetniki: Mikrobiologija 1. letnik (MMB)\nIzvajalci: Tadeja
  Matos\nProstor: Vajalnica V1 na Inštitutu za mikrobiologijo in imunologi
 jo
END:VEVENT
BEGIN:VEVENT
SUMMARY:Sanitarna mikrobiologija (MB223)\, laboratorijske vaje (LV)\, [: 3
 ]
DTSTART;TZID=Europe/Ljubljana:20260401T170000
DTEND;TZID=Europe/Ljubljana:20260401T200000
DTSTAMP:20260420T060704Z
UID:bf-AFLABS-URNIK:srecanje:27492-2026-04-01 17:00:00+02:00
DESCRIPTION:Predmet: Sanitarna mikrobiologija (MB223)\, laboratorijske vaj
 e (LV)\, [: 3]\nLetniki: Mikrobiologija 1. letnik (MMB)\nIzvajalci: Tadeja
  Matos\nProstor: Vajalnica V1 na Inštitutu za mikrobiologijo in imunologi
 jo
END:VEVENT
BEGIN:VEVENT
SUMMARY:Sanitarna mikrobiologija (MB223)\, predavanja (P)
DTSTART;TZID=Europe/Ljubljana:20260218T080000
DTEND;TZID=Europe/Ljubljana:20260218T123000
DTSTAMP:20260420T060704Z
UID:bf-AFLABS-URNIK:srecanje:27493-2026-02-18 08:00:00+01:00
DESCRIPTION:Predmet: Sanitarna mikrobiologija (MB223)\, predavanja (P)\nLe
 tniki: Mikrobiologija 1. letnik (MMB)\nIzvajalci: Tadeja Matos\nProstor: S
 eminarska soba na Inštituta za mikrobiologijo in imunologijo
END:VEVENT
BEGIN:VEVENT
SUMMARY:Sanitarna mikrobiologija (MB223)\, predavanja (P)
DTSTART;TZID=Europe/Ljubljana:20260225T080000
DTEND;TZID=Europe/Ljubljana:20260225T123000
DTSTAMP:20260420T060704Z
UID:bf-AFLABS-URNIK:srecanje:27493-2026-02-25 08:00:00+01:00
DESCRIPTION:Predmet: Sanitarna mikrobiologija (MB223)\, predavanja (P)\nLe
 tniki: Mikrobiologija 1. letnik (MMB)\nIzvajalci: Tadeja Matos\nProstor: S
 eminarska soba na Inštituta za mikrobiologijo in imunologijo
END:VEVENT
BEGIN:VEVENT
SUMMARY:Sanitarna mikrobiologija (MB223)\, predavanja (P)
DTSTART;TZID=Europe/Ljubljana:20260304T080000
DTEND;TZID=Europe/Ljubljana:20260304T123000
DTSTAMP:20260420T060704Z
UID:bf-AFLABS-URNIK:srecanje:27493-2026-03-04 08:00:00+01:00
DESCRIPTION:Predmet: Sanitarna mikrobiologija (MB223)\, predavanja (P)\nLe
 tniki: Mikrobiologija 1. letnik (MMB)\nIzvajalci: Tadeja Matos\nProstor: S
 eminarska soba na Inštituta za mikrobiologijo in imunologijo
END:VEVENT
BEGIN:VEVENT
SUMMARY:Sanitarna mikrobiologija (MB223)\, predavanja (P)
DTSTART;TZID=Europe/Ljubljana:20260311T080000
DTEND;TZID=Europe/Ljubljana:20260311T123000
DTSTAMP:20260420T060704Z
UID:bf-AFLABS-URNIK:srecanje:27493-2026-03-11 08:00:00+01:00
DESCRIPTION:Predmet: Sanitarna mikrobiologija (MB223)\, predavanja (P)\nLe
 tniki: Mikrobiologija 1. letnik (MMB)\nIzvajalci: Tadeja Matos\nProstor: S
 eminarska soba na Inštituta za mikrobiologijo in imunologijo
END:VEVENT
BEGIN:VEVENT
SUMMARY:Sanitarna mikrobiologija (MB223)\, predavanja (P)
DTSTART;TZID=Europe/Ljubljana:20260318T080000
DTEND;TZID=Europe/Ljubljana:20260318T123000
DTSTAMP:20260420T060704Z
UID:bf-AFLABS-URNIK:srecanje:27493-2026-03-18 08:00:00+01:00
DESCRIPTION:Predmet: Sanitarna mikrobiologija (MB223)\, predavanja (P)\nLe
 tniki: Mikrobiologija 1. letnik (MMB)\nIzvajalci: Tadeja Matos\nProstor: S
 eminarska soba na Inštituta za mikrobiologijo in imunologijo
END:VEVENT
BEGIN:VEVENT
SUMMARY:Sanitarna mikrobiologija (MB223)\, predavanja (P)
DTSTART;TZID=Europe/Ljubljana:20260325T080000
DTEND;TZID=Europe/Ljubljana:20260325T123000
DTSTAMP:20260420T060704Z
UID:bf-AFLABS-URNIK:srecanje:27493-2026-03-25 08:00:00+01:00
DESCRIPTION:Predmet: Sanitarna mikrobiologija (MB223)\, predavanja (P)\nLe
 tniki: Mikrobiologija 1. letnik (MMB)\nIzvajalci: Tadeja Matos\nProstor: S
 eminarska soba na Inštituta za mikrobiologijo in imunologijo
END:VEVENT
BEGIN:VEVENT
SUMMARY:Sanitarna mikrobiologija (MB223)\, predavanja (P)
DTSTART;TZID=Europe/Ljubljana:20260401T080000
DTEND;TZID=Europe/Ljubljana:20260401T123000
DTSTAMP:20260420T060704Z
UID:bf-AFLABS-URNIK:srecanje:27493-2026-04-01 08:00:00+02:00
DESCRIPTION:Predmet: Sanitarna mikrobiologija (MB223)\, predavanja (P)\nLe
 tniki: Mikrobiologija 1. letnik (MMB)\nIzvajalci: Tadeja Matos\nProstor: S
 eminarska soba na Inštituta za mikrobiologijo in imunologijo
END:VEVENT
BEGIN:VEVENT
SUMMARY:Sanitarna mikrobiologija (MB223)\, seminarji (S)
DTSTART;TZID=Europe/Ljubljana:20260218T123000
DTEND;TZID=Europe/Ljubljana:20260218T140000
DTSTAMP:20260420T060704Z
UID:bf-AFLABS-URNIK:srecanje:27494-2026-02-18 12:30:00+01:00
DESCRIPTION:Predmet: Sanitarna mikrobiologija (MB223)\, seminarji (S)\nLet
 niki: Mikrobiologija 1. letnik (MMB)\nIzvajalci: Tadeja Matos\nProstor: Se
 minarska soba na Inštituta za mikrobiologijo in imunologijo
END:VEVENT
BEGIN:VEVENT
SUMMARY:Sanitarna mikrobiologija (MB223)\, seminarji (S)
DTSTART;TZID=Europe/Ljubljana:20260225T123000
DTEND;TZID=Europe/Ljubljana:20260225T140000
DTSTAMP:20260420T060704Z
UID:bf-AFLABS-URNIK:srecanje:27494-2026-02-25 12:30:00+01:00
DESCRIPTION:Predmet: Sanitarna mikrobiologija (MB223)\, seminarji (S)\nLet
 niki: Mikrobiologija 1. letnik (MMB)\nIzvajalci: Tadeja Matos\nProstor: Se
 minarska soba na Inštituta za mikrobiologijo in imunologijo
END:VEVENT
BEGIN:VEVENT
SUMMARY:Sanitarna mikrobiologija (MB223)\, seminarji (S)
DTSTART;TZID=Europe/Ljubljana:20260304T123000
DTEND;TZID=Europe/Ljubljana:20260304T140000
DTSTAMP:20260420T060704Z
UID:bf-AFLABS-URNIK:srecanje:27494-2026-03-04 12:30:00+01:00
DESCRIPTION:Predmet: Sanitarna mikrobiologija (MB223)\, seminarji (S)\nLet
 niki: Mikrobiologija 1. letnik (MMB)\nIzvajalci: Tadeja Matos\nProstor: Se
 minarska soba na Inštituta za mikrobiologijo in imunologijo
END:VEVENT
BEGIN:VEVENT
SUMMARY:Sanitarna mikrobiologija (MB223)\, seminarji (S)
DTSTART;TZID=Europe/Ljubljana:20260311T123000
DTEND;TZID=Europe/Ljubljana:20260311T140000
DTSTAMP:20260420T060704Z
UID:bf-AFLABS-URNIK:srecanje:27494-2026-03-11 12:30:00+01:00
DESCRIPTION:Predmet: Sanitarna mikrobiologija (MB223)\, seminarji (S)\nLet
 niki: Mikrobiologija 1. letnik (MMB)\nIzvajalci: Tadeja Matos\nProstor: Se
 minarska soba na Inštituta za mikrobiologijo in imunologijo
END:VEVENT
BEGIN:VEVENT
SUMMARY:Sanitarna mikrobiologija (MB223)\, seminarji (S)
DTSTART;TZID=Europe/Ljubljana:20260318T123000
DTEND;TZID=Europe/Ljubljana:20260318T140000
DTSTAMP:20260420T060704Z
UID:bf-AFLABS-URNIK:srecanje:27494-2026-03-18 12:30:00+01:00
DESCRIPTION:Predmet: Sanitarna mikrobiologija (MB223)\, seminarji (S)\nLet
 niki: Mikrobiologija 1. letnik (MMB)\nIzvajalci: Tadeja Matos\nProstor: Se
 minarska soba na Inštituta za mikrobiologijo in imunologijo
END:VEVENT
BEGIN:VEVENT
SUMMARY:Sanitarna mikrobiologija (MB223)\, seminarji (S)
DTSTART;TZID=Europe/Ljubljana:20260325T123000
DTEND;TZID=Europe/Ljubljana:20260325T140000
DTSTAMP:20260420T060704Z
UID:bf-AFLABS-URNIK:srecanje:27494-2026-03-25 12:30:00+01:00
DESCRIPTION:Predmet: Sanitarna mikrobiologija (MB223)\, seminarji (S)\nLet
 niki: Mikrobiologija 1. letnik (MMB)\nIzvajalci: Tadeja Matos\nProstor: Se
 minarska soba na Inštituta za mikrobiologijo in imunologijo
END:VEVENT
BEGIN:VEVENT
SUMMARY:Sanitarna mikrobiologija (MB223)\, seminarji (S)
DTSTART;TZID=Europe/Ljubljana:20260401T123000
DTEND;TZID=Europe/Ljubljana:20260401T140000
DTSTAMP:20260420T060704Z
UID:bf-AFLABS-URNIK:srecanje:27494-2026-04-01 12:30:00+02:00
DESCRIPTION:Predmet: Sanitarna mikrobiologija (MB223)\, seminarji (S)\nLet
 niki: Mikrobiologija 1. letnik (MMB)\nIzvajalci: Tadeja Matos\nProstor: Se
 minarska soba na Inštituta za mikrobiologijo in imunologijo
END:VEVENT
BEGIN:VEVENT
SUMMARY:Sanitarna mikrobiologija (MB223)\, laboratorijske vaje (LV)
DTSTART;TZID=Europe/Ljubljana:20260220T080000
DTEND;TZID=Europe/Ljubljana:20260220T093000
DTSTAMP:20260420T060704Z
UID:bf-AFLABS-URNIK:srecanje:27489-2026-02-20 08:00:00+01:00
DESCRIPTION:Predmet: Sanitarna mikrobiologija (MB223)\, laboratorijske vaj
 e (LV)\nLetniki: Mikrobiologija 1. letnik (MMB)\nIzvajalci: Tadeja Matos\n
 Prostor: Vajalnica V1 na Inštitutu za mikrobiologijo in imunologijo
END:VEVENT
BEGIN:VEVENT
SUMMARY:Sanitarna mikrobiologija (MB223)\, laboratorijske vaje (LV)
DTSTART;TZID=Europe/Ljubljana:20260227T080000
DTEND;TZID=Europe/Ljubljana:20260227T093000
DTSTAMP:20260420T060704Z
UID:bf-AFLABS-URNIK:srecanje:27489-2026-02-27 08:00:00+01:00
DESCRIPTION:Predmet: Sanitarna mikrobiologija (MB223)\, laboratorijske vaj
 e (LV)\nLetniki: Mikrobiologija 1. letnik (MMB)\nIzvajalci: Tadeja Matos\n
 Prostor: Vajalnica V1 na Inštitutu za mikrobiologijo in imunologijo
END:VEVENT
BEGIN:VEVENT
SUMMARY:Sanitarna mikrobiologija (MB223)\, laboratorijske vaje (LV)
DTSTART;TZID=Europe/Ljubljana:20260306T080000
DTEND;TZID=Europe/Ljubljana:20260306T093000
DTSTAMP:20260420T060704Z
UID:bf-AFLABS-URNIK:srecanje:27489-2026-03-06 08:00:00+01:00
DESCRIPTION:Predmet: Sanitarna mikrobiologija (MB223)\, laboratorijske vaj
 e (LV)\nLetniki: Mikrobiologija 1. letnik (MMB)\nIzvajalci: Tadeja Matos\n
 Prostor: Vajalnica V1 na Inštitutu za mikrobiologijo in imunologijo
END:VEVENT
BEGIN:VEVENT
SUMMARY:Sanitarna mikrobiologija (MB223)\, laboratorijske vaje (LV)
DTSTART;TZID=Europe/Ljubljana:20260313T080000
DTEND;TZID=Europe/Ljubljana:20260313T093000
DTSTAMP:20260420T060704Z
UID:bf-AFLABS-URNIK:srecanje:27489-2026-03-13 08:00:00+01:00
DESCRIPTION:Predmet: Sanitarna mikrobiologija (MB223)\, laboratorijske vaj
 e (LV)\nLetniki: Mikrobiologija 1. letnik (MMB)\nIzvajalci: Tadeja Matos\n
 Prostor: Vajalnica V1 na Inštitutu za mikrobiologijo in imunologijo
END:VEVENT
BEGIN:VEVENT
SUMMARY:Sanitarna mikrobiologija (MB223)\, laboratorijske vaje (LV)
DTSTART;TZID=Europe/Ljubljana:20260320T080000
DTEND;TZID=Europe/Ljubljana:20260320T093000
DTSTAMP:20260420T060704Z
UID:bf-AFLABS-URNIK:srecanje:27489-2026-03-20 08:00:00+01:00
DESCRIPTION:Predmet: Sanitarna mikrobiologija (MB223)\, laboratorijske vaj
 e (LV)\nLetniki: Mikrobiologija 1. letnik (MMB)\nIzvajalci: Tadeja Matos\n
 Prostor: Vajalnica V1 na Inštitutu za mikrobiologijo in imunologijo
END:VEVENT
BEGIN:VEVENT
SUMMARY:Sanitarna mikrobiologija (MB223)\, laboratorijske vaje (LV)
DTSTART;TZID=Europe/Ljubljana:20260327T080000
DTEND;TZID=Europe/Ljubljana:20260327T093000
DTSTAMP:20260420T060704Z
UID:bf-AFLABS-URNIK:srecanje:27489-2026-03-27 08:00:00+01:00
DESCRIPTION:Predmet: Sanitarna mikrobiologija (MB223)\, laboratorijske vaj
 e (LV)\nLetniki: Mikrobiologija 1. letnik (MMB)\nIzvajalci: Tadeja Matos\n
 Prostor: Vajalnica V1 na Inštitutu za mikrobiologijo in imunologijo
END:VEVENT
BEGIN:VEVENT
SUMMARY:Sanitarna mikrobiologija (MB223)\, laboratorijske vaje (LV)
DTSTART;TZID=Europe/Ljubljana:20260403T080000
DTEND;TZID=Europe/Ljubljana:20260403T093000
DTSTAMP:20260420T060704Z
UID:bf-AFLABS-URNIK:srecanje:27489-2026-04-03 08:00:00+02:00
DESCRIPTION:Predmet: Sanitarna mikrobiologija (MB223)\, laboratorijske vaj
 e (LV)\nLetniki: Mikrobiologija 1. letnik (MMB)\nIzvajalci: Tadeja Matos\n
 Prostor: Vajalnica V1 na Inštitutu za mikrobiologijo in imunologijo
END:VEVENT
END:VCALENDAR
