BEGIN:VCALENDAR
VERSION:2.0
PRODID:-//AFLabs urnik izvoz - bf//aflabs.si//SI
NAME:UL BF Urnik
X-WR-CALNAME:UL BF Urnik
DTSTAMP:20260425T215746Z
REFRESH-INTERVAL:PT1H
SOURCE:https://urniki.bf.uni-lj.si/en/teacher/398/?day=2026-07-06&export=1
URL:https://urniki.bf.uni-lj.si/en/teacher/398/?day=2026-07-06&export=1
X-PUBLISHED-TTL:PT1H
X-WR-TIMEZONE:Europe/Ljubljana
BEGIN:VTIMEZONE
TZID:Europe/Ljubljana
BEGIN:DAYLIGHT
DTSTART:20260329T020000
RDATE:20260329T020000
RDATE:20270328T020000
TZNAME:CEST
TZOFFSETFROM:+0100
TZOFFSETTO:+0200
END:DAYLIGHT
BEGIN:STANDARD
DTSTART:20261025T030000
RDATE:20261025T030000
RDATE:20271031T030000
TZNAME:CET
TZOFFSETFROM:+0200
TZOFFSETTO:+0100
END:STANDARD
END:VTIMEZONE
BEGIN:VEVENT
SUMMARY:Mikrob in patogeneza (MB017)\, predavanja (P)
DTSTART;TZID=Europe/Ljubljana:20251001T090000
DTEND;TZID=Europe/Ljubljana:20251001T110000
DTSTAMP:20260425T215746Z
UID:bf-AFLABS-URNIK:srecanje:25132-2025-10-01 09:00:00+02:00
DESCRIPTION:Predmet: Mikrob in patogeneza (MB017)\, predavanja (P)\nLetnik
 i: Mikrobiologija 3. letnik (MBUN)\nIzvajalci: Matej Butala\, Marina Derma
 stia\, Cene Gostinčar\nProstor: Predavalnica Biologija B4
END:VEVENT
BEGIN:VEVENT
SUMMARY:Mikrob in patogeneza (MB017)\, predavanja (P)
DTSTART;TZID=Europe/Ljubljana:20251008T090000
DTEND;TZID=Europe/Ljubljana:20251008T110000
DTSTAMP:20260425T215746Z
UID:bf-AFLABS-URNIK:srecanje:25132-2025-10-08 09:00:00+02:00
DESCRIPTION:Predmet: Mikrob in patogeneza (MB017)\, predavanja (P)\nLetnik
 i: Mikrobiologija 3. letnik (MBUN)\nIzvajalci: Matej Butala\, Marina Derma
 stia\, Cene Gostinčar\nProstor: Predavalnica Biologija B4
END:VEVENT
BEGIN:VEVENT
SUMMARY:Mikrob in patogeneza (MB017)\, predavanja (P)
DTSTART;TZID=Europe/Ljubljana:20251015T090000
DTEND;TZID=Europe/Ljubljana:20251015T110000
DTSTAMP:20260425T215746Z
UID:bf-AFLABS-URNIK:srecanje:25132-2025-10-15 09:00:00+02:00
DESCRIPTION:Predmet: Mikrob in patogeneza (MB017)\, predavanja (P)\nLetnik
 i: Mikrobiologija 3. letnik (MBUN)\nIzvajalci: Matej Butala\, Marina Derma
 stia\, Cene Gostinčar\nProstor: Predavalnica Biologija B4
END:VEVENT
BEGIN:VEVENT
SUMMARY:Mikrob in patogeneza (MB017)\, predavanja (P)
DTSTART;TZID=Europe/Ljubljana:20251022T090000
DTEND;TZID=Europe/Ljubljana:20251022T110000
DTSTAMP:20260425T215746Z
UID:bf-AFLABS-URNIK:srecanje:25132-2025-10-22 09:00:00+02:00
DESCRIPTION:Predmet: Mikrob in patogeneza (MB017)\, predavanja (P)\nLetnik
 i: Mikrobiologija 3. letnik (MBUN)\nIzvajalci: Matej Butala\, Marina Derma
 stia\, Cene Gostinčar\nProstor: Predavalnica Biologija B4
END:VEVENT
BEGIN:VEVENT
SUMMARY:Mikrob in patogeneza (MB017)\, predavanja (P)
DTSTART;TZID=Europe/Ljubljana:20251105T090000
DTEND;TZID=Europe/Ljubljana:20251105T110000
DTSTAMP:20260425T215746Z
UID:bf-AFLABS-URNIK:srecanje:25132-2025-11-05 09:00:00+01:00
DESCRIPTION:Predmet: Mikrob in patogeneza (MB017)\, predavanja (P)\nLetnik
 i: Mikrobiologija 3. letnik (MBUN)\nIzvajalci: Matej Butala\, Marina Derma
 stia\, Cene Gostinčar\nProstor: Predavalnica Biologija B4
END:VEVENT
BEGIN:VEVENT
SUMMARY:Mikrob in patogeneza (MB017)\, predavanja (P)
DTSTART;TZID=Europe/Ljubljana:20251112T090000
DTEND;TZID=Europe/Ljubljana:20251112T110000
DTSTAMP:20260425T215746Z
UID:bf-AFLABS-URNIK:srecanje:25132-2025-11-12 09:00:00+01:00
DESCRIPTION:Predmet: Mikrob in patogeneza (MB017)\, predavanja (P)\nLetnik
 i: Mikrobiologija 3. letnik (MBUN)\nIzvajalci: Matej Butala\, Marina Derma
 stia\, Cene Gostinčar\nProstor: Predavalnica Biologija B4
END:VEVENT
BEGIN:VEVENT
SUMMARY:Mikrob in patogeneza (MB017)\, predavanja (P)
DTSTART;TZID=Europe/Ljubljana:20251006T120000
DTEND;TZID=Europe/Ljubljana:20251006T140000
DTSTAMP:20260425T215746Z
UID:bf-AFLABS-URNIK:srecanje:25131-2025-10-06 12:00:00+02:00
DESCRIPTION:Predmet: Mikrob in patogeneza (MB017)\, predavanja (P)\nLetnik
 i: Mikrobiologija 3. letnik (MBUN)\nIzvajalci: Matej Butala\, Marina Derma
 stia\, Cene Gostinčar\nProstor: Predavalnica Biologija B1
END:VEVENT
BEGIN:VEVENT
SUMMARY:Mikrob in patogeneza (MB017)\, predavanja (P)
DTSTART;TZID=Europe/Ljubljana:20251013T120000
DTEND;TZID=Europe/Ljubljana:20251013T140000
DTSTAMP:20260425T215746Z
UID:bf-AFLABS-URNIK:srecanje:25131-2025-10-13 12:00:00+02:00
DESCRIPTION:Predmet: Mikrob in patogeneza (MB017)\, predavanja (P)\nLetnik
 i: Mikrobiologija 3. letnik (MBUN)\nIzvajalci: Matej Butala\, Marina Derma
 stia\, Cene Gostinčar\nProstor: Predavalnica Biologija B1
END:VEVENT
BEGIN:VEVENT
SUMMARY:Mikrob in patogeneza (MB017)\, predavanja (P)
DTSTART;TZID=Europe/Ljubljana:20251020T120000
DTEND;TZID=Europe/Ljubljana:20251020T140000
DTSTAMP:20260425T215746Z
UID:bf-AFLABS-URNIK:srecanje:25131-2025-10-20 12:00:00+02:00
DESCRIPTION:Predmet: Mikrob in patogeneza (MB017)\, predavanja (P)\nLetnik
 i: Mikrobiologija 3. letnik (MBUN)\nIzvajalci: Matej Butala\, Marina Derma
 stia\, Cene Gostinčar\nProstor: Predavalnica Biologija B1
END:VEVENT
BEGIN:VEVENT
SUMMARY:Mikrob in patogeneza (MB017)\, predavanja (P)
DTSTART;TZID=Europe/Ljubljana:20251027T120000
DTEND;TZID=Europe/Ljubljana:20251027T140000
DTSTAMP:20260425T215746Z
UID:bf-AFLABS-URNIK:srecanje:25131-2025-10-27 12:00:00+01:00
DESCRIPTION:Predmet: Mikrob in patogeneza (MB017)\, predavanja (P)\nLetnik
 i: Mikrobiologija 3. letnik (MBUN)\nIzvajalci: Matej Butala\, Marina Derma
 stia\, Cene Gostinčar\nProstor: Predavalnica Biologija B1
END:VEVENT
BEGIN:VEVENT
SUMMARY:Mikrob in patogeneza (MB017)\, predavanja (P)
DTSTART;TZID=Europe/Ljubljana:20251103T120000
DTEND;TZID=Europe/Ljubljana:20251103T140000
DTSTAMP:20260425T215746Z
UID:bf-AFLABS-URNIK:srecanje:25131-2025-11-03 12:00:00+01:00
DESCRIPTION:Predmet: Mikrob in patogeneza (MB017)\, predavanja (P)\nLetnik
 i: Mikrobiologija 3. letnik (MBUN)\nIzvajalci: Matej Butala\, Marina Derma
 stia\, Cene Gostinčar\nProstor: Predavalnica Biologija B1
END:VEVENT
BEGIN:VEVENT
SUMMARY:Mikrob in patogeneza (MB017)\, predavanja (P)
DTSTART;TZID=Europe/Ljubljana:20251110T120000
DTEND;TZID=Europe/Ljubljana:20251110T140000
DTSTAMP:20260425T215746Z
UID:bf-AFLABS-URNIK:srecanje:25131-2025-11-10 12:00:00+01:00
DESCRIPTION:Predmet: Mikrob in patogeneza (MB017)\, predavanja (P)\nLetnik
 i: Mikrobiologija 3. letnik (MBUN)\nIzvajalci: Matej Butala\, Marina Derma
 stia\, Cene Gostinčar\nProstor: Predavalnica Biologija B1
END:VEVENT
BEGIN:VEVENT
SUMMARY:Mikrob in patogeneza (MB017)\, predavanja in seminarji (P+S)\, [: 
 Seminar]
DTSTART;TZID=Europe/Ljubljana:20251124T120000
DTEND;TZID=Europe/Ljubljana:20251124T140000
DTSTAMP:20260425T215746Z
UID:bf-AFLABS-URNIK:srecanje:26244-2025-11-24 12:00:00+01:00
DESCRIPTION:Predmet: Mikrob in patogeneza (MB017)\, predavanja in seminarj
 i (P+S)\, [: Seminar]\nLetniki: Mikrobiologija 3. letnik (MBUN)\nIzvajalci
 : Matej Butala\, Marina Dermastia\nProstor: Predavalnica Biologija B5
END:VEVENT
BEGIN:VEVENT
SUMMARY:Mikrob in patogeneza (MB017)\, predavanja in seminarji (P+S)\, [: 
 Seminar]
DTSTART;TZID=Europe/Ljubljana:20251201T120000
DTEND;TZID=Europe/Ljubljana:20251201T140000
DTSTAMP:20260425T215746Z
UID:bf-AFLABS-URNIK:srecanje:26244-2025-12-01 12:00:00+01:00
DESCRIPTION:Predmet: Mikrob in patogeneza (MB017)\, predavanja in seminarj
 i (P+S)\, [: Seminar]\nLetniki: Mikrobiologija 3. letnik (MBUN)\nIzvajalci
 : Matej Butala\, Marina Dermastia\nProstor: Predavalnica Biologija B5
END:VEVENT
BEGIN:VEVENT
SUMMARY:Mikrob in patogeneza (MB017)\, predavanja in seminarji (P+S)\, [: 
 Seminar]
DTSTART;TZID=Europe/Ljubljana:20251208T120000
DTEND;TZID=Europe/Ljubljana:20251208T140000
DTSTAMP:20260425T215746Z
UID:bf-AFLABS-URNIK:srecanje:26244-2025-12-08 12:00:00+01:00
DESCRIPTION:Predmet: Mikrob in patogeneza (MB017)\, predavanja in seminarj
 i (P+S)\, [: Seminar]\nLetniki: Mikrobiologija 3. letnik (MBUN)\nIzvajalci
 : Matej Butala\, Marina Dermastia\nProstor: Predavalnica Biologija B5
END:VEVENT
BEGIN:VEVENT
SUMMARY:Mikrob in patogeneza (MB017)\, predavanja in seminarji (P+S)\, [: 
 Seminar]
DTSTART;TZID=Europe/Ljubljana:20251215T120000
DTEND;TZID=Europe/Ljubljana:20251215T140000
DTSTAMP:20260425T215746Z
UID:bf-AFLABS-URNIK:srecanje:26244-2025-12-15 12:00:00+01:00
DESCRIPTION:Predmet: Mikrob in patogeneza (MB017)\, predavanja in seminarj
 i (P+S)\, [: Seminar]\nLetniki: Mikrobiologija 3. letnik (MBUN)\nIzvajalci
 : Matej Butala\, Marina Dermastia\nProstor: Predavalnica Biologija B5
END:VEVENT
BEGIN:VEVENT
SUMMARY:Mikrob in patogeneza (MB017)\, predavanja in seminarji (P+S)\, [: 
 Seminar]
DTSTART;TZID=Europe/Ljubljana:20251222T120000
DTEND;TZID=Europe/Ljubljana:20251222T140000
DTSTAMP:20260425T215746Z
UID:bf-AFLABS-URNIK:srecanje:26244-2025-12-22 12:00:00+01:00
DESCRIPTION:Predmet: Mikrob in patogeneza (MB017)\, predavanja in seminarj
 i (P+S)\, [: Seminar]\nLetniki: Mikrobiologija 3. letnik (MBUN)\nIzvajalci
 : Matej Butala\, Marina Dermastia\nProstor: Predavalnica Biologija B5
END:VEVENT
BEGIN:VEVENT
SUMMARY:Mikrob in patogeneza (MB017)\, predavanja in seminarji (P+S)\, [: 
 Seminar]
DTSTART;TZID=Europe/Ljubljana:20251229T120000
DTEND;TZID=Europe/Ljubljana:20251229T140000
DTSTAMP:20260425T215746Z
UID:bf-AFLABS-URNIK:srecanje:26244-2025-12-29 12:00:00+01:00
DESCRIPTION:Predmet: Mikrob in patogeneza (MB017)\, predavanja in seminarj
 i (P+S)\, [: Seminar]\nLetniki: Mikrobiologija 3. letnik (MBUN)\nIzvajalci
 : Matej Butala\, Marina Dermastia\nProstor: Predavalnica Biologija B5
END:VEVENT
BEGIN:VEVENT
SUMMARY:Mikrob in patogeneza (MB017)\, predavanja in seminarji (P+S)\, [: 
 Seminar]
DTSTART;TZID=Europe/Ljubljana:20260105T120000
DTEND;TZID=Europe/Ljubljana:20260105T140000
DTSTAMP:20260425T215746Z
UID:bf-AFLABS-URNIK:srecanje:26244-2026-01-05 12:00:00+01:00
DESCRIPTION:Predmet: Mikrob in patogeneza (MB017)\, predavanja in seminarj
 i (P+S)\, [: Seminar]\nLetniki: Mikrobiologija 3. letnik (MBUN)\nIzvajalci
 : Matej Butala\, Marina Dermastia\nProstor: Predavalnica Biologija B5
END:VEVENT
BEGIN:VEVENT
SUMMARY:Mikrob in patogeneza (MB017)\, predavanja in seminarji (P+S)\, [: 
 Seminar]
DTSTART;TZID=Europe/Ljubljana:20260112T120000
DTEND;TZID=Europe/Ljubljana:20260112T140000
DTSTAMP:20260425T215746Z
UID:bf-AFLABS-URNIK:srecanje:26244-2026-01-12 12:00:00+01:00
DESCRIPTION:Predmet: Mikrob in patogeneza (MB017)\, predavanja in seminarj
 i (P+S)\, [: Seminar]\nLetniki: Mikrobiologija 3. letnik (MBUN)\nIzvajalci
 : Matej Butala\, Marina Dermastia\nProstor: Predavalnica Biologija B5
END:VEVENT
BEGIN:VEVENT
SUMMARY:Mikrob in patogeneza (MB017)\, predavanja (P)
DTSTART;TZID=Europe/Ljubljana:20251125T100000
DTEND;TZID=Europe/Ljubljana:20251125T120000
DTSTAMP:20260425T215746Z
UID:bf-AFLABS-URNIK:srecanje:26241-2025-11-25 10:00:00+01:00
DESCRIPTION:Predmet: Mikrob in patogeneza (MB017)\, predavanja (P)\nLetnik
 i: Mikrobiologija 3. letnik (MBUN)\nIzvajalci: Matej Butala\, Marina Derma
 stia\nProstor: Predavalnica Biologija B5
END:VEVENT
BEGIN:VEVENT
SUMMARY:Mikrob in patogeneza (MB017)\, predavanja (P)
DTSTART;TZID=Europe/Ljubljana:20251202T100000
DTEND;TZID=Europe/Ljubljana:20251202T120000
DTSTAMP:20260425T215746Z
UID:bf-AFLABS-URNIK:srecanje:26241-2025-12-02 10:00:00+01:00
DESCRIPTION:Predmet: Mikrob in patogeneza (MB017)\, predavanja (P)\nLetnik
 i: Mikrobiologija 3. letnik (MBUN)\nIzvajalci: Matej Butala\, Marina Derma
 stia\nProstor: Predavalnica Biologija B5
END:VEVENT
BEGIN:VEVENT
SUMMARY:Mikrob in patogeneza (MB017)\, predavanja (P)
DTSTART;TZID=Europe/Ljubljana:20251209T100000
DTEND;TZID=Europe/Ljubljana:20251209T120000
DTSTAMP:20260425T215746Z
UID:bf-AFLABS-URNIK:srecanje:26241-2025-12-09 10:00:00+01:00
DESCRIPTION:Predmet: Mikrob in patogeneza (MB017)\, predavanja (P)\nLetnik
 i: Mikrobiologija 3. letnik (MBUN)\nIzvajalci: Matej Butala\, Marina Derma
 stia\nProstor: Predavalnica Biologija B5
END:VEVENT
BEGIN:VEVENT
SUMMARY:Mikrob in patogeneza (MB017)\, predavanja (P)
DTSTART;TZID=Europe/Ljubljana:20251216T100000
DTEND;TZID=Europe/Ljubljana:20251216T120000
DTSTAMP:20260425T215746Z
UID:bf-AFLABS-URNIK:srecanje:26241-2025-12-16 10:00:00+01:00
DESCRIPTION:Predmet: Mikrob in patogeneza (MB017)\, predavanja (P)\nLetnik
 i: Mikrobiologija 3. letnik (MBUN)\nIzvajalci: Matej Butala\, Marina Derma
 stia\nProstor: Predavalnica Biologija B5
END:VEVENT
BEGIN:VEVENT
SUMMARY:Mikrob in patogeneza (MB017)\, predavanja (P)
DTSTART;TZID=Europe/Ljubljana:20251223T100000
DTEND;TZID=Europe/Ljubljana:20251223T120000
DTSTAMP:20260425T215746Z
UID:bf-AFLABS-URNIK:srecanje:26241-2025-12-23 10:00:00+01:00
DESCRIPTION:Predmet: Mikrob in patogeneza (MB017)\, predavanja (P)\nLetnik
 i: Mikrobiologija 3. letnik (MBUN)\nIzvajalci: Matej Butala\, Marina Derma
 stia\nProstor: Predavalnica Biologija B5
END:VEVENT
BEGIN:VEVENT
SUMMARY:Mikrob in patogeneza (MB017)\, predavanja (P)
DTSTART;TZID=Europe/Ljubljana:20251230T100000
DTEND;TZID=Europe/Ljubljana:20251230T120000
DTSTAMP:20260425T215746Z
UID:bf-AFLABS-URNIK:srecanje:26241-2025-12-30 10:00:00+01:00
DESCRIPTION:Predmet: Mikrob in patogeneza (MB017)\, predavanja (P)\nLetnik
 i: Mikrobiologija 3. letnik (MBUN)\nIzvajalci: Matej Butala\, Marina Derma
 stia\nProstor: Predavalnica Biologija B5
END:VEVENT
BEGIN:VEVENT
SUMMARY:Mikrob in patogeneza (MB017)\, predavanja (P)
DTSTART;TZID=Europe/Ljubljana:20260106T100000
DTEND;TZID=Europe/Ljubljana:20260106T120000
DTSTAMP:20260425T215746Z
UID:bf-AFLABS-URNIK:srecanje:26241-2026-01-06 10:00:00+01:00
DESCRIPTION:Predmet: Mikrob in patogeneza (MB017)\, predavanja (P)\nLetnik
 i: Mikrobiologija 3. letnik (MBUN)\nIzvajalci: Matej Butala\, Marina Derma
 stia\nProstor: Predavalnica Biologija B5
END:VEVENT
BEGIN:VEVENT
SUMMARY:Mikrob in patogeneza (MB017)\, predavanja (P)
DTSTART;TZID=Europe/Ljubljana:20260113T100000
DTEND;TZID=Europe/Ljubljana:20260113T120000
DTSTAMP:20260425T215746Z
UID:bf-AFLABS-URNIK:srecanje:26241-2026-01-13 10:00:00+01:00
DESCRIPTION:Predmet: Mikrob in patogeneza (MB017)\, predavanja (P)\nLetnik
 i: Mikrobiologija 3. letnik (MBUN)\nIzvajalci: Matej Butala\, Marina Derma
 stia\nProstor: Predavalnica Biologija B5
END:VEVENT
BEGIN:VEVENT
SUMMARY:Mikrob in patogeneza (MB017)\, predavanja (P)
DTSTART;TZID=Europe/Ljubljana:20251127T130000
DTEND;TZID=Europe/Ljubljana:20251127T150000
DTSTAMP:20260425T215746Z
UID:bf-AFLABS-URNIK:srecanje:26242-2025-11-27 13:00:00+01:00
DESCRIPTION:Predmet: Mikrob in patogeneza (MB017)\, predavanja (P)\nLetnik
 i: Mikrobiologija 3. letnik (MBUN)\nIzvajalci: Matej Butala\, Marina Derma
 stia\nProstor: Predavalnica Biologija B4
END:VEVENT
BEGIN:VEVENT
SUMMARY:Mikrob in patogeneza (MB017)\, predavanja (P)
DTSTART;TZID=Europe/Ljubljana:20251204T130000
DTEND;TZID=Europe/Ljubljana:20251204T150000
DTSTAMP:20260425T215746Z
UID:bf-AFLABS-URNIK:srecanje:26242-2025-12-04 13:00:00+01:00
DESCRIPTION:Predmet: Mikrob in patogeneza (MB017)\, predavanja (P)\nLetnik
 i: Mikrobiologija 3. letnik (MBUN)\nIzvajalci: Matej Butala\, Marina Derma
 stia\nProstor: Predavalnica Biologija B4
END:VEVENT
BEGIN:VEVENT
SUMMARY:Mikrob in patogeneza (MB017)\, predavanja (P)
DTSTART;TZID=Europe/Ljubljana:20251211T130000
DTEND;TZID=Europe/Ljubljana:20251211T150000
DTSTAMP:20260425T215746Z
UID:bf-AFLABS-URNIK:srecanje:26242-2025-12-11 13:00:00+01:00
DESCRIPTION:Predmet: Mikrob in patogeneza (MB017)\, predavanja (P)\nLetnik
 i: Mikrobiologija 3. letnik (MBUN)\nIzvajalci: Matej Butala\, Marina Derma
 stia\nProstor: Predavalnica Biologija B4
END:VEVENT
BEGIN:VEVENT
SUMMARY:Mikrob in patogeneza (MB017)\, predavanja (P)
DTSTART;TZID=Europe/Ljubljana:20251218T130000
DTEND;TZID=Europe/Ljubljana:20251218T150000
DTSTAMP:20260425T215746Z
UID:bf-AFLABS-URNIK:srecanje:26242-2025-12-18 13:00:00+01:00
DESCRIPTION:Predmet: Mikrob in patogeneza (MB017)\, predavanja (P)\nLetnik
 i: Mikrobiologija 3. letnik (MBUN)\nIzvajalci: Matej Butala\, Marina Derma
 stia\nProstor: Predavalnica Biologija B4
END:VEVENT
BEGIN:VEVENT
SUMMARY:Mikrob in patogeneza (MB017)\, predavanja (P)
DTSTART;TZID=Europe/Ljubljana:20260108T130000
DTEND;TZID=Europe/Ljubljana:20260108T150000
DTSTAMP:20260425T215746Z
UID:bf-AFLABS-URNIK:srecanje:26242-2026-01-08 13:00:00+01:00
DESCRIPTION:Predmet: Mikrob in patogeneza (MB017)\, predavanja (P)\nLetnik
 i: Mikrobiologija 3. letnik (MBUN)\nIzvajalci: Matej Butala\, Marina Derma
 stia\nProstor: Predavalnica Biologija B4
END:VEVENT
BEGIN:VEVENT
SUMMARY:Mikrob in patogeneza (MB017)\, predavanja (P)
DTSTART;TZID=Europe/Ljubljana:20260115T130000
DTEND;TZID=Europe/Ljubljana:20260115T150000
DTSTAMP:20260425T215746Z
UID:bf-AFLABS-URNIK:srecanje:26242-2026-01-15 13:00:00+01:00
DESCRIPTION:Predmet: Mikrob in patogeneza (MB017)\, predavanja (P)\nLetnik
 i: Mikrobiologija 3. letnik (MBUN)\nIzvajalci: Matej Butala\, Marina Derma
 stia\nProstor: Predavalnica Biologija B4
END:VEVENT
BEGIN:VEVENT
SUMMARY:Mikrob in patogeneza (MB017)\, seminarske vaje (SV)
DTSTART;TZID=Europe/Ljubljana:20251223T080000
DTEND;TZID=Europe/Ljubljana:20251223T100000
DTSTAMP:20260425T215746Z
UID:bf-AFLABS-URNIK:srecanje:26245-2025-12-23 08:00:00+01:00
DESCRIPTION:Predmet: Mikrob in patogeneza (MB017)\, seminarske vaje (SV)\n
 Letniki: Mikrobiologija 3. letnik (MBUN)\nIzvajalci: Matej Butala\, Marina
  Dermastia\nProstor: Predavalnica Biologija B2
END:VEVENT
BEGIN:VEVENT
SUMMARY:Mikrob in patogeneza (MB017)\, seminarske vaje (SV)
DTSTART;TZID=Europe/Ljubljana:20251230T080000
DTEND;TZID=Europe/Ljubljana:20251230T100000
DTSTAMP:20260425T215746Z
UID:bf-AFLABS-URNIK:srecanje:26245-2025-12-30 08:00:00+01:00
DESCRIPTION:Predmet: Mikrob in patogeneza (MB017)\, seminarske vaje (SV)\n
 Letniki: Mikrobiologija 3. letnik (MBUN)\nIzvajalci: Matej Butala\, Marina
  Dermastia\nProstor: Predavalnica Biologija B2
END:VEVENT
BEGIN:VEVENT
SUMMARY:Mikrob in patogeneza (MB017)\, seminarske vaje (SV)
DTSTART;TZID=Europe/Ljubljana:20260106T080000
DTEND;TZID=Europe/Ljubljana:20260106T100000
DTSTAMP:20260425T215746Z
UID:bf-AFLABS-URNIK:srecanje:26245-2026-01-06 08:00:00+01:00
DESCRIPTION:Predmet: Mikrob in patogeneza (MB017)\, seminarske vaje (SV)\n
 Letniki: Mikrobiologija 3. letnik (MBUN)\nIzvajalci: Matej Butala\, Marina
  Dermastia\nProstor: Predavalnica Biologija B2
END:VEVENT
BEGIN:VEVENT
SUMMARY:Mikrob in patogeneza (MB017)\, seminarske vaje (SV)
DTSTART;TZID=Europe/Ljubljana:20260113T080000
DTEND;TZID=Europe/Ljubljana:20260113T100000
DTSTAMP:20260425T215746Z
UID:bf-AFLABS-URNIK:srecanje:26245-2026-01-13 08:00:00+01:00
DESCRIPTION:Predmet: Mikrob in patogeneza (MB017)\, seminarske vaje (SV)\n
 Letniki: Mikrobiologija 3. letnik (MBUN)\nIzvajalci: Matej Butala\, Marina
  Dermastia\nProstor: Predavalnica Biologija B2
END:VEVENT
END:VCALENDAR
