BEGIN:VCALENDAR
VERSION:2.0
PRODID:-//AFLabs urnik izvoz - bf//aflabs.si//SI
NAME:UL BF Urnik
X-WR-CALNAME:UL BF Urnik
DTSTAMP:20260421T162640Z
REFRESH-INTERVAL:PT1H
SOURCE:https://urniki.bf.uni-lj.si/en/teacher/38/?day=2025-10-06&export=1
URL:https://urniki.bf.uni-lj.si/en/teacher/38/?day=2025-10-06&export=1
X-PUBLISHED-TTL:PT1H
X-WR-TIMEZONE:Europe/Ljubljana
BEGIN:VTIMEZONE
TZID:Europe/Ljubljana
BEGIN:DAYLIGHT
DTSTART:20260329T020000
RDATE:20260329T020000
RDATE:20270328T020000
TZNAME:CEST
TZOFFSETFROM:+0100
TZOFFSETTO:+0200
END:DAYLIGHT
BEGIN:STANDARD
DTSTART:20261025T030000
RDATE:20261025T030000
RDATE:20271031T030000
TZNAME:CET
TZOFFSETFROM:+0200
TZOFFSETTO:+0100
END:STANDARD
END:VTIMEZONE
BEGIN:VEVENT
SUMMARY:Gozdna genetika (GO266)\, seminarji (S)
DTSTART;TZID=Europe/Ljubljana:20251002T080000
DTEND;TZID=Europe/Ljubljana:20251002T110000
DTSTAMP:20260421T162640Z
UID:bf-AFLABS-URNIK:srecanje:24883-2025-10-02 08:00:00+02:00
DESCRIPTION:Predmet: Gozdna genetika (GO266)\, seminarji (S)\nLetniki: Goz
 darstvo in upravljanje gozdnih ekosistemov 2. letnik (MFO)\nIzvajalci: Kri
 stjan Jarni\nProstor: Predavalnica Gozdarstvo G1
END:VEVENT
BEGIN:VEVENT
SUMMARY:Gozdna genetika (GO266)\, seminarji (S)
DTSTART;TZID=Europe/Ljubljana:20251009T080000
DTEND;TZID=Europe/Ljubljana:20251009T110000
DTSTAMP:20260421T162640Z
UID:bf-AFLABS-URNIK:srecanje:24883-2025-10-09 08:00:00+02:00
DESCRIPTION:Predmet: Gozdna genetika (GO266)\, seminarji (S)\nLetniki: Goz
 darstvo in upravljanje gozdnih ekosistemov 2. letnik (MFO)\nIzvajalci: Kri
 stjan Jarni\nProstor: Predavalnica Gozdarstvo G1
END:VEVENT
BEGIN:VEVENT
SUMMARY:Gozdna genetika (GO266)\, seminarji (S)
DTSTART;TZID=Europe/Ljubljana:20251016T080000
DTEND;TZID=Europe/Ljubljana:20251016T110000
DTSTAMP:20260421T162640Z
UID:bf-AFLABS-URNIK:srecanje:24883-2025-10-16 08:00:00+02:00
DESCRIPTION:Predmet: Gozdna genetika (GO266)\, seminarji (S)\nLetniki: Goz
 darstvo in upravljanje gozdnih ekosistemov 2. letnik (MFO)\nIzvajalci: Kri
 stjan Jarni\nProstor: Predavalnica Gozdarstvo G1
END:VEVENT
BEGIN:VEVENT
SUMMARY:Gozdna genetika (GO266)\, seminarji (S)
DTSTART;TZID=Europe/Ljubljana:20251023T080000
DTEND;TZID=Europe/Ljubljana:20251023T110000
DTSTAMP:20260421T162640Z
UID:bf-AFLABS-URNIK:srecanje:24883-2025-10-23 08:00:00+02:00
DESCRIPTION:Predmet: Gozdna genetika (GO266)\, seminarji (S)\nLetniki: Goz
 darstvo in upravljanje gozdnih ekosistemov 2. letnik (MFO)\nIzvajalci: Kri
 stjan Jarni\nProstor: Predavalnica Gozdarstvo G1
END:VEVENT
BEGIN:VEVENT
SUMMARY:Gozdna genetika (GO266)\, seminarji (S)
DTSTART;TZID=Europe/Ljubljana:20251030T080000
DTEND;TZID=Europe/Ljubljana:20251030T110000
DTSTAMP:20260421T162640Z
UID:bf-AFLABS-URNIK:srecanje:24883-2025-10-30 08:00:00+01:00
DESCRIPTION:Predmet: Gozdna genetika (GO266)\, seminarji (S)\nLetniki: Goz
 darstvo in upravljanje gozdnih ekosistemov 2. letnik (MFO)\nIzvajalci: Kri
 stjan Jarni\nProstor: Predavalnica Gozdarstvo G1
END:VEVENT
BEGIN:VEVENT
SUMMARY:Gozdna genetika (GO266)\, seminarji (S)
DTSTART;TZID=Europe/Ljubljana:20251106T080000
DTEND;TZID=Europe/Ljubljana:20251106T110000
DTSTAMP:20260421T162640Z
UID:bf-AFLABS-URNIK:srecanje:24883-2025-11-06 08:00:00+01:00
DESCRIPTION:Predmet: Gozdna genetika (GO266)\, seminarji (S)\nLetniki: Goz
 darstvo in upravljanje gozdnih ekosistemov 2. letnik (MFO)\nIzvajalci: Kri
 stjan Jarni\nProstor: Predavalnica Gozdarstvo G1
END:VEVENT
BEGIN:VEVENT
SUMMARY:Gozdna genetika (GO266)\, seminarji (S)
DTSTART;TZID=Europe/Ljubljana:20251113T080000
DTEND;TZID=Europe/Ljubljana:20251113T110000
DTSTAMP:20260421T162640Z
UID:bf-AFLABS-URNIK:srecanje:24883-2025-11-13 08:00:00+01:00
DESCRIPTION:Predmet: Gozdna genetika (GO266)\, seminarji (S)\nLetniki: Goz
 darstvo in upravljanje gozdnih ekosistemov 2. letnik (MFO)\nIzvajalci: Kri
 stjan Jarni\nProstor: Predavalnica Gozdarstvo G1
END:VEVENT
BEGIN:VEVENT
SUMMARY:Dendrologija za lesarje (LI016)\, laboratorijske vaje (LV)
DTSTART;TZID=Europe/Ljubljana:20251007T150000
DTEND;TZID=Europe/Ljubljana:20251007T170000
DTSTAMP:20260421T162640Z
UID:bf-AFLABS-URNIK:srecanje:24683-2025-10-07 15:00:00+02:00
DESCRIPTION:Predmet: Dendrologija za lesarje (LI016)\, laboratorijske vaje
  (LV)\nLetniki: Lesarsko inženirstvo 3. letnik (WEPS)\nIzvajalci: Kristja
 n Jarni\nProstor: Predavalnica Lesarstvo L1
END:VEVENT
BEGIN:VEVENT
SUMMARY:Dendrologija za lesarje (LI016)\, laboratorijske vaje (LV)
DTSTART;TZID=Europe/Ljubljana:20251014T150000
DTEND;TZID=Europe/Ljubljana:20251014T170000
DTSTAMP:20260421T162640Z
UID:bf-AFLABS-URNIK:srecanje:24683-2025-10-14 15:00:00+02:00
DESCRIPTION:Predmet: Dendrologija za lesarje (LI016)\, laboratorijske vaje
  (LV)\nLetniki: Lesarsko inženirstvo 3. letnik (WEPS)\nIzvajalci: Kristja
 n Jarni\nProstor: Predavalnica Lesarstvo L1
END:VEVENT
BEGIN:VEVENT
SUMMARY:Dendrologija za lesarje (LI016)\, laboratorijske vaje (LV)
DTSTART;TZID=Europe/Ljubljana:20251021T150000
DTEND;TZID=Europe/Ljubljana:20251021T170000
DTSTAMP:20260421T162640Z
UID:bf-AFLABS-URNIK:srecanje:24683-2025-10-21 15:00:00+02:00
DESCRIPTION:Predmet: Dendrologija za lesarje (LI016)\, laboratorijske vaje
  (LV)\nLetniki: Lesarsko inženirstvo 3. letnik (WEPS)\nIzvajalci: Kristja
 n Jarni\nProstor: Predavalnica Lesarstvo L1
END:VEVENT
BEGIN:VEVENT
SUMMARY:Dendrologija za lesarje (LI016)\, laboratorijske vaje (LV)
DTSTART;TZID=Europe/Ljubljana:20251104T150000
DTEND;TZID=Europe/Ljubljana:20251104T170000
DTSTAMP:20260421T162640Z
UID:bf-AFLABS-URNIK:srecanje:24683-2025-11-04 15:00:00+01:00
DESCRIPTION:Predmet: Dendrologija za lesarje (LI016)\, laboratorijske vaje
  (LV)\nLetniki: Lesarsko inženirstvo 3. letnik (WEPS)\nIzvajalci: Kristja
 n Jarni\nProstor: Predavalnica Lesarstvo L1
END:VEVENT
BEGIN:VEVENT
SUMMARY:Dendrologija za lesarje (LI016)\, laboratorijske vaje (LV)
DTSTART;TZID=Europe/Ljubljana:20251111T150000
DTEND;TZID=Europe/Ljubljana:20251111T170000
DTSTAMP:20260421T162640Z
UID:bf-AFLABS-URNIK:srecanje:24683-2025-11-11 15:00:00+01:00
DESCRIPTION:Predmet: Dendrologija za lesarje (LI016)\, laboratorijske vaje
  (LV)\nLetniki: Lesarsko inženirstvo 3. letnik (WEPS)\nIzvajalci: Kristja
 n Jarni\nProstor: Predavalnica Lesarstvo L1
END:VEVENT
BEGIN:VEVENT
SUMMARY:Dendrologija z žlahtnjenjem gozdnega drevja (GG008)\, terensko de
 lo (TD)
DTSTART;TZID=Europe/Ljubljana:20251010T110000
DTEND;TZID=Europe/Ljubljana:20251010T180000
DTSTAMP:20260421T162640Z
UID:bf-AFLABS-URNIK:srecanje:24686-2025-10-10 11:00:00+02:00
DESCRIPTION:Predmet: Dendrologija z žlahtnjenjem gozdnega drevja (GG008)\
 , terensko delo (TD)\nLetniki: Gozdarstvo in obnovljivi gozdni viri 1. let
 nik (FOUN)\nIzvajalci: Robert Brus\, Kristjan Jarni\nProstor: Terensko del
 o - gozdarstvo
END:VEVENT
BEGIN:VEVENT
SUMMARY:sestanek
DTSTART;TZID=Europe/Ljubljana:20251023T140000
DTEND;TZID=Europe/Ljubljana:20251023T160000
DTSTAMP:20260421T162640Z
UID:bf-AFLABS-URNIK:rezervacija:24303
CATEGORIES:Reservation
COLOR:royalblue
DESCRIPTION:Predmeti: \nLetniki: \nIzvajalci: Kristjan Jarni\nProstori: Pr
 edavalnica Gozdarstvo G7
LOCATION:Department of forestry\, Predavalnica Gozdarstvo G7
ORGANIZER:Kristjan Jarni
X-WR-TIMEZONE:Europe/Ljubljana
END:VEVENT
END:VCALENDAR
