BEGIN:VCALENDAR
VERSION:2.0
PRODID:-//AFLabs urnik izvoz - bf//aflabs.si//SI
NAME:UL BF Urnik
X-WR-CALNAME:UL BF Urnik
DTSTAMP:20260424T134353Z
REFRESH-INTERVAL:PT1H
SOURCE:https://urniki.bf.uni-lj.si/en/teacher/382/?day=2026-02-02&export=1
URL:https://urniki.bf.uni-lj.si/en/teacher/382/?day=2026-02-02&export=1
X-PUBLISHED-TTL:PT1H
X-WR-TIMEZONE:Europe/Ljubljana
BEGIN:VTIMEZONE
TZID:Europe/Ljubljana
BEGIN:DAYLIGHT
DTSTART:20260329T020000
RDATE:20260329T020000
RDATE:20270328T020000
TZNAME:CEST
TZOFFSETFROM:+0100
TZOFFSETTO:+0200
END:DAYLIGHT
BEGIN:STANDARD
DTSTART:20261025T030000
RDATE:20261025T030000
RDATE:20271031T030000
TZNAME:CET
TZOFFSETFROM:+0200
TZOFFSETTO:+0100
END:STANDARD
END:VTIMEZONE
BEGIN:VEVENT
SUMMARY:Dietetika in klinična prehrana (ZT205)\, predavanja in seminarji 
 (P+S)
DTSTART;TZID=Europe/Ljubljana:20251001T140000
DTEND;TZID=Europe/Ljubljana:20251001T170000
DTSTAMP:20260424T134353Z
UID:bf-AFLABS-URNIK:srecanje:24696-2025-10-01 14:00:00+02:00
DESCRIPTION:Predmet: Dietetika in klinična prehrana (ZT205)\, predavanja 
 in seminarji (P+S)\nLetniki: Prehrana 2. letnik (MN)\nIzvajalci: Nada Roto
 vnik Kozjek\nProstor: Predavalnica Živilstvo Ž4
END:VEVENT
BEGIN:VEVENT
SUMMARY:Dietetika in klinična prehrana (ZT205)\, predavanja in seminarji 
 (P+S)
DTSTART;TZID=Europe/Ljubljana:20251008T140000
DTEND;TZID=Europe/Ljubljana:20251008T170000
DTSTAMP:20260424T134353Z
UID:bf-AFLABS-URNIK:srecanje:24696-2025-10-08 14:00:00+02:00
DESCRIPTION:Predmet: Dietetika in klinična prehrana (ZT205)\, predavanja 
 in seminarji (P+S)\nLetniki: Prehrana 2. letnik (MN)\nIzvajalci: Nada Roto
 vnik Kozjek\nProstor: Predavalnica Živilstvo Ž4
END:VEVENT
BEGIN:VEVENT
SUMMARY:Dietetika in klinična prehrana (ZT205)\, predavanja in seminarji 
 (P+S)
DTSTART;TZID=Europe/Ljubljana:20251015T140000
DTEND;TZID=Europe/Ljubljana:20251015T170000
DTSTAMP:20260424T134353Z
UID:bf-AFLABS-URNIK:srecanje:24696-2025-10-15 14:00:00+02:00
DESCRIPTION:Predmet: Dietetika in klinična prehrana (ZT205)\, predavanja 
 in seminarji (P+S)\nLetniki: Prehrana 2. letnik (MN)\nIzvajalci: Nada Roto
 vnik Kozjek\nProstor: Predavalnica Živilstvo Ž4
END:VEVENT
BEGIN:VEVENT
SUMMARY:Dietetika in klinična prehrana (ZT205)\, predavanja in seminarji 
 (P+S)
DTSTART;TZID=Europe/Ljubljana:20251022T140000
DTEND;TZID=Europe/Ljubljana:20251022T170000
DTSTAMP:20260424T134353Z
UID:bf-AFLABS-URNIK:srecanje:24696-2025-10-22 14:00:00+02:00
DESCRIPTION:Predmet: Dietetika in klinična prehrana (ZT205)\, predavanja 
 in seminarji (P+S)\nLetniki: Prehrana 2. letnik (MN)\nIzvajalci: Nada Roto
 vnik Kozjek\nProstor: Predavalnica Živilstvo Ž4
END:VEVENT
BEGIN:VEVENT
SUMMARY:Dietetika in klinična prehrana (ZT205)\, predavanja in seminarji 
 (P+S)
DTSTART;TZID=Europe/Ljubljana:20251029T140000
DTEND;TZID=Europe/Ljubljana:20251029T170000
DTSTAMP:20260424T134353Z
UID:bf-AFLABS-URNIK:srecanje:24696-2025-10-29 14:00:00+01:00
DESCRIPTION:Predmet: Dietetika in klinična prehrana (ZT205)\, predavanja 
 in seminarji (P+S)\nLetniki: Prehrana 2. letnik (MN)\nIzvajalci: Nada Roto
 vnik Kozjek\nProstor: Predavalnica Živilstvo Ž4
END:VEVENT
BEGIN:VEVENT
SUMMARY:Dietetika in klinična prehrana (ZT205)\, predavanja in seminarji 
 (P+S)
DTSTART;TZID=Europe/Ljubljana:20251105T140000
DTEND;TZID=Europe/Ljubljana:20251105T170000
DTSTAMP:20260424T134353Z
UID:bf-AFLABS-URNIK:srecanje:24696-2025-11-05 14:00:00+01:00
DESCRIPTION:Predmet: Dietetika in klinična prehrana (ZT205)\, predavanja 
 in seminarji (P+S)\nLetniki: Prehrana 2. letnik (MN)\nIzvajalci: Nada Roto
 vnik Kozjek\nProstor: Predavalnica Živilstvo Ž4
END:VEVENT
BEGIN:VEVENT
SUMMARY:Dietetika in klinična prehrana (ZT205)\, predavanja in seminarji 
 (P+S)
DTSTART;TZID=Europe/Ljubljana:20251112T140000
DTEND;TZID=Europe/Ljubljana:20251112T170000
DTSTAMP:20260424T134353Z
UID:bf-AFLABS-URNIK:srecanje:24696-2025-11-12 14:00:00+01:00
DESCRIPTION:Predmet: Dietetika in klinična prehrana (ZT205)\, predavanja 
 in seminarji (P+S)\nLetniki: Prehrana 2. letnik (MN)\nIzvajalci: Nada Roto
 vnik Kozjek\nProstor: Predavalnica Živilstvo Ž4
END:VEVENT
BEGIN:VEVENT
SUMMARY:Dietetika in klinična prehrana (ZT205)\, predavanja in seminarji 
 (P+S)
DTSTART;TZID=Europe/Ljubljana:20251007T140000
DTEND;TZID=Europe/Ljubljana:20251007T180000
DTSTAMP:20260424T134353Z
UID:bf-AFLABS-URNIK:srecanje:24695-2025-10-07 14:00:00+02:00
DESCRIPTION:Predmet: Dietetika in klinična prehrana (ZT205)\, predavanja 
 in seminarji (P+S)\nLetniki: Prehrana 2. letnik (MN)\nIzvajalci: Nada Roto
 vnik Kozjek\nProstor: Predavalnica Živilstvo Ž4
END:VEVENT
BEGIN:VEVENT
SUMMARY:Dietetika in klinična prehrana (ZT205)\, predavanja in seminarji 
 (P+S)
DTSTART;TZID=Europe/Ljubljana:20251014T140000
DTEND;TZID=Europe/Ljubljana:20251014T180000
DTSTAMP:20260424T134353Z
UID:bf-AFLABS-URNIK:srecanje:24695-2025-10-14 14:00:00+02:00
DESCRIPTION:Predmet: Dietetika in klinična prehrana (ZT205)\, predavanja 
 in seminarji (P+S)\nLetniki: Prehrana 2. letnik (MN)\nIzvajalci: Nada Roto
 vnik Kozjek\nProstor: Predavalnica Živilstvo Ž4
END:VEVENT
BEGIN:VEVENT
SUMMARY:Dietetika in klinična prehrana (ZT205)\, predavanja in seminarji 
 (P+S)
DTSTART;TZID=Europe/Ljubljana:20251021T140000
DTEND;TZID=Europe/Ljubljana:20251021T180000
DTSTAMP:20260424T134353Z
UID:bf-AFLABS-URNIK:srecanje:24695-2025-10-21 14:00:00+02:00
DESCRIPTION:Predmet: Dietetika in klinična prehrana (ZT205)\, predavanja 
 in seminarji (P+S)\nLetniki: Prehrana 2. letnik (MN)\nIzvajalci: Nada Roto
 vnik Kozjek\nProstor: Predavalnica Živilstvo Ž4
END:VEVENT
BEGIN:VEVENT
SUMMARY:Dietetika in klinična prehrana (ZT205)\, predavanja in seminarji 
 (P+S)
DTSTART;TZID=Europe/Ljubljana:20251028T140000
DTEND;TZID=Europe/Ljubljana:20251028T180000
DTSTAMP:20260424T134353Z
UID:bf-AFLABS-URNIK:srecanje:24695-2025-10-28 14:00:00+01:00
DESCRIPTION:Predmet: Dietetika in klinična prehrana (ZT205)\, predavanja 
 in seminarji (P+S)\nLetniki: Prehrana 2. letnik (MN)\nIzvajalci: Nada Roto
 vnik Kozjek\nProstor: Predavalnica Živilstvo Ž4
END:VEVENT
BEGIN:VEVENT
SUMMARY:Dietetika in klinična prehrana (ZT205)\, predavanja in seminarji 
 (P+S)
DTSTART;TZID=Europe/Ljubljana:20251104T140000
DTEND;TZID=Europe/Ljubljana:20251104T180000
DTSTAMP:20260424T134353Z
UID:bf-AFLABS-URNIK:srecanje:24695-2025-11-04 14:00:00+01:00
DESCRIPTION:Predmet: Dietetika in klinična prehrana (ZT205)\, predavanja 
 in seminarji (P+S)\nLetniki: Prehrana 2. letnik (MN)\nIzvajalci: Nada Roto
 vnik Kozjek\nProstor: Predavalnica Živilstvo Ž4
END:VEVENT
BEGIN:VEVENT
SUMMARY:Dietetika in klinična prehrana (ZT205)\, predavanja in seminarji 
 (P+S)
DTSTART;TZID=Europe/Ljubljana:20251111T140000
DTEND;TZID=Europe/Ljubljana:20251111T180000
DTSTAMP:20260424T134353Z
UID:bf-AFLABS-URNIK:srecanje:24695-2025-11-11 14:00:00+01:00
DESCRIPTION:Predmet: Dietetika in klinična prehrana (ZT205)\, predavanja 
 in seminarji (P+S)\nLetniki: Prehrana 2. letnik (MN)\nIzvajalci: Nada Roto
 vnik Kozjek\nProstor: Predavalnica Živilstvo Ž4
END:VEVENT
BEGIN:VEVENT
SUMMARY:Prehrana športnikov (ZT232)\, predavanja in seminarske vaje (P+SV
 )
DTSTART;TZID=Europe/Ljubljana:20251125T150000
DTEND;TZID=Europe/Ljubljana:20251125T190000
DTSTAMP:20260424T134353Z
UID:bf-AFLABS-URNIK:srecanje:26430-2025-11-25 15:00:00+01:00
DESCRIPTION:Predmet: Prehrana športnikov (ZT232)\, predavanja in seminars
 ke vaje (P+SV)\nLetniki: Prehrana 1. letnik (MN)\, Prehrana 2. letnik (MN)
 \nIzvajalci: Bojan Knap\, Eva Peklaj\, Nada Rotovnik Kozjek\nProstor: Pred
 avalnica Živilstvo Ž4
END:VEVENT
BEGIN:VEVENT
SUMMARY:Prehrana športnikov (ZT232)\, predavanja in seminarske vaje (P+SV
 )
DTSTART;TZID=Europe/Ljubljana:20251202T150000
DTEND;TZID=Europe/Ljubljana:20251202T190000
DTSTAMP:20260424T134353Z
UID:bf-AFLABS-URNIK:srecanje:26430-2025-12-02 15:00:00+01:00
DESCRIPTION:Predmet: Prehrana športnikov (ZT232)\, predavanja in seminars
 ke vaje (P+SV)\nLetniki: Prehrana 1. letnik (MN)\, Prehrana 2. letnik (MN)
 \nIzvajalci: Bojan Knap\, Eva Peklaj\, Nada Rotovnik Kozjek\nProstor: Pred
 avalnica Živilstvo Ž4
END:VEVENT
BEGIN:VEVENT
SUMMARY:Prehrana športnikov (ZT232)\, predavanja in seminarske vaje (P+SV
 )
DTSTART;TZID=Europe/Ljubljana:20251209T150000
DTEND;TZID=Europe/Ljubljana:20251209T190000
DTSTAMP:20260424T134353Z
UID:bf-AFLABS-URNIK:srecanje:26430-2025-12-09 15:00:00+01:00
DESCRIPTION:Predmet: Prehrana športnikov (ZT232)\, predavanja in seminars
 ke vaje (P+SV)\nLetniki: Prehrana 1. letnik (MN)\, Prehrana 2. letnik (MN)
 \nIzvajalci: Bojan Knap\, Eva Peklaj\, Nada Rotovnik Kozjek\nProstor: Pred
 avalnica Živilstvo Ž4
END:VEVENT
BEGIN:VEVENT
SUMMARY:Prehrana športnikov (ZT232)\, predavanja in seminarske vaje (P+SV
 )
DTSTART;TZID=Europe/Ljubljana:20251216T150000
DTEND;TZID=Europe/Ljubljana:20251216T190000
DTSTAMP:20260424T134353Z
UID:bf-AFLABS-URNIK:srecanje:26430-2025-12-16 15:00:00+01:00
DESCRIPTION:Predmet: Prehrana športnikov (ZT232)\, predavanja in seminars
 ke vaje (P+SV)\nLetniki: Prehrana 1. letnik (MN)\, Prehrana 2. letnik (MN)
 \nIzvajalci: Bojan Knap\, Eva Peklaj\, Nada Rotovnik Kozjek\nProstor: Pred
 avalnica Živilstvo Ž4
END:VEVENT
BEGIN:VEVENT
SUMMARY:Prehrana športnikov (ZT232)\, predavanja in seminarske vaje (P+SV
 )
DTSTART;TZID=Europe/Ljubljana:20251223T150000
DTEND;TZID=Europe/Ljubljana:20251223T190000
DTSTAMP:20260424T134353Z
UID:bf-AFLABS-URNIK:srecanje:26430-2025-12-23 15:00:00+01:00
DESCRIPTION:Predmet: Prehrana športnikov (ZT232)\, predavanja in seminars
 ke vaje (P+SV)\nLetniki: Prehrana 1. letnik (MN)\, Prehrana 2. letnik (MN)
 \nIzvajalci: Bojan Knap\, Eva Peklaj\, Nada Rotovnik Kozjek\nProstor: Pred
 avalnica Živilstvo Ž4
END:VEVENT
BEGIN:VEVENT
SUMMARY:Prehrana športnikov (ZT232)\, predavanja in seminarske vaje (P+SV
 )
DTSTART;TZID=Europe/Ljubljana:20251230T150000
DTEND;TZID=Europe/Ljubljana:20251230T190000
DTSTAMP:20260424T134353Z
UID:bf-AFLABS-URNIK:srecanje:26430-2025-12-30 15:00:00+01:00
DESCRIPTION:Predmet: Prehrana športnikov (ZT232)\, predavanja in seminars
 ke vaje (P+SV)\nLetniki: Prehrana 1. letnik (MN)\, Prehrana 2. letnik (MN)
 \nIzvajalci: Bojan Knap\, Eva Peklaj\, Nada Rotovnik Kozjek\nProstor: Pred
 avalnica Živilstvo Ž4
END:VEVENT
BEGIN:VEVENT
SUMMARY:Prehrana športnikov (ZT232)\, predavanja in seminarske vaje (P+SV
 )
DTSTART;TZID=Europe/Ljubljana:20260106T150000
DTEND;TZID=Europe/Ljubljana:20260106T190000
DTSTAMP:20260424T134353Z
UID:bf-AFLABS-URNIK:srecanje:26430-2026-01-06 15:00:00+01:00
DESCRIPTION:Predmet: Prehrana športnikov (ZT232)\, predavanja in seminars
 ke vaje (P+SV)\nLetniki: Prehrana 1. letnik (MN)\, Prehrana 2. letnik (MN)
 \nIzvajalci: Bojan Knap\, Eva Peklaj\, Nada Rotovnik Kozjek\nProstor: Pred
 avalnica Živilstvo Ž4
END:VEVENT
BEGIN:VEVENT
SUMMARY:Prehrana športnikov (ZT232)\, predavanja in seminarske vaje (P+SV
 )
DTSTART;TZID=Europe/Ljubljana:20260113T150000
DTEND;TZID=Europe/Ljubljana:20260113T190000
DTSTAMP:20260424T134353Z
UID:bf-AFLABS-URNIK:srecanje:26430-2026-01-13 15:00:00+01:00
DESCRIPTION:Predmet: Prehrana športnikov (ZT232)\, predavanja in seminars
 ke vaje (P+SV)\nLetniki: Prehrana 1. letnik (MN)\, Prehrana 2. letnik (MN)
 \nIzvajalci: Bojan Knap\, Eva Peklaj\, Nada Rotovnik Kozjek\nProstor: Pred
 avalnica Živilstvo Ž4
END:VEVENT
BEGIN:VEVENT
SUMMARY:Prehrana športnikov (ZT232)\, predavanja (P)
DTSTART;TZID=Europe/Ljubljana:20251128T140000
DTEND;TZID=Europe/Ljubljana:20251128T180000
DTSTAMP:20260424T134353Z
UID:bf-AFLABS-URNIK:srecanje:26429-2025-11-28 14:00:00+01:00
DESCRIPTION:Predmet: Prehrana športnikov (ZT232)\, predavanja (P)\nLetnik
 i: Prehrana 1. letnik (MN)\, Prehrana 2. letnik (MN)\nIzvajalci: Bojan Kna
 p\, Nada Rotovnik Kozjek\nProstor: Predavalnica Živilstvo Ž4
END:VEVENT
BEGIN:VEVENT
SUMMARY:Prehrana športnikov (ZT232)\, predavanja (P)
DTSTART;TZID=Europe/Ljubljana:20251205T140000
DTEND;TZID=Europe/Ljubljana:20251205T180000
DTSTAMP:20260424T134353Z
UID:bf-AFLABS-URNIK:srecanje:26429-2025-12-05 14:00:00+01:00
DESCRIPTION:Predmet: Prehrana športnikov (ZT232)\, predavanja (P)\nLetnik
 i: Prehrana 1. letnik (MN)\, Prehrana 2. letnik (MN)\nIzvajalci: Bojan Kna
 p\, Nada Rotovnik Kozjek\nProstor: Predavalnica Živilstvo Ž4
END:VEVENT
BEGIN:VEVENT
SUMMARY:Prehrana športnikov (ZT232)\, predavanja (P)
DTSTART;TZID=Europe/Ljubljana:20251212T140000
DTEND;TZID=Europe/Ljubljana:20251212T180000
DTSTAMP:20260424T134353Z
UID:bf-AFLABS-URNIK:srecanje:26429-2025-12-12 14:00:00+01:00
DESCRIPTION:Predmet: Prehrana športnikov (ZT232)\, predavanja (P)\nLetnik
 i: Prehrana 1. letnik (MN)\, Prehrana 2. letnik (MN)\nIzvajalci: Bojan Kna
 p\, Nada Rotovnik Kozjek\nProstor: Predavalnica Živilstvo Ž4
END:VEVENT
BEGIN:VEVENT
SUMMARY:Prehrana športnikov (ZT232)\, predavanja (P)
DTSTART;TZID=Europe/Ljubljana:20251219T140000
DTEND;TZID=Europe/Ljubljana:20251219T180000
DTSTAMP:20260424T134353Z
UID:bf-AFLABS-URNIK:srecanje:26429-2025-12-19 14:00:00+01:00
DESCRIPTION:Predmet: Prehrana športnikov (ZT232)\, predavanja (P)\nLetnik
 i: Prehrana 1. letnik (MN)\, Prehrana 2. letnik (MN)\nIzvajalci: Bojan Kna
 p\, Nada Rotovnik Kozjek\nProstor: Predavalnica Živilstvo Ž4
END:VEVENT
BEGIN:VEVENT
SUMMARY:Prehrana športnikov (ZT232)\, predavanja (P)
DTSTART;TZID=Europe/Ljubljana:20251226T140000
DTEND;TZID=Europe/Ljubljana:20251226T180000
DTSTAMP:20260424T134353Z
UID:bf-AFLABS-URNIK:srecanje:26429-2025-12-26 14:00:00+01:00
DESCRIPTION:Predmet: Prehrana športnikov (ZT232)\, predavanja (P)\nLetnik
 i: Prehrana 1. letnik (MN)\, Prehrana 2. letnik (MN)\nIzvajalci: Bojan Kna
 p\, Nada Rotovnik Kozjek\nProstor: Predavalnica Živilstvo Ž4
END:VEVENT
BEGIN:VEVENT
SUMMARY:Prehrana športnikov (ZT232)\, predavanja (P)
DTSTART;TZID=Europe/Ljubljana:20260102T140000
DTEND;TZID=Europe/Ljubljana:20260102T180000
DTSTAMP:20260424T134353Z
UID:bf-AFLABS-URNIK:srecanje:26429-2026-01-02 14:00:00+01:00
DESCRIPTION:Predmet: Prehrana športnikov (ZT232)\, predavanja (P)\nLetnik
 i: Prehrana 1. letnik (MN)\, Prehrana 2. letnik (MN)\nIzvajalci: Bojan Kna
 p\, Nada Rotovnik Kozjek\nProstor: Predavalnica Živilstvo Ž4
END:VEVENT
BEGIN:VEVENT
SUMMARY:Prehrana športnikov (ZT232)\, predavanja (P)
DTSTART;TZID=Europe/Ljubljana:20260109T140000
DTEND;TZID=Europe/Ljubljana:20260109T180000
DTSTAMP:20260424T134353Z
UID:bf-AFLABS-URNIK:srecanje:26429-2026-01-09 14:00:00+01:00
DESCRIPTION:Predmet: Prehrana športnikov (ZT232)\, predavanja (P)\nLetnik
 i: Prehrana 1. letnik (MN)\, Prehrana 2. letnik (MN)\nIzvajalci: Bojan Kna
 p\, Nada Rotovnik Kozjek\nProstor: Predavalnica Živilstvo Ž4
END:VEVENT
BEGIN:VEVENT
SUMMARY:Prehrana športnikov (ZT232)\, predavanja (P)
DTSTART;TZID=Europe/Ljubljana:20260116T140000
DTEND;TZID=Europe/Ljubljana:20260116T180000
DTSTAMP:20260424T134353Z
UID:bf-AFLABS-URNIK:srecanje:26429-2026-01-16 14:00:00+01:00
DESCRIPTION:Predmet: Prehrana športnikov (ZT232)\, predavanja (P)\nLetnik
 i: Prehrana 1. letnik (MN)\, Prehrana 2. letnik (MN)\nIzvajalci: Bojan Kna
 p\, Nada Rotovnik Kozjek\nProstor: Predavalnica Živilstvo Ž4
END:VEVENT
BEGIN:VEVENT
SUMMARY:Izpit ZT2 Prehrana športnikov
DTSTART;TZID=Europe/Ljubljana:20260204T080000
DTEND;TZID=Europe/Ljubljana:20260204T100000
DTSTAMP:20260424T134353Z
UID:bf-AFLABS-URNIK:rezervacija:26308
CATEGORIES:Reservation
COLOR:royalblue
DESCRIPTION:Predmeti: \nLetniki: \nIzvajalci: Nada Rotovnik Kozjek\nProsto
 ri: Predavalnica Živilstvo Ž2
LOCATION:Department of food science\, Predavalnica Živilstvo Ž2
ORGANIZER:Nada Rotovnik Kozjek
X-WR-TIMEZONE:Europe/Ljubljana
END:VEVENT
BEGIN:VEVENT
SUMMARY:Izpit ZT2 Dietetika in klinična prehrana
DTSTART;TZID=Europe/Ljubljana:20260127T160000
DTEND;TZID=Europe/Ljubljana:20260127T180000
DTSTAMP:20260424T134353Z
UID:bf-AFLABS-URNIK:rezervacija:24753
CATEGORIES:Reservation
COLOR:royalblue
DESCRIPTION:Predmeti: \nLetniki: \nIzvajalci: Nada Rotovnik Kozjek\nProsto
 ri: Predavalnica Živilstvo Ž2
LOCATION:Department of food science\, Predavalnica Živilstvo Ž2
ORGANIZER:Nada Rotovnik Kozjek
X-WR-TIMEZONE:Europe/Ljubljana
END:VEVENT
BEGIN:VEVENT
SUMMARY:Izpit ZT2 Dietetika in klinična prehrana
DTSTART;TZID=Europe/Ljubljana:20251120T160000
DTEND;TZID=Europe/Ljubljana:20251120T180000
DTSTAMP:20260424T134353Z
UID:bf-AFLABS-URNIK:rezervacija:24752
CATEGORIES:Reservation
COLOR:royalblue
DESCRIPTION:Predmeti: \nLetniki: \nIzvajalci: Nada Rotovnik Kozjek\nProsto
 ri: Predavalnica Živilstvo Ž2
LOCATION:Department of food science\, Predavalnica Živilstvo Ž2
ORGANIZER:Nada Rotovnik Kozjek
X-WR-TIMEZONE:Europe/Ljubljana
END:VEVENT
BEGIN:VEVENT
SUMMARY:Izpit ZT2 Dietetika in klinična prehrana
DTSTART;TZID=Europe/Ljubljana:20260609T160000
DTEND;TZID=Europe/Ljubljana:20260609T180000
DTSTAMP:20260424T134353Z
UID:bf-AFLABS-URNIK:rezervacija:24754
CATEGORIES:Reservation
COLOR:royalblue
DESCRIPTION:Predmeti: \nLetniki: \nIzvajalci: Nada Rotovnik Kozjek\nProsto
 ri: Predavalnica Živilstvo Ž2
LOCATION:Department of food science\, Predavalnica Živilstvo Ž2
ORGANIZER:Nada Rotovnik Kozjek
X-WR-TIMEZONE:Europe/Ljubljana
END:VEVENT
END:VCALENDAR
