BEGIN:VCALENDAR
VERSION:2.0
PRODID:-//AFLabs urnik izvoz - bf//aflabs.si//SI
NAME:UL BF Urnik
X-WR-CALNAME:UL BF Urnik
DTSTAMP:20260425T005540Z
REFRESH-INTERVAL:PT1H
SOURCE:https://urniki.bf.uni-lj.si/en/teacher/364/?day=2025-10-06&export=1
URL:https://urniki.bf.uni-lj.si/en/teacher/364/?day=2025-10-06&export=1
X-PUBLISHED-TTL:PT1H
X-WR-TIMEZONE:Europe/Ljubljana
BEGIN:VTIMEZONE
TZID:Europe/Ljubljana
BEGIN:DAYLIGHT
DTSTART:20260329T020000
RDATE:20260329T020000
RDATE:20270328T020000
TZNAME:CEST
TZOFFSETFROM:+0100
TZOFFSETTO:+0200
END:DAYLIGHT
BEGIN:STANDARD
DTSTART:20261025T030000
RDATE:20261025T030000
RDATE:20271031T030000
TZNAME:CET
TZOFFSETFROM:+0200
TZOFFSETTO:+0100
END:STANDARD
END:VTIMEZONE
BEGIN:VEVENT
SUMMARY:Tehnologija predelave poljščin (ZT303)\, laboratorijske vaje (LV
 )\, [:1]
DTSTART;TZID=Europe/Ljubljana:20251007T080000
DTEND;TZID=Europe/Ljubljana:20251007T103000
DTSTAMP:20260425T005540Z
UID:bf-AFLABS-URNIK:srecanje:25483-2025-10-07 08:00:00+02:00
DESCRIPTION:Predmet: Tehnologija predelave poljščin (ZT303)\, laboratori
 jske vaje (LV)\, [:1]\nLetniki: Živilstvo 2. letnik (MFS)\nIzvajalci: Pet
 ra Terpinc\nProstor: Laboratorij za predelavo rastlinskih živil (Živilst
 vo)
END:VEVENT
BEGIN:VEVENT
SUMMARY:Tehnologija predelave poljščin (ZT303)\, laboratorijske vaje (LV
 )\, [:1]
DTSTART;TZID=Europe/Ljubljana:20251014T080000
DTEND;TZID=Europe/Ljubljana:20251014T103000
DTSTAMP:20260425T005540Z
UID:bf-AFLABS-URNIK:srecanje:25483-2025-10-14 08:00:00+02:00
DESCRIPTION:Predmet: Tehnologija predelave poljščin (ZT303)\, laboratori
 jske vaje (LV)\, [:1]\nLetniki: Živilstvo 2. letnik (MFS)\nIzvajalci: Pet
 ra Terpinc\nProstor: Laboratorij za predelavo rastlinskih živil (Živilst
 vo)
END:VEVENT
BEGIN:VEVENT
SUMMARY:Tehnologija predelave poljščin (ZT303)\, laboratorijske vaje (LV
 )\, [:1]
DTSTART;TZID=Europe/Ljubljana:20251021T080000
DTEND;TZID=Europe/Ljubljana:20251021T103000
DTSTAMP:20260425T005540Z
UID:bf-AFLABS-URNIK:srecanje:25483-2025-10-21 08:00:00+02:00
DESCRIPTION:Predmet: Tehnologija predelave poljščin (ZT303)\, laboratori
 jske vaje (LV)\, [:1]\nLetniki: Živilstvo 2. letnik (MFS)\nIzvajalci: Pet
 ra Terpinc\nProstor: Laboratorij za predelavo rastlinskih živil (Živilst
 vo)
END:VEVENT
BEGIN:VEVENT
SUMMARY:Tehnologija predelave poljščin (ZT303)\, laboratorijske vaje (LV
 )\, [:1]
DTSTART;TZID=Europe/Ljubljana:20251028T080000
DTEND;TZID=Europe/Ljubljana:20251028T103000
DTSTAMP:20260425T005540Z
UID:bf-AFLABS-URNIK:srecanje:25483-2025-10-28 08:00:00+01:00
DESCRIPTION:Predmet: Tehnologija predelave poljščin (ZT303)\, laboratori
 jske vaje (LV)\, [:1]\nLetniki: Živilstvo 2. letnik (MFS)\nIzvajalci: Pet
 ra Terpinc\nProstor: Laboratorij za predelavo rastlinskih živil (Živilst
 vo)
END:VEVENT
BEGIN:VEVENT
SUMMARY:Tehnologija predelave poljščin (ZT303)\, laboratorijske vaje (LV
 )\, [:1]
DTSTART;TZID=Europe/Ljubljana:20251104T080000
DTEND;TZID=Europe/Ljubljana:20251104T103000
DTSTAMP:20260425T005540Z
UID:bf-AFLABS-URNIK:srecanje:25483-2025-11-04 08:00:00+01:00
DESCRIPTION:Predmet: Tehnologija predelave poljščin (ZT303)\, laboratori
 jske vaje (LV)\, [:1]\nLetniki: Živilstvo 2. letnik (MFS)\nIzvajalci: Pet
 ra Terpinc\nProstor: Laboratorij za predelavo rastlinskih živil (Živilst
 vo)
END:VEVENT
BEGIN:VEVENT
SUMMARY:Tehnologija predelave poljščin (ZT303)\, laboratorijske vaje (LV
 )\, [:1]
DTSTART;TZID=Europe/Ljubljana:20251111T080000
DTEND;TZID=Europe/Ljubljana:20251111T103000
DTSTAMP:20260425T005540Z
UID:bf-AFLABS-URNIK:srecanje:25483-2025-11-11 08:00:00+01:00
DESCRIPTION:Predmet: Tehnologija predelave poljščin (ZT303)\, laboratori
 jske vaje (LV)\, [:1]\nLetniki: Živilstvo 2. letnik (MFS)\nIzvajalci: Pet
 ra Terpinc\nProstor: Laboratorij za predelavo rastlinskih živil (Živilst
 vo)
END:VEVENT
BEGIN:VEVENT
SUMMARY:Tehnologija predelave poljščin (ZT303)\, laboratorijske vaje (LV
 )\, [:2]
DTSTART;TZID=Europe/Ljubljana:20251007T103000
DTEND;TZID=Europe/Ljubljana:20251007T130000
DTSTAMP:20260425T005540Z
UID:bf-AFLABS-URNIK:srecanje:25484-2025-10-07 10:30:00+02:00
DESCRIPTION:Predmet: Tehnologija predelave poljščin (ZT303)\, laboratori
 jske vaje (LV)\, [:2]\nLetniki: Živilstvo 2. letnik (MFS)\nIzvajalci: Pet
 ra Terpinc\nProstor: Laboratorij za predelavo rastlinskih živil (Živilst
 vo)
END:VEVENT
BEGIN:VEVENT
SUMMARY:Tehnologija predelave poljščin (ZT303)\, laboratorijske vaje (LV
 )\, [:2]
DTSTART;TZID=Europe/Ljubljana:20251014T103000
DTEND;TZID=Europe/Ljubljana:20251014T130000
DTSTAMP:20260425T005540Z
UID:bf-AFLABS-URNIK:srecanje:25484-2025-10-14 10:30:00+02:00
DESCRIPTION:Predmet: Tehnologija predelave poljščin (ZT303)\, laboratori
 jske vaje (LV)\, [:2]\nLetniki: Živilstvo 2. letnik (MFS)\nIzvajalci: Pet
 ra Terpinc\nProstor: Laboratorij za predelavo rastlinskih živil (Živilst
 vo)
END:VEVENT
BEGIN:VEVENT
SUMMARY:Tehnologija predelave poljščin (ZT303)\, laboratorijske vaje (LV
 )\, [:2]
DTSTART;TZID=Europe/Ljubljana:20251021T103000
DTEND;TZID=Europe/Ljubljana:20251021T130000
DTSTAMP:20260425T005540Z
UID:bf-AFLABS-URNIK:srecanje:25484-2025-10-21 10:30:00+02:00
DESCRIPTION:Predmet: Tehnologija predelave poljščin (ZT303)\, laboratori
 jske vaje (LV)\, [:2]\nLetniki: Živilstvo 2. letnik (MFS)\nIzvajalci: Pet
 ra Terpinc\nProstor: Laboratorij za predelavo rastlinskih živil (Živilst
 vo)
END:VEVENT
BEGIN:VEVENT
SUMMARY:Tehnologija predelave poljščin (ZT303)\, laboratorijske vaje (LV
 )\, [:2]
DTSTART;TZID=Europe/Ljubljana:20251028T103000
DTEND;TZID=Europe/Ljubljana:20251028T130000
DTSTAMP:20260425T005540Z
UID:bf-AFLABS-URNIK:srecanje:25484-2025-10-28 10:30:00+01:00
DESCRIPTION:Predmet: Tehnologija predelave poljščin (ZT303)\, laboratori
 jske vaje (LV)\, [:2]\nLetniki: Živilstvo 2. letnik (MFS)\nIzvajalci: Pet
 ra Terpinc\nProstor: Laboratorij za predelavo rastlinskih živil (Živilst
 vo)
END:VEVENT
BEGIN:VEVENT
SUMMARY:Tehnologija predelave poljščin (ZT303)\, laboratorijske vaje (LV
 )\, [:2]
DTSTART;TZID=Europe/Ljubljana:20251104T103000
DTEND;TZID=Europe/Ljubljana:20251104T130000
DTSTAMP:20260425T005540Z
UID:bf-AFLABS-URNIK:srecanje:25484-2025-11-04 10:30:00+01:00
DESCRIPTION:Predmet: Tehnologija predelave poljščin (ZT303)\, laboratori
 jske vaje (LV)\, [:2]\nLetniki: Živilstvo 2. letnik (MFS)\nIzvajalci: Pet
 ra Terpinc\nProstor: Laboratorij za predelavo rastlinskih živil (Živilst
 vo)
END:VEVENT
BEGIN:VEVENT
SUMMARY:Tehnologija predelave poljščin (ZT303)\, laboratorijske vaje (LV
 )\, [:2]
DTSTART;TZID=Europe/Ljubljana:20251111T103000
DTEND;TZID=Europe/Ljubljana:20251111T130000
DTSTAMP:20260425T005540Z
UID:bf-AFLABS-URNIK:srecanje:25484-2025-11-11 10:30:00+01:00
DESCRIPTION:Predmet: Tehnologija predelave poljščin (ZT303)\, laboratori
 jske vaje (LV)\, [:2]\nLetniki: Živilstvo 2. letnik (MFS)\nIzvajalci: Pet
 ra Terpinc\nProstor: Laboratorij za predelavo rastlinskih živil (Živilst
 vo)
END:VEVENT
BEGIN:VEVENT
SUMMARY:TPP vaje
DTSTART;TZID=Europe/Ljubljana:20251001T100000
DTEND;TZID=Europe/Ljubljana:20251001T120000
DTSTAMP:20260425T005540Z
UID:bf-AFLABS-URNIK:rezervacija:23632
ATTENDEE:Živilstvo 2. letnik (MFS)
CATEGORIES:Reservation
COLOR:royalblue
DESCRIPTION:Predmeti: Tehnologija predelave poljščin (ZT303)\nLetniki: 
 Živilstvo 2. letnik (MFS)\nIzvajalci: Petra Terpinc\nProstori: Sejna soba
  dekanata
LOCATION:Main building\, Sejna soba dekanata
ORGANIZER:Petra Terpinc
X-WR-TIMEZONE:Europe/Ljubljana
END:VEVENT
BEGIN:VEVENT
SUMMARY:kolokvij
DTSTART;TZID=Europe/Ljubljana:20251110T073000
DTEND;TZID=Europe/Ljubljana:20251110T090000
DTSTAMP:20260425T005540Z
UID:bf-AFLABS-URNIK:rezervacija:23946
ATTENDEE:Živilstvo 2. letnik (MFS)
CATEGORIES:Reservation
COLOR:royalblue
DESCRIPTION:Predmeti: Tehnologija predelave poljščin (ZT303)\nLetniki: 
 Živilstvo 2. letnik (MFS)\nIzvajalci: Petra Terpinc\nProstori: Predavalni
 ca Živilstvo Ž2
LOCATION:Department of food science\, Predavalnica Živilstvo Ž2
ORGANIZER:Petra Terpinc
X-WR-TIMEZONE:Europe/Ljubljana
END:VEVENT
BEGIN:VEVENT
SUMMARY:kolokvij TPP2
DTSTART;TZID=Europe/Ljubljana:20251110T130000
DTEND;TZID=Europe/Ljubljana:20251110T150000
DTSTAMP:20260425T005540Z
UID:bf-AFLABS-URNIK:rezervacija:24697
ATTENDEE:Živilstvo 2. letnik (MFS)
CATEGORIES:Reservation
COLOR:royalblue
DESCRIPTION:Predmeti: Tehnologija predelave poljščin (ZT303)\nLetniki: 
 Živilstvo 2. letnik (MFS)\nIzvajalci: Petra Terpinc\nProstori: Predavalni
 ca Dekanat D1\, Dvorana prof. dr. Janeza Hribarja
LOCATION:Main building\, Predavalnica Dekanat D1\, Dvorana prof. dr. Janez
 a Hribarja
ORGANIZER:Petra Terpinc
X-WR-TIMEZONE:Europe/Ljubljana
END:VEVENT
END:VCALENDAR
