BEGIN:VCALENDAR
VERSION:2.0
PRODID:-//AFLabs urnik izvoz - bf//aflabs.si//SI
NAME:UL BF Urnik
X-WR-CALNAME:UL BF Urnik
DTSTAMP:20260420T173022Z
REFRESH-INTERVAL:PT1H
SOURCE:https://urniki.bf.uni-lj.si/en/teacher/355/?day=2025-11-10&export=1
URL:https://urniki.bf.uni-lj.si/en/teacher/355/?day=2025-11-10&export=1
X-PUBLISHED-TTL:PT1H
X-WR-TIMEZONE:Europe/Ljubljana
BEGIN:VTIMEZONE
TZID:Europe/Ljubljana
BEGIN:DAYLIGHT
DTSTART:20260329T020000
RDATE:20260329T020000
RDATE:20270328T020000
TZNAME:CEST
TZOFFSETFROM:+0100
TZOFFSETTO:+0200
END:DAYLIGHT
BEGIN:STANDARD
DTSTART:20261025T030000
RDATE:20261025T030000
RDATE:20271031T030000
TZNAME:CET
TZOFFSETFROM:+0200
TZOFFSETTO:+0100
END:STANDARD
END:VTIMEZONE
BEGIN:VEVENT
SUMMARY:Osnove hortikulture KA (KA026)\, predavanja (P)
DTSTART;TZID=Europe/Ljubljana:20251001T083000
DTEND;TZID=Europe/Ljubljana:20251001T110000
DTSTAMP:20260420T173022Z
UID:bf-AFLABS-URNIK:srecanje:25247-2025-10-01 08:30:00+02:00
DESCRIPTION:Predmet: Osnove hortikulture KA (KA026)\, predavanja (P)\nLetn
 iki: Krajinska arhitektura 3. letnik (LAUN)\nIzvajalci: Maja Mikulič Petk
 ovšek\, Ana Slatnar\, Robert Veberič\nProstor: Risalnica Krajinska arhit
 ektura 4
END:VEVENT
BEGIN:VEVENT
SUMMARY:Osnove hortikulture KA (KA026)\, predavanja (P)
DTSTART;TZID=Europe/Ljubljana:20251008T083000
DTEND;TZID=Europe/Ljubljana:20251008T110000
DTSTAMP:20260420T173022Z
UID:bf-AFLABS-URNIK:srecanje:25247-2025-10-08 08:30:00+02:00
DESCRIPTION:Predmet: Osnove hortikulture KA (KA026)\, predavanja (P)\nLetn
 iki: Krajinska arhitektura 3. letnik (LAUN)\nIzvajalci: Maja Mikulič Petk
 ovšek\, Ana Slatnar\, Robert Veberič\nProstor: Risalnica Krajinska arhit
 ektura 4
END:VEVENT
BEGIN:VEVENT
SUMMARY:Osnove hortikulture KA (KA026)\, predavanja (P)
DTSTART;TZID=Europe/Ljubljana:20251015T083000
DTEND;TZID=Europe/Ljubljana:20251015T110000
DTSTAMP:20260420T173022Z
UID:bf-AFLABS-URNIK:srecanje:25247-2025-10-15 08:30:00+02:00
DESCRIPTION:Predmet: Osnove hortikulture KA (KA026)\, predavanja (P)\nLetn
 iki: Krajinska arhitektura 3. letnik (LAUN)\nIzvajalci: Maja Mikulič Petk
 ovšek\, Ana Slatnar\, Robert Veberič\nProstor: Risalnica Krajinska arhit
 ektura 4
END:VEVENT
BEGIN:VEVENT
SUMMARY:Osnove hortikulture KA (KA026)\, predavanja (P)
DTSTART;TZID=Europe/Ljubljana:20251022T083000
DTEND;TZID=Europe/Ljubljana:20251022T110000
DTSTAMP:20260420T173022Z
UID:bf-AFLABS-URNIK:srecanje:25247-2025-10-22 08:30:00+02:00
DESCRIPTION:Predmet: Osnove hortikulture KA (KA026)\, predavanja (P)\nLetn
 iki: Krajinska arhitektura 3. letnik (LAUN)\nIzvajalci: Maja Mikulič Petk
 ovšek\, Ana Slatnar\, Robert Veberič\nProstor: Risalnica Krajinska arhit
 ektura 4
END:VEVENT
BEGIN:VEVENT
SUMMARY:Osnove hortikulture KA (KA026)\, predavanja (P)
DTSTART;TZID=Europe/Ljubljana:20251029T083000
DTEND;TZID=Europe/Ljubljana:20251029T110000
DTSTAMP:20260420T173022Z
UID:bf-AFLABS-URNIK:srecanje:25247-2025-10-29 08:30:00+01:00
DESCRIPTION:Predmet: Osnove hortikulture KA (KA026)\, predavanja (P)\nLetn
 iki: Krajinska arhitektura 3. letnik (LAUN)\nIzvajalci: Maja Mikulič Petk
 ovšek\, Ana Slatnar\, Robert Veberič\nProstor: Risalnica Krajinska arhit
 ektura 4
END:VEVENT
BEGIN:VEVENT
SUMMARY:Osnove hortikulture KA (KA026)\, predavanja (P)
DTSTART;TZID=Europe/Ljubljana:20251105T083000
DTEND;TZID=Europe/Ljubljana:20251105T110000
DTSTAMP:20260420T173022Z
UID:bf-AFLABS-URNIK:srecanje:25247-2025-11-05 08:30:00+01:00
DESCRIPTION:Predmet: Osnove hortikulture KA (KA026)\, predavanja (P)\nLetn
 iki: Krajinska arhitektura 3. letnik (LAUN)\nIzvajalci: Maja Mikulič Petk
 ovšek\, Ana Slatnar\, Robert Veberič\nProstor: Risalnica Krajinska arhit
 ektura 4
END:VEVENT
BEGIN:VEVENT
SUMMARY:Osnove hortikulture KA (KA026)\, predavanja (P)
DTSTART;TZID=Europe/Ljubljana:20251112T083000
DTEND;TZID=Europe/Ljubljana:20251112T110000
DTSTAMP:20260420T173022Z
UID:bf-AFLABS-URNIK:srecanje:25247-2025-11-12 08:30:00+01:00
DESCRIPTION:Predmet: Osnove hortikulture KA (KA026)\, predavanja (P)\nLetn
 iki: Krajinska arhitektura 3. letnik (LAUN)\nIzvajalci: Maja Mikulič Petk
 ovšek\, Ana Slatnar\, Robert Veberič\nProstor: Risalnica Krajinska arhit
 ektura 4
END:VEVENT
BEGIN:VEVENT
SUMMARY:Tehnologije pridelovanja sadja\, grozdja\, vrtnin in okrasnih rast
 lin (AG026)\, laboratorijske vaje (LV)\, [:2]
DTSTART;TZID=Europe/Ljubljana:20251001T120000
DTEND;TZID=Europe/Ljubljana:20251001T160000
DTSTAMP:20260420T173022Z
UID:bf-AFLABS-URNIK:srecanje:29382-2025-10-01 12:00:00+02:00
DESCRIPTION:Predmet: Tehnologije pridelovanja sadja\, grozdja\, vrtnin in 
 okrasnih rastlin (AG026)\, laboratorijske vaje (LV)\, [:2]\nLetniki: Kmeti
 jstvo - agronomija 3. letnik (AGUN)\nIzvajalci: Ana Slatnar\nProstor: Pred
 avalnica Agronomija A8
END:VEVENT
BEGIN:VEVENT
SUMMARY:Tehnologije pridelovanja sadja\, grozdja\, vrtnin in okrasnih rast
 lin (AG026)\, laboratorijske vaje (LV)\, [:2]
DTSTART;TZID=Europe/Ljubljana:20251008T120000
DTEND;TZID=Europe/Ljubljana:20251008T160000
DTSTAMP:20260420T173022Z
UID:bf-AFLABS-URNIK:srecanje:29382-2025-10-08 12:00:00+02:00
DESCRIPTION:Predmet: Tehnologije pridelovanja sadja\, grozdja\, vrtnin in 
 okrasnih rastlin (AG026)\, laboratorijske vaje (LV)\, [:2]\nLetniki: Kmeti
 jstvo - agronomija 3. letnik (AGUN)\nIzvajalci: Ana Slatnar\nProstor: Pred
 avalnica Agronomija A8
END:VEVENT
BEGIN:VEVENT
SUMMARY:Tehnologije pridelovanja sadja\, grozdja\, vrtnin in okrasnih rast
 lin (AG026)\, laboratorijske vaje (LV)\, [:2]
DTSTART;TZID=Europe/Ljubljana:20251015T120000
DTEND;TZID=Europe/Ljubljana:20251015T160000
DTSTAMP:20260420T173022Z
UID:bf-AFLABS-URNIK:srecanje:29382-2025-10-15 12:00:00+02:00
DESCRIPTION:Predmet: Tehnologije pridelovanja sadja\, grozdja\, vrtnin in 
 okrasnih rastlin (AG026)\, laboratorijske vaje (LV)\, [:2]\nLetniki: Kmeti
 jstvo - agronomija 3. letnik (AGUN)\nIzvajalci: Ana Slatnar\nProstor: Pred
 avalnica Agronomija A8
END:VEVENT
BEGIN:VEVENT
SUMMARY:Tehnologije pridelovanja sadja\, grozdja\, vrtnin in okrasnih rast
 lin (AG026)\, laboratorijske vaje (LV)\, [:2]
DTSTART;TZID=Europe/Ljubljana:20251022T120000
DTEND;TZID=Europe/Ljubljana:20251022T160000
DTSTAMP:20260420T173022Z
UID:bf-AFLABS-URNIK:srecanje:29382-2025-10-22 12:00:00+02:00
DESCRIPTION:Predmet: Tehnologije pridelovanja sadja\, grozdja\, vrtnin in 
 okrasnih rastlin (AG026)\, laboratorijske vaje (LV)\, [:2]\nLetniki: Kmeti
 jstvo - agronomija 3. letnik (AGUN)\nIzvajalci: Ana Slatnar\nProstor: Pred
 avalnica Agronomija A8
END:VEVENT
BEGIN:VEVENT
SUMMARY:Tehnologije pridelovanja sadja\, grozdja\, vrtnin in okrasnih rast
 lin (AG026)\, laboratorijske vaje (LV)\, [:2]
DTSTART;TZID=Europe/Ljubljana:20251029T120000
DTEND;TZID=Europe/Ljubljana:20251029T160000
DTSTAMP:20260420T173022Z
UID:bf-AFLABS-URNIK:srecanje:29382-2025-10-29 12:00:00+01:00
DESCRIPTION:Predmet: Tehnologije pridelovanja sadja\, grozdja\, vrtnin in 
 okrasnih rastlin (AG026)\, laboratorijske vaje (LV)\, [:2]\nLetniki: Kmeti
 jstvo - agronomija 3. letnik (AGUN)\nIzvajalci: Ana Slatnar\nProstor: Pred
 avalnica Agronomija A8
END:VEVENT
BEGIN:VEVENT
SUMMARY:Tehnologije pridelovanja sadja\, grozdja\, vrtnin in okrasnih rast
 lin (AG026)\, laboratorijske vaje (LV)\, [:2]
DTSTART;TZID=Europe/Ljubljana:20251105T120000
DTEND;TZID=Europe/Ljubljana:20251105T160000
DTSTAMP:20260420T173022Z
UID:bf-AFLABS-URNIK:srecanje:29382-2025-11-05 12:00:00+01:00
DESCRIPTION:Predmet: Tehnologije pridelovanja sadja\, grozdja\, vrtnin in 
 okrasnih rastlin (AG026)\, laboratorijske vaje (LV)\, [:2]\nLetniki: Kmeti
 jstvo - agronomija 3. letnik (AGUN)\nIzvajalci: Ana Slatnar\nProstor: Pred
 avalnica Agronomija A8
END:VEVENT
BEGIN:VEVENT
SUMMARY:Tehnologije pridelovanja sadja\, grozdja\, vrtnin in okrasnih rast
 lin (AG026)\, laboratorijske vaje (LV)\, [:1]
DTSTART;TZID=Europe/Ljubljana:20251007T120000
DTEND;TZID=Europe/Ljubljana:20251007T160000
DTSTAMP:20260420T173022Z
UID:bf-AFLABS-URNIK:srecanje:25517-2025-10-07 12:00:00+02:00
DESCRIPTION:Predmet: Tehnologije pridelovanja sadja\, grozdja\, vrtnin in 
 okrasnih rastlin (AG026)\, laboratorijske vaje (LV)\, [:1]\nLetniki: Kmeti
 jstvo - agronomija 3. letnik (AGUN)\nIzvajalci: Ana Slatnar\nProstor: Pred
 avalnica Agronomija A11
END:VEVENT
BEGIN:VEVENT
SUMMARY:Tehnologije pridelovanja sadja\, grozdja\, vrtnin in okrasnih rast
 lin (AG026)\, laboratorijske vaje (LV)\, [:1]
DTSTART;TZID=Europe/Ljubljana:20251014T120000
DTEND;TZID=Europe/Ljubljana:20251014T160000
DTSTAMP:20260420T173022Z
UID:bf-AFLABS-URNIK:srecanje:25517-2025-10-14 12:00:00+02:00
DESCRIPTION:Predmet: Tehnologije pridelovanja sadja\, grozdja\, vrtnin in 
 okrasnih rastlin (AG026)\, laboratorijske vaje (LV)\, [:1]\nLetniki: Kmeti
 jstvo - agronomija 3. letnik (AGUN)\nIzvajalci: Ana Slatnar\nProstor: Pred
 avalnica Agronomija A11
END:VEVENT
BEGIN:VEVENT
SUMMARY:Tehnologije pridelovanja sadja\, grozdja\, vrtnin in okrasnih rast
 lin (AG026)\, laboratorijske vaje (LV)\, [:1]
DTSTART;TZID=Europe/Ljubljana:20251021T120000
DTEND;TZID=Europe/Ljubljana:20251021T160000
DTSTAMP:20260420T173022Z
UID:bf-AFLABS-URNIK:srecanje:25517-2025-10-21 12:00:00+02:00
DESCRIPTION:Predmet: Tehnologije pridelovanja sadja\, grozdja\, vrtnin in 
 okrasnih rastlin (AG026)\, laboratorijske vaje (LV)\, [:1]\nLetniki: Kmeti
 jstvo - agronomija 3. letnik (AGUN)\nIzvajalci: Ana Slatnar\nProstor: Pred
 avalnica Agronomija A11
END:VEVENT
BEGIN:VEVENT
SUMMARY:Tehnologije pridelovanja sadja\, grozdja\, vrtnin in okrasnih rast
 lin (AG026)\, laboratorijske vaje (LV)\, [:1]
DTSTART;TZID=Europe/Ljubljana:20251028T120000
DTEND;TZID=Europe/Ljubljana:20251028T160000
DTSTAMP:20260420T173022Z
UID:bf-AFLABS-URNIK:srecanje:25517-2025-10-28 12:00:00+01:00
DESCRIPTION:Predmet: Tehnologije pridelovanja sadja\, grozdja\, vrtnin in 
 okrasnih rastlin (AG026)\, laboratorijske vaje (LV)\, [:1]\nLetniki: Kmeti
 jstvo - agronomija 3. letnik (AGUN)\nIzvajalci: Ana Slatnar\nProstor: Pred
 avalnica Agronomija A11
END:VEVENT
BEGIN:VEVENT
SUMMARY:Tehnologije pridelovanja sadja\, grozdja\, vrtnin in okrasnih rast
 lin (AG026)\, laboratorijske vaje (LV)\, [:1]
DTSTART;TZID=Europe/Ljubljana:20251104T120000
DTEND;TZID=Europe/Ljubljana:20251104T160000
DTSTAMP:20260420T173022Z
UID:bf-AFLABS-URNIK:srecanje:25517-2025-11-04 12:00:00+01:00
DESCRIPTION:Predmet: Tehnologije pridelovanja sadja\, grozdja\, vrtnin in 
 okrasnih rastlin (AG026)\, laboratorijske vaje (LV)\, [:1]\nLetniki: Kmeti
 jstvo - agronomija 3. letnik (AGUN)\nIzvajalci: Ana Slatnar\nProstor: Pred
 avalnica Agronomija A11
END:VEVENT
BEGIN:VEVENT
SUMMARY:Tehnologije pridelovanja sadja\, grozdja\, vrtnin in okrasnih rast
 lin (AG026)\, laboratorijske vaje (LV)\, [:1]
DTSTART;TZID=Europe/Ljubljana:20251111T120000
DTEND;TZID=Europe/Ljubljana:20251111T160000
DTSTAMP:20260420T173022Z
UID:bf-AFLABS-URNIK:srecanje:25517-2025-11-11 12:00:00+01:00
DESCRIPTION:Predmet: Tehnologije pridelovanja sadja\, grozdja\, vrtnin in 
 okrasnih rastlin (AG026)\, laboratorijske vaje (LV)\, [:1]\nLetniki: Kmeti
 jstvo - agronomija 3. letnik (AGUN)\nIzvajalci: Ana Slatnar\nProstor: Pred
 avalnica Agronomija A11
END:VEVENT
BEGIN:VEVENT
SUMMARY:Tehnologije pridelovanja sadja\, grozdja\, vrtnin in okrasnih rast
 lin (AG026)\, predavanja (P)
DTSTART;TZID=Europe/Ljubljana:20251007T080000
DTEND;TZID=Europe/Ljubljana:20251007T100000
DTSTAMP:20260420T173022Z
UID:bf-AFLABS-URNIK:srecanje:25520-2025-10-07 08:00:00+02:00
DESCRIPTION:Predmet: Tehnologije pridelovanja sadja\, grozdja\, vrtnin in 
 okrasnih rastlin (AG026)\, predavanja (P)\nLetniki: Kmetijstvo - agronomij
 a 3. letnik (AGUN)\nIzvajalci: Ana Slatnar\nProstor: Predavalnica Agronomi
 ja A6
END:VEVENT
BEGIN:VEVENT
SUMMARY:Tehnologije pridelovanja sadja\, grozdja\, vrtnin in okrasnih rast
 lin (AG026)\, predavanja (P)
DTSTART;TZID=Europe/Ljubljana:20251014T080000
DTEND;TZID=Europe/Ljubljana:20251014T100000
DTSTAMP:20260420T173022Z
UID:bf-AFLABS-URNIK:srecanje:25520-2025-10-14 08:00:00+02:00
DESCRIPTION:Predmet: Tehnologije pridelovanja sadja\, grozdja\, vrtnin in 
 okrasnih rastlin (AG026)\, predavanja (P)\nLetniki: Kmetijstvo - agronomij
 a 3. letnik (AGUN)\nIzvajalci: Ana Slatnar\nProstor: Predavalnica Agronomi
 ja A6
END:VEVENT
BEGIN:VEVENT
SUMMARY:Tehnologije pridelovanja sadja\, grozdja\, vrtnin in okrasnih rast
 lin (AG026)\, predavanja (P)
DTSTART;TZID=Europe/Ljubljana:20251021T080000
DTEND;TZID=Europe/Ljubljana:20251021T100000
DTSTAMP:20260420T173022Z
UID:bf-AFLABS-URNIK:srecanje:25520-2025-10-21 08:00:00+02:00
DESCRIPTION:Predmet: Tehnologije pridelovanja sadja\, grozdja\, vrtnin in 
 okrasnih rastlin (AG026)\, predavanja (P)\nLetniki: Kmetijstvo - agronomij
 a 3. letnik (AGUN)\nIzvajalci: Ana Slatnar\nProstor: Predavalnica Agronomi
 ja A6
END:VEVENT
BEGIN:VEVENT
SUMMARY:Tehnologije pridelovanja sadja\, grozdja\, vrtnin in okrasnih rast
 lin (AG026)\, predavanja (P)
DTSTART;TZID=Europe/Ljubljana:20251028T080000
DTEND;TZID=Europe/Ljubljana:20251028T100000
DTSTAMP:20260420T173022Z
UID:bf-AFLABS-URNIK:srecanje:25520-2025-10-28 08:00:00+01:00
DESCRIPTION:Predmet: Tehnologije pridelovanja sadja\, grozdja\, vrtnin in 
 okrasnih rastlin (AG026)\, predavanja (P)\nLetniki: Kmetijstvo - agronomij
 a 3. letnik (AGUN)\nIzvajalci: Ana Slatnar\nProstor: Predavalnica Agronomi
 ja A6
END:VEVENT
BEGIN:VEVENT
SUMMARY:Tehnologije pridelovanja sadja\, grozdja\, vrtnin in okrasnih rast
 lin (AG026)\, predavanja (P)
DTSTART;TZID=Europe/Ljubljana:20251104T080000
DTEND;TZID=Europe/Ljubljana:20251104T100000
DTSTAMP:20260420T173022Z
UID:bf-AFLABS-URNIK:srecanje:25520-2025-11-04 08:00:00+01:00
DESCRIPTION:Predmet: Tehnologije pridelovanja sadja\, grozdja\, vrtnin in 
 okrasnih rastlin (AG026)\, predavanja (P)\nLetniki: Kmetijstvo - agronomij
 a 3. letnik (AGUN)\nIzvajalci: Ana Slatnar\nProstor: Predavalnica Agronomi
 ja A6
END:VEVENT
BEGIN:VEVENT
SUMMARY:Tehnologije pridelovanja sadja\, grozdja\, vrtnin in okrasnih rast
 lin (AG026)\, predavanja (P)
DTSTART;TZID=Europe/Ljubljana:20251111T080000
DTEND;TZID=Europe/Ljubljana:20251111T100000
DTSTAMP:20260420T173022Z
UID:bf-AFLABS-URNIK:srecanje:25520-2025-11-11 08:00:00+01:00
DESCRIPTION:Predmet: Tehnologije pridelovanja sadja\, grozdja\, vrtnin in 
 okrasnih rastlin (AG026)\, predavanja (P)\nLetniki: Kmetijstvo - agronomij
 a 3. letnik (AGUN)\nIzvajalci: Ana Slatnar\nProstor: Predavalnica Agronomi
 ja A6
END:VEVENT
BEGIN:VEVENT
SUMMARY:Osnove hortikulture AH (AH006)\, laboratorijske vaje (LV)\, [:2]
DTSTART;TZID=Europe/Ljubljana:20251124T120000
DTEND;TZID=Europe/Ljubljana:20251124T160000
DTSTAMP:20260420T173022Z
UID:bf-AFLABS-URNIK:srecanje:26366-2025-11-24 12:00:00+01:00
DESCRIPTION:Predmet: Osnove hortikulture AH (AH006)\, laboratorijske vaje 
 (LV)\, [:2]\nLetniki: Kmetijstvo - agronomija in hortikultura 1. letnik (A
 GAH)\nIzvajalci: Maja Mikulič Petkovšek\, Ana Slatnar\nProstor: Predaval
 nica Agronomija A11
END:VEVENT
BEGIN:VEVENT
SUMMARY:Osnove hortikulture AH (AH006)\, laboratorijske vaje (LV)\, [:2]
DTSTART;TZID=Europe/Ljubljana:20251201T120000
DTEND;TZID=Europe/Ljubljana:20251201T160000
DTSTAMP:20260420T173022Z
UID:bf-AFLABS-URNIK:srecanje:26366-2025-12-01 12:00:00+01:00
DESCRIPTION:Predmet: Osnove hortikulture AH (AH006)\, laboratorijske vaje 
 (LV)\, [:2]\nLetniki: Kmetijstvo - agronomija in hortikultura 1. letnik (A
 GAH)\nIzvajalci: Maja Mikulič Petkovšek\, Ana Slatnar\nProstor: Predaval
 nica Agronomija A11
END:VEVENT
BEGIN:VEVENT
SUMMARY:Osnove hortikulture AH (AH006)\, laboratorijske vaje (LV)\, [:2]
DTSTART;TZID=Europe/Ljubljana:20251208T120000
DTEND;TZID=Europe/Ljubljana:20251208T160000
DTSTAMP:20260420T173022Z
UID:bf-AFLABS-URNIK:srecanje:26366-2025-12-08 12:00:00+01:00
DESCRIPTION:Predmet: Osnove hortikulture AH (AH006)\, laboratorijske vaje 
 (LV)\, [:2]\nLetniki: Kmetijstvo - agronomija in hortikultura 1. letnik (A
 GAH)\nIzvajalci: Maja Mikulič Petkovšek\, Ana Slatnar\nProstor: Predaval
 nica Agronomija A11
END:VEVENT
BEGIN:VEVENT
SUMMARY:Osnove hortikulture AH (AH006)\, laboratorijske vaje (LV)\, [:2]
DTSTART;TZID=Europe/Ljubljana:20251215T120000
DTEND;TZID=Europe/Ljubljana:20251215T160000
DTSTAMP:20260420T173022Z
UID:bf-AFLABS-URNIK:srecanje:26366-2025-12-15 12:00:00+01:00
DESCRIPTION:Predmet: Osnove hortikulture AH (AH006)\, laboratorijske vaje 
 (LV)\, [:2]\nLetniki: Kmetijstvo - agronomija in hortikultura 1. letnik (A
 GAH)\nIzvajalci: Maja Mikulič Petkovšek\, Ana Slatnar\nProstor: Predaval
 nica Agronomija A11
END:VEVENT
BEGIN:VEVENT
SUMMARY:Osnove hortikulture AH (AH006)\, laboratorijske vaje (LV)\, [:1]
DTSTART;TZID=Europe/Ljubljana:20251125T120000
DTEND;TZID=Europe/Ljubljana:20251125T160000
DTSTAMP:20260420T173022Z
UID:bf-AFLABS-URNIK:srecanje:26365-2025-11-25 12:00:00+01:00
DESCRIPTION:Predmet: Osnove hortikulture AH (AH006)\, laboratorijske vaje 
 (LV)\, [:1]\nLetniki: Kmetijstvo - agronomija in hortikultura 1. letnik (A
 GAH)\nIzvajalci: Maja Mikulič Petkovšek\, Ana Slatnar\nProstor: Predaval
 nica Agronomija A8
END:VEVENT
BEGIN:VEVENT
SUMMARY:Osnove hortikulture AH (AH006)\, laboratorijske vaje (LV)\, [:1]
DTSTART;TZID=Europe/Ljubljana:20251202T120000
DTEND;TZID=Europe/Ljubljana:20251202T160000
DTSTAMP:20260420T173022Z
UID:bf-AFLABS-URNIK:srecanje:26365-2025-12-02 12:00:00+01:00
DESCRIPTION:Predmet: Osnove hortikulture AH (AH006)\, laboratorijske vaje 
 (LV)\, [:1]\nLetniki: Kmetijstvo - agronomija in hortikultura 1. letnik (A
 GAH)\nIzvajalci: Maja Mikulič Petkovšek\, Ana Slatnar\nProstor: Predaval
 nica Agronomija A8
END:VEVENT
BEGIN:VEVENT
SUMMARY:Osnove hortikulture AH (AH006)\, laboratorijske vaje (LV)\, [:1]
DTSTART;TZID=Europe/Ljubljana:20251209T120000
DTEND;TZID=Europe/Ljubljana:20251209T160000
DTSTAMP:20260420T173022Z
UID:bf-AFLABS-URNIK:srecanje:26365-2025-12-09 12:00:00+01:00
DESCRIPTION:Predmet: Osnove hortikulture AH (AH006)\, laboratorijske vaje 
 (LV)\, [:1]\nLetniki: Kmetijstvo - agronomija in hortikultura 1. letnik (A
 GAH)\nIzvajalci: Maja Mikulič Petkovšek\, Ana Slatnar\nProstor: Predaval
 nica Agronomija A8
END:VEVENT
BEGIN:VEVENT
SUMMARY:Osnove hortikulture AH (AH006)\, laboratorijske vaje (LV)\, [:3]
DTSTART;TZID=Europe/Ljubljana:20251126T120000
DTEND;TZID=Europe/Ljubljana:20251126T160000
DTSTAMP:20260420T173022Z
UID:bf-AFLABS-URNIK:srecanje:26367-2025-11-26 12:00:00+01:00
DESCRIPTION:Predmet: Osnove hortikulture AH (AH006)\, laboratorijske vaje 
 (LV)\, [:3]\nLetniki: Kmetijstvo - agronomija in hortikultura 1. letnik (A
 GAH)\nIzvajalci: Maja Mikulič Petkovšek\, Ana Slatnar\nProstor: Predaval
 nica Agronomija A8
END:VEVENT
BEGIN:VEVENT
SUMMARY:Osnove hortikulture AH (AH006)\, laboratorijske vaje (LV)\, [:3]
DTSTART;TZID=Europe/Ljubljana:20251203T120000
DTEND;TZID=Europe/Ljubljana:20251203T160000
DTSTAMP:20260420T173022Z
UID:bf-AFLABS-URNIK:srecanje:26367-2025-12-03 12:00:00+01:00
DESCRIPTION:Predmet: Osnove hortikulture AH (AH006)\, laboratorijske vaje 
 (LV)\, [:3]\nLetniki: Kmetijstvo - agronomija in hortikultura 1. letnik (A
 GAH)\nIzvajalci: Maja Mikulič Petkovšek\, Ana Slatnar\nProstor: Predaval
 nica Agronomija A8
END:VEVENT
BEGIN:VEVENT
SUMMARY:Osnove hortikulture AH (AH006)\, laboratorijske vaje (LV)\, [:3]
DTSTART;TZID=Europe/Ljubljana:20251210T120000
DTEND;TZID=Europe/Ljubljana:20251210T160000
DTSTAMP:20260420T173022Z
UID:bf-AFLABS-URNIK:srecanje:26367-2025-12-10 12:00:00+01:00
DESCRIPTION:Predmet: Osnove hortikulture AH (AH006)\, laboratorijske vaje 
 (LV)\, [:3]\nLetniki: Kmetijstvo - agronomija in hortikultura 1. letnik (A
 GAH)\nIzvajalci: Maja Mikulič Petkovšek\, Ana Slatnar\nProstor: Predaval
 nica Agronomija A8
END:VEVENT
BEGIN:VEVENT
SUMMARY:Osnove hortikulture AH (AH006)\, predavanja (P)
DTSTART;TZID=Europe/Ljubljana:20251126T080000
DTEND;TZID=Europe/Ljubljana:20251126T100000
DTSTAMP:20260420T173022Z
UID:bf-AFLABS-URNIK:srecanje:26368-2025-11-26 08:00:00+01:00
DESCRIPTION:Predmet: Osnove hortikulture AH (AH006)\, predavanja (P)\nLetn
 iki: Kmetijstvo - agronomija in hortikultura 1. letnik (AGAH)\nIzvajalci: 
 Maja Mikulič Petkovšek\, Ana Slatnar\nProstor: Predavalnica Agronomija A
 1
END:VEVENT
BEGIN:VEVENT
SUMMARY:Osnove hortikulture AH (AH006)\, predavanja (P)
DTSTART;TZID=Europe/Ljubljana:20251203T080000
DTEND;TZID=Europe/Ljubljana:20251203T100000
DTSTAMP:20260420T173022Z
UID:bf-AFLABS-URNIK:srecanje:26368-2025-12-03 08:00:00+01:00
DESCRIPTION:Predmet: Osnove hortikulture AH (AH006)\, predavanja (P)\nLetn
 iki: Kmetijstvo - agronomija in hortikultura 1. letnik (AGAH)\nIzvajalci: 
 Maja Mikulič Petkovšek\, Ana Slatnar\nProstor: Predavalnica Agronomija A
 1
END:VEVENT
BEGIN:VEVENT
SUMMARY:Osnove hortikulture AH (AH006)\, predavanja (P)
DTSTART;TZID=Europe/Ljubljana:20251210T080000
DTEND;TZID=Europe/Ljubljana:20251210T100000
DTSTAMP:20260420T173022Z
UID:bf-AFLABS-URNIK:srecanje:26368-2025-12-10 08:00:00+01:00
DESCRIPTION:Predmet: Osnove hortikulture AH (AH006)\, predavanja (P)\nLetn
 iki: Kmetijstvo - agronomija in hortikultura 1. letnik (AGAH)\nIzvajalci: 
 Maja Mikulič Petkovšek\, Ana Slatnar\nProstor: Predavalnica Agronomija A
 1
END:VEVENT
BEGIN:VEVENT
SUMMARY:Osnove hortikulture KA (KA026)\, laboratorijske vaje (LV)
DTSTART;TZID=Europe/Ljubljana:20251126T110000
DTEND;TZID=Europe/Ljubljana:20251126T160000
DTSTAMP:20260420T173022Z
UID:bf-AFLABS-URNIK:srecanje:26370-2025-11-26 11:00:00+01:00
DESCRIPTION:Predmet: Osnove hortikulture KA (KA026)\, laboratorijske vaje 
 (LV)\nLetniki: Krajinska arhitektura 3. letnik (LAUN)\nIzvajalci: Maja Mik
 ulič Petkovšek\, Valentina Schmitzer\, Ana Slatnar\, Valentina Usenik\nP
 rostor: Risalnica Krajinska arhitektura 4
END:VEVENT
BEGIN:VEVENT
SUMMARY:Osnove hortikulture KA (KA026)\, laboratorijske vaje (LV)
DTSTART;TZID=Europe/Ljubljana:20251203T110000
DTEND;TZID=Europe/Ljubljana:20251203T160000
DTSTAMP:20260420T173022Z
UID:bf-AFLABS-URNIK:srecanje:26370-2025-12-03 11:00:00+01:00
DESCRIPTION:Predmet: Osnove hortikulture KA (KA026)\, laboratorijske vaje 
 (LV)\nLetniki: Krajinska arhitektura 3. letnik (LAUN)\nIzvajalci: Maja Mik
 ulič Petkovšek\, Valentina Schmitzer\, Ana Slatnar\, Valentina Usenik\nP
 rostor: Risalnica Krajinska arhitektura 4
END:VEVENT
BEGIN:VEVENT
SUMMARY:Osnove hortikulture KA (KA026)\, laboratorijske vaje (LV)
DTSTART;TZID=Europe/Ljubljana:20251210T110000
DTEND;TZID=Europe/Ljubljana:20251210T160000
DTSTAMP:20260420T173022Z
UID:bf-AFLABS-URNIK:srecanje:26370-2025-12-10 11:00:00+01:00
DESCRIPTION:Predmet: Osnove hortikulture KA (KA026)\, laboratorijske vaje 
 (LV)\nLetniki: Krajinska arhitektura 3. letnik (LAUN)\nIzvajalci: Maja Mik
 ulič Petkovšek\, Valentina Schmitzer\, Ana Slatnar\, Valentina Usenik\nP
 rostor: Risalnica Krajinska arhitektura 4
END:VEVENT
BEGIN:VEVENT
SUMMARY:Osnove hortikulture KA (KA026)\, predavanja (P)
DTSTART;TZID=Europe/Ljubljana:20251126T083000
DTEND;TZID=Europe/Ljubljana:20251126T110000
DTSTAMP:20260420T173022Z
UID:bf-AFLABS-URNIK:srecanje:26371-2025-11-26 08:30:00+01:00
DESCRIPTION:Predmet: Osnove hortikulture KA (KA026)\, predavanja (P)\nLetn
 iki: Krajinska arhitektura 3. letnik (LAUN)\nIzvajalci: Maja Mikulič Petk
 ovšek\, Ana Slatnar\, Robert Veberič\nProstor: Risalnica Krajinska arhit
 ektura 4
END:VEVENT
BEGIN:VEVENT
SUMMARY:Osnove hortikulture KA (KA026)\, predavanja (P)
DTSTART;TZID=Europe/Ljubljana:20251203T083000
DTEND;TZID=Europe/Ljubljana:20251203T110000
DTSTAMP:20260420T173022Z
UID:bf-AFLABS-URNIK:srecanje:26371-2025-12-03 08:30:00+01:00
DESCRIPTION:Predmet: Osnove hortikulture KA (KA026)\, predavanja (P)\nLetn
 iki: Krajinska arhitektura 3. letnik (LAUN)\nIzvajalci: Maja Mikulič Petk
 ovšek\, Ana Slatnar\, Robert Veberič\nProstor: Risalnica Krajinska arhit
 ektura 4
END:VEVENT
BEGIN:VEVENT
SUMMARY:Osnove hortikulture KA (KA026)\, predavanja (P)
DTSTART;TZID=Europe/Ljubljana:20251210T083000
DTEND;TZID=Europe/Ljubljana:20251210T110000
DTSTAMP:20260420T173022Z
UID:bf-AFLABS-URNIK:srecanje:26371-2025-12-10 08:30:00+01:00
DESCRIPTION:Predmet: Osnove hortikulture KA (KA026)\, predavanja (P)\nLetn
 iki: Krajinska arhitektura 3. letnik (LAUN)\nIzvajalci: Maja Mikulič Petk
 ovšek\, Ana Slatnar\, Robert Veberič\nProstor: Risalnica Krajinska arhit
 ektura 4
END:VEVENT
BEGIN:VEVENT
SUMMARY:Osnove hortikulture AH (AH006)\, predavanja (P)
DTSTART;TZID=Europe/Ljubljana:20251127T080000
DTEND;TZID=Europe/Ljubljana:20251127T100000
DTSTAMP:20260420T173022Z
UID:bf-AFLABS-URNIK:srecanje:26369-2025-11-27 08:00:00+01:00
DESCRIPTION:Predmet: Osnove hortikulture AH (AH006)\, predavanja (P)\nLetn
 iki: Kmetijstvo - agronomija in hortikultura 1. letnik (AGAH)\nIzvajalci: 
 Maja Mikulič Petkovšek\, Ana Slatnar\nProstor: Predavalnica Agronomija A
 1
END:VEVENT
BEGIN:VEVENT
SUMMARY:Osnove hortikulture AH (AH006)\, predavanja (P)
DTSTART;TZID=Europe/Ljubljana:20251204T080000
DTEND;TZID=Europe/Ljubljana:20251204T100000
DTSTAMP:20260420T173022Z
UID:bf-AFLABS-URNIK:srecanje:26369-2025-12-04 08:00:00+01:00
DESCRIPTION:Predmet: Osnove hortikulture AH (AH006)\, predavanja (P)\nLetn
 iki: Kmetijstvo - agronomija in hortikultura 1. letnik (AGAH)\nIzvajalci: 
 Maja Mikulič Petkovšek\, Ana Slatnar\nProstor: Predavalnica Agronomija A
 1
END:VEVENT
BEGIN:VEVENT
SUMMARY:Osnove hortikulture AH (AH006)\, predavanja (P)
DTSTART;TZID=Europe/Ljubljana:20251211T080000
DTEND;TZID=Europe/Ljubljana:20251211T100000
DTSTAMP:20260420T173022Z
UID:bf-AFLABS-URNIK:srecanje:26369-2025-12-11 08:00:00+01:00
DESCRIPTION:Predmet: Osnove hortikulture AH (AH006)\, predavanja (P)\nLetn
 iki: Kmetijstvo - agronomija in hortikultura 1. letnik (AGAH)\nIzvajalci: 
 Maja Mikulič Petkovšek\, Ana Slatnar\nProstor: Predavalnica Agronomija A
 1
END:VEVENT
BEGIN:VEVENT
SUMMARY:delni kolokvij
DTSTART;TZID=Europe/Ljubljana:20251120T100000
DTEND;TZID=Europe/Ljubljana:20251120T110000
DTSTAMP:20260420T173022Z
UID:bf-AFLABS-URNIK:rezervacija:24909
ATTENDEE:Kmetijstvo - agronomija 3. letnik (AGUN)
CATEGORIES:Reservation
COLOR:royalblue
DESCRIPTION:Predmeti: Tehnologije pridelovanja sadja\, grozdja\, vrtnin in
  okrasnih rastlin (AG026)\nLetniki: Kmetijstvo - agronomija 3. letnik (AGU
 N)\nIzvajalci: Ana Slatnar\nProstori: Predavalnica Agronomija A5
LOCATION:Department of agronomy\, Predavalnica Agronomija A5
ORGANIZER:Ana Slatnar
X-WR-TIMEZONE:Europe/Ljubljana
END:VEVENT
END:VCALENDAR
