BEGIN:VCALENDAR
VERSION:2.0
PRODID:-//AFLabs urnik izvoz - bf//aflabs.si//SI
NAME:UL BF Urnik
X-WR-CALNAME:UL BF Urnik
DTSTAMP:20260426T032355Z
REFRESH-INTERVAL:PT1H
SOURCE:https://urniki.bf.uni-lj.si/en/teacher/335/?day=2025-09-08&export=1
URL:https://urniki.bf.uni-lj.si/en/teacher/335/?day=2025-09-08&export=1
X-PUBLISHED-TTL:PT1H
X-WR-TIMEZONE:Europe/Ljubljana
BEGIN:VTIMEZONE
TZID:Europe/Ljubljana
BEGIN:DAYLIGHT
DTSTART:20260329T020000
RDATE:20260329T020000
RDATE:20270328T020000
TZNAME:CEST
TZOFFSETFROM:+0100
TZOFFSETTO:+0200
END:DAYLIGHT
BEGIN:STANDARD
DTSTART:20261025T030000
RDATE:20261025T030000
RDATE:20271031T030000
TZNAME:CET
TZOFFSETFROM:+0200
TZOFFSETTO:+0100
END:STANDARD
END:VTIMEZONE
BEGIN:VEVENT
SUMMARY:Sadjarstvo (AH013)\, predavanja (P)
DTSTART;TZID=Europe/Ljubljana:20251001T080000
DTEND;TZID=Europe/Ljubljana:20251001T100000
DTSTAMP:20260426T032355Z
UID:bf-AFLABS-URNIK:srecanje:25398-2025-10-01 08:00:00+02:00
DESCRIPTION:Predmet: Sadjarstvo (AH013)\, predavanja (P)\nLetniki: Kmetijs
 tvo - hortikultura 2. letnik (AGH)\nIzvajalci: Metka Hudina\nProstor: Pred
 avalnica Hortikultura (Agronomija)
END:VEVENT
BEGIN:VEVENT
SUMMARY:Sadjarstvo (AH013)\, predavanja (P)
DTSTART;TZID=Europe/Ljubljana:20251008T080000
DTEND;TZID=Europe/Ljubljana:20251008T100000
DTSTAMP:20260426T032355Z
UID:bf-AFLABS-URNIK:srecanje:25398-2025-10-08 08:00:00+02:00
DESCRIPTION:Predmet: Sadjarstvo (AH013)\, predavanja (P)\nLetniki: Kmetijs
 tvo - hortikultura 2. letnik (AGH)\nIzvajalci: Metka Hudina\nProstor: Pred
 avalnica Hortikultura (Agronomija)
END:VEVENT
BEGIN:VEVENT
SUMMARY:Sonaravna hortikultura (AG328)\, seminarji (S)
DTSTART;TZID=Europe/Ljubljana:20251001T100000
DTEND;TZID=Europe/Ljubljana:20251001T120000
DTSTAMP:20260426T032355Z
UID:bf-AFLABS-URNIK:srecanje:25411-2025-10-01 10:00:00+02:00
DESCRIPTION:Predmet: Sonaravna hortikultura (AG328)\, seminarji (S)\nLetni
 ki: Hortikultura 2. letnik (MHO)\nIzvajalci: Metka Hudina\nProstor: Predav
 alnica Agronomija A7
END:VEVENT
BEGIN:VEVENT
SUMMARY:Sonaravna hortikultura (AG328)\, seminarji (S)
DTSTART;TZID=Europe/Ljubljana:20251008T100000
DTEND;TZID=Europe/Ljubljana:20251008T120000
DTSTAMP:20260426T032355Z
UID:bf-AFLABS-URNIK:srecanje:25411-2025-10-08 10:00:00+02:00
DESCRIPTION:Predmet: Sonaravna hortikultura (AG328)\, seminarji (S)\nLetni
 ki: Hortikultura 2. letnik (MHO)\nIzvajalci: Metka Hudina\nProstor: Predav
 alnica Agronomija A7
END:VEVENT
BEGIN:VEVENT
SUMMARY:Osnove hortikulture AH (AH006)\, predavanja (P)
DTSTART;TZID=Europe/Ljubljana:20251002T120000
DTEND;TZID=Europe/Ljubljana:20251002T150000
DTSTAMP:20260426T032355Z
UID:bf-AFLABS-URNIK:srecanje:25245-2025-10-02 12:00:00+02:00
DESCRIPTION:Predmet: Osnove hortikulture AH (AH006)\, predavanja (P)\nLetn
 iki: Kmetijstvo - agronomija in hortikultura 1. letnik (AGAH)\nIzvajalci: 
 Metka Hudina\, Gregor Osterc\nProstor: Predavalnica Agronomija A1
END:VEVENT
BEGIN:VEVENT
SUMMARY:Osnove hortikulture AH (AH006)\, predavanja (P)
DTSTART;TZID=Europe/Ljubljana:20251009T120000
DTEND;TZID=Europe/Ljubljana:20251009T150000
DTSTAMP:20260426T032355Z
UID:bf-AFLABS-URNIK:srecanje:25245-2025-10-09 12:00:00+02:00
DESCRIPTION:Predmet: Osnove hortikulture AH (AH006)\, predavanja (P)\nLetn
 iki: Kmetijstvo - agronomija in hortikultura 1. letnik (AGAH)\nIzvajalci: 
 Metka Hudina\, Gregor Osterc\nProstor: Predavalnica Agronomija A1
END:VEVENT
BEGIN:VEVENT
SUMMARY:Tehnologije pridelovanja sadja\, grozdja\, vrtnin in okrasnih rast
 lin (AG026)\, predavanja (P)
DTSTART;TZID=Europe/Ljubljana:20251002T100000
DTEND;TZID=Europe/Ljubljana:20251002T120000
DTSTAMP:20260426T032355Z
UID:bf-AFLABS-URNIK:srecanje:25521-2025-10-02 10:00:00+02:00
DESCRIPTION:Predmet: Tehnologije pridelovanja sadja\, grozdja\, vrtnin in 
 okrasnih rastlin (AG026)\, predavanja (P)\nLetniki: Kmetijstvo - agronomij
 a 3. letnik (AGUN)\nIzvajalci: Metka Hudina\nProstor: Predavalnica Agronom
 ija A5
END:VEVENT
BEGIN:VEVENT
SUMMARY:Tehnologije pridelovanja sadja\, grozdja\, vrtnin in okrasnih rast
 lin (AG026)\, predavanja (P)
DTSTART;TZID=Europe/Ljubljana:20251009T100000
DTEND;TZID=Europe/Ljubljana:20251009T120000
DTSTAMP:20260426T032355Z
UID:bf-AFLABS-URNIK:srecanje:25521-2025-10-09 10:00:00+02:00
DESCRIPTION:Predmet: Tehnologije pridelovanja sadja\, grozdja\, vrtnin in 
 okrasnih rastlin (AG026)\, predavanja (P)\nLetniki: Kmetijstvo - agronomij
 a 3. letnik (AGUN)\nIzvajalci: Metka Hudina\nProstor: Predavalnica Agronom
 ija A5
END:VEVENT
BEGIN:VEVENT
SUMMARY:Sonaravna hortikultura (AG328)\, seminarji (S)
DTSTART;TZID=Europe/Ljubljana:20251002T080000
DTEND;TZID=Europe/Ljubljana:20251002T100000
DTSTAMP:20260426T032355Z
UID:bf-AFLABS-URNIK:srecanje:25412-2025-10-02 08:00:00+02:00
DESCRIPTION:Predmet: Sonaravna hortikultura (AG328)\, seminarji (S)\nLetni
 ki: Hortikultura 2. letnik (MHO)\nIzvajalci: Metka Hudina\nProstor: Predav
 alnica Hortikultura (Agronomija)
END:VEVENT
BEGIN:VEVENT
SUMMARY:Sonaravna hortikultura (AG328)\, seminarji (S)
DTSTART;TZID=Europe/Ljubljana:20251009T080000
DTEND;TZID=Europe/Ljubljana:20251009T100000
DTSTAMP:20260426T032355Z
UID:bf-AFLABS-URNIK:srecanje:25412-2025-10-09 08:00:00+02:00
DESCRIPTION:Predmet: Sonaravna hortikultura (AG328)\, seminarji (S)\nLetni
 ki: Hortikultura 2. letnik (MHO)\nIzvajalci: Metka Hudina\nProstor: Predav
 alnica Hortikultura (Agronomija)
END:VEVENT
BEGIN:VEVENT
SUMMARY:Sonaravna hortikultura (AG328)\, predavanja (P)
DTSTART;TZID=Europe/Ljubljana:20251003T100000
DTEND;TZID=Europe/Ljubljana:20251003T120000
DTSTAMP:20260426T032355Z
UID:bf-AFLABS-URNIK:srecanje:25410-2025-10-03 10:00:00+02:00
DESCRIPTION:Predmet: Sonaravna hortikultura (AG328)\, predavanja (P)\nLetn
 iki: Hortikultura 2. letnik (MHO)\nIzvajalci: Metka Hudina\nProstor: Preda
 valnica Hortikultura (Agronomija)
END:VEVENT
BEGIN:VEVENT
SUMMARY:Sonaravna hortikultura (AG328)\, predavanja (P)
DTSTART;TZID=Europe/Ljubljana:20251010T100000
DTEND;TZID=Europe/Ljubljana:20251010T120000
DTSTAMP:20260426T032355Z
UID:bf-AFLABS-URNIK:srecanje:25410-2025-10-10 10:00:00+02:00
DESCRIPTION:Predmet: Sonaravna hortikultura (AG328)\, predavanja (P)\nLetn
 iki: Hortikultura 2. letnik (MHO)\nIzvajalci: Metka Hudina\nProstor: Preda
 valnica Hortikultura (Agronomija)
END:VEVENT
BEGIN:VEVENT
SUMMARY:Tehnologije pridelovanja sadja\, grozdja\, vrtnin in okrasnih rast
 lin (AG026)\, predavanja (P)
DTSTART;TZID=Europe/Ljubljana:20251006T140000
DTEND;TZID=Europe/Ljubljana:20251006T160000
DTSTAMP:20260426T032355Z
UID:bf-AFLABS-URNIK:srecanje:25519-2025-10-06 14:00:00+02:00
DESCRIPTION:Predmet: Tehnologije pridelovanja sadja\, grozdja\, vrtnin in 
 okrasnih rastlin (AG026)\, predavanja (P)\nLetniki: Kmetijstvo - agronomij
 a 3. letnik (AGUN)\nIzvajalci: Metka Hudina\nProstor: Predavalnica Agronom
 ija A6
END:VEVENT
BEGIN:VEVENT
SUMMARY:Tehnologije pridelovanja sadja\, grozdja\, vrtnin in okrasnih rast
 lin (AG026)\, predavanja (P)
DTSTART;TZID=Europe/Ljubljana:20251013T140000
DTEND;TZID=Europe/Ljubljana:20251013T160000
DTSTAMP:20260426T032355Z
UID:bf-AFLABS-URNIK:srecanje:25519-2025-10-13 14:00:00+02:00
DESCRIPTION:Predmet: Tehnologije pridelovanja sadja\, grozdja\, vrtnin in 
 okrasnih rastlin (AG026)\, predavanja (P)\nLetniki: Kmetijstvo - agronomij
 a 3. letnik (AGUN)\nIzvajalci: Metka Hudina\nProstor: Predavalnica Agronom
 ija A6
END:VEVENT
BEGIN:VEVENT
SUMMARY:Sonaravna hortikultura (AG328)\, predavanja (P)
DTSTART;TZID=Europe/Ljubljana:20251006T080000
DTEND;TZID=Europe/Ljubljana:20251006T100000
DTSTAMP:20260426T032355Z
UID:bf-AFLABS-URNIK:srecanje:25408-2025-10-06 08:00:00+02:00
DESCRIPTION:Predmet: Sonaravna hortikultura (AG328)\, predavanja (P)\nLetn
 iki: Hortikultura 2. letnik (MHO)\nIzvajalci: Metka Hudina\nProstor: Preda
 valnica Agronomija A11
END:VEVENT
BEGIN:VEVENT
SUMMARY:Sonaravna hortikultura (AG328)\, predavanja (P)
DTSTART;TZID=Europe/Ljubljana:20251013T080000
DTEND;TZID=Europe/Ljubljana:20251013T100000
DTSTAMP:20260426T032355Z
UID:bf-AFLABS-URNIK:srecanje:25408-2025-10-13 08:00:00+02:00
DESCRIPTION:Predmet: Sonaravna hortikultura (AG328)\, predavanja (P)\nLetn
 iki: Hortikultura 2. letnik (MHO)\nIzvajalci: Metka Hudina\nProstor: Preda
 valnica Agronomija A11
END:VEVENT
BEGIN:VEVENT
SUMMARY:Sadjarstvo (AH013)\, predavanja (P)
DTSTART;TZID=Europe/Ljubljana:20251007T080000
DTEND;TZID=Europe/Ljubljana:20251007T100000
DTSTAMP:20260426T032355Z
UID:bf-AFLABS-URNIK:srecanje:25397-2025-10-07 08:00:00+02:00
DESCRIPTION:Predmet: Sadjarstvo (AH013)\, predavanja (P)\nLetniki: Kmetijs
 tvo - hortikultura 2. letnik (AGH)\nIzvajalci: Metka Hudina\nProstor: Pred
 avalnica Hortikultura (Agronomija)
END:VEVENT
BEGIN:VEVENT
SUMMARY:Sonaravna hortikultura (AG328)\, predavanja (P)
DTSTART;TZID=Europe/Ljubljana:20251007T120000
DTEND;TZID=Europe/Ljubljana:20251007T140000
DTSTAMP:20260426T032355Z
UID:bf-AFLABS-URNIK:srecanje:25409-2025-10-07 12:00:00+02:00
DESCRIPTION:Predmet: Sonaravna hortikultura (AG328)\, predavanja (P)\nLetn
 iki: Hortikultura 2. letnik (MHO)\nIzvajalci: Metka Hudina\nProstor: Preda
 valnica Agronomija A2
END:VEVENT
END:VCALENDAR
