BEGIN:VCALENDAR
VERSION:2.0
PRODID:-//AFLabs urnik izvoz - bf//aflabs.si//SI
NAME:UL BF Urnik
X-WR-CALNAME:UL BF Urnik
DTSTAMP:20260425T154204Z
REFRESH-INTERVAL:PT1H
SOURCE:https://urniki.bf.uni-lj.si/en/teacher/334/?day=2025-09-08&export=1
URL:https://urniki.bf.uni-lj.si/en/teacher/334/?day=2025-09-08&export=1
X-PUBLISHED-TTL:PT1H
X-WR-TIMEZONE:Europe/Ljubljana
BEGIN:VTIMEZONE
TZID:Europe/Ljubljana
BEGIN:DAYLIGHT
DTSTART:20260329T020000
RDATE:20260329T020000
RDATE:20270328T020000
TZNAME:CEST
TZOFFSETFROM:+0100
TZOFFSETTO:+0200
END:DAYLIGHT
BEGIN:STANDARD
DTSTART:20261025T030000
RDATE:20261025T030000
RDATE:20271031T030000
TZNAME:CET
TZOFFSETFROM:+0200
TZOFFSETTO:+0100
END:STANDARD
END:VTIMEZONE
BEGIN:VEVENT
SUMMARY:Kakovost in predelava mleka (ZI017)\, predavanja in seminarji (P+S
 )
DTSTART;TZID=Europe/Ljubljana:20251001T103000
DTEND;TZID=Europe/Ljubljana:20251001T123000
DTSTAMP:20260425T154204Z
UID:bf-AFLABS-URNIK:srecanje:24954-2025-10-01 10:30:00+02:00
DESCRIPTION:Predmet: Kakovost in predelava mleka (ZI017)\, predavanja in s
 eminarji (P+S)\nLetniki: Kmetijstvo - živinoreja 2. letnik (ASP)\nIzvajal
 ci: Andreja Čanžek Majhenič\, Primož Treven\nProstor: Predavalnica Ro-
 6
END:VEVENT
BEGIN:VEVENT
SUMMARY:Kakovost in predelava mleka (ZI017)\, predavanja in seminarji (P+S
 )
DTSTART;TZID=Europe/Ljubljana:20251008T103000
DTEND;TZID=Europe/Ljubljana:20251008T123000
DTSTAMP:20260425T154204Z
UID:bf-AFLABS-URNIK:srecanje:24954-2025-10-08 10:30:00+02:00
DESCRIPTION:Predmet: Kakovost in predelava mleka (ZI017)\, predavanja in s
 eminarji (P+S)\nLetniki: Kmetijstvo - živinoreja 2. letnik (ASP)\nIzvajal
 ci: Andreja Čanžek Majhenič\, Primož Treven\nProstor: Predavalnica Ro-
 6
END:VEVENT
BEGIN:VEVENT
SUMMARY:Funkcionalna živila in nutracevtika (ZT217)\, predavanja in semin
 arji (P+S)
DTSTART;TZID=Europe/Ljubljana:20251002T160000
DTEND;TZID=Europe/Ljubljana:20251002T200000
DTSTAMP:20260425T154204Z
UID:bf-AFLABS-URNIK:srecanje:24819-2025-10-02 16:00:00+02:00
DESCRIPTION:Predmet: Funkcionalna živila in nutracevtika (ZT217)\, predav
 anja in seminarji (P+S)\nLetniki: Prehrana 1. letnik (MN)\, Prehrana 2. le
 tnik (MN)\nIzvajalci: Janez Salobir\, Primož Treven\nProstor: Predavalnic
 a Živilstvo Ž1
END:VEVENT
BEGIN:VEVENT
SUMMARY:Funkcionalna živila in nutracevtika (ZT217)\, predavanja in semin
 arji (P+S)
DTSTART;TZID=Europe/Ljubljana:20251009T160000
DTEND;TZID=Europe/Ljubljana:20251009T200000
DTSTAMP:20260425T154204Z
UID:bf-AFLABS-URNIK:srecanje:24819-2025-10-09 16:00:00+02:00
DESCRIPTION:Predmet: Funkcionalna živila in nutracevtika (ZT217)\, predav
 anja in seminarji (P+S)\nLetniki: Prehrana 1. letnik (MN)\, Prehrana 2. le
 tnik (MN)\nIzvajalci: Janez Salobir\, Primož Treven\nProstor: Predavalnic
 a Živilstvo Ž1
END:VEVENT
BEGIN:VEVENT
SUMMARY:Funkcionalna živila in nutracevtika (ZT217)\, predavanja in semin
 arji (P+S)
DTSTART;TZID=Europe/Ljubljana:20251003T140000
DTEND;TZID=Europe/Ljubljana:20251003T180000
DTSTAMP:20260425T154204Z
UID:bf-AFLABS-URNIK:srecanje:24820-2025-10-03 14:00:00+02:00
DESCRIPTION:Predmet: Funkcionalna živila in nutracevtika (ZT217)\, predav
 anja in seminarji (P+S)\nLetniki: Prehrana 1. letnik (MN)\, Prehrana 2. le
 tnik (MN)\nIzvajalci: Janez Salobir\, Primož Treven\nProstor: Predavalnic
 a Živilstvo Ž3
END:VEVENT
BEGIN:VEVENT
SUMMARY:Funkcionalna živila in nutracevtika (ZT217)\, predavanja in semin
 arji (P+S)
DTSTART;TZID=Europe/Ljubljana:20251010T140000
DTEND;TZID=Europe/Ljubljana:20251010T180000
DTSTAMP:20260425T154204Z
UID:bf-AFLABS-URNIK:srecanje:24820-2025-10-10 14:00:00+02:00
DESCRIPTION:Predmet: Funkcionalna živila in nutracevtika (ZT217)\, predav
 anja in seminarji (P+S)\nLetniki: Prehrana 1. letnik (MN)\, Prehrana 2. le
 tnik (MN)\nIzvajalci: Janez Salobir\, Primož Treven\nProstor: Predavalnic
 a Živilstvo Ž3
END:VEVENT
BEGIN:VEVENT
SUMMARY:Kakovost in predelava mleka (ZI017)\, predavanja in seminarji (P+S
 )
DTSTART;TZID=Europe/Ljubljana:20251003T080000
DTEND;TZID=Europe/Ljubljana:20251003T100000
DTSTAMP:20260425T154204Z
UID:bf-AFLABS-URNIK:srecanje:24955-2025-10-03 08:00:00+02:00
DESCRIPTION:Predmet: Kakovost in predelava mleka (ZI017)\, predavanja in s
 eminarji (P+S)\nLetniki: Kmetijstvo - živinoreja 2. letnik (ASP)\nIzvajal
 ci: Andreja Čanžek Majhenič\, Primož Treven\nProstor: Predavalnica Ro-
 6
END:VEVENT
BEGIN:VEVENT
SUMMARY:Kakovost in predelava mleka (ZI017)\, predavanja in seminarji (P+S
 )
DTSTART;TZID=Europe/Ljubljana:20251010T080000
DTEND;TZID=Europe/Ljubljana:20251010T100000
DTSTAMP:20260425T154204Z
UID:bf-AFLABS-URNIK:srecanje:24955-2025-10-10 08:00:00+02:00
DESCRIPTION:Predmet: Kakovost in predelava mleka (ZI017)\, predavanja in s
 eminarji (P+S)\nLetniki: Kmetijstvo - živinoreja 2. letnik (ASP)\nIzvajal
 ci: Andreja Čanžek Majhenič\, Primož Treven\nProstor: Predavalnica Ro-
 6
END:VEVENT
BEGIN:VEVENT
SUMMARY:Zagotavljanje varne in kakovostne hrane (ZO237)\, laboratorijske v
 aje (LV)\, [\; 2. sk.]
DTSTART;TZID=Europe/Ljubljana:20251007T080000
DTEND;TZID=Europe/Ljubljana:20251007T100000
DTSTAMP:20260425T154204Z
UID:bf-AFLABS-URNIK:srecanje:25631-2025-10-07 08:00:00+02:00
DESCRIPTION:Predmet: Zagotavljanje varne in kakovostne hrane (ZO237)\, lab
 oratorijske vaje (LV)\, [\; 2. sk.]\nLetniki: Znanost o živalih 1. letnik
  (MAS)\nIzvajalci: Primož Treven\nProstor: Računalniška učilnica Ro-RU
 1
END:VEVENT
BEGIN:VEVENT
SUMMARY:Zagotavljanje varne in kakovostne hrane (ZO237)\, predavanja (P)
DTSTART;TZID=Europe/Ljubljana:20251007T100000
DTEND;TZID=Europe/Ljubljana:20251007T130000
DTSTAMP:20260425T154204Z
UID:bf-AFLABS-URNIK:srecanje:25632-2025-10-07 10:00:00+02:00
DESCRIPTION:Predmet: Zagotavljanje varne in kakovostne hrane (ZO237)\, pre
 davanja (P)\nLetniki: Znanost o živalih 1. letnik (MAS)\nIzvajalci: Primo
 ž Treven\nProstor: Predavalnica Ro-3
END:VEVENT
BEGIN:VEVENT
SUMMARY:Zagotavljanje varne in kakovostne hrane (ZO237)\, laboratorijske v
 aje (LV)\, [\; 1. sk.]
DTSTART;TZID=Europe/Ljubljana:20251007T130000
DTEND;TZID=Europe/Ljubljana:20251007T150000
DTSTAMP:20260425T154204Z
UID:bf-AFLABS-URNIK:srecanje:29214-2025-10-07 13:00:00+02:00
DESCRIPTION:Predmet: Zagotavljanje varne in kakovostne hrane (ZO237)\, lab
 oratorijske vaje (LV)\, [\; 1. sk.]\nLetniki: Znanost o živalih 1. letnik
  (MAS)\nIzvajalci: Primož Treven\nProstor: Računalniška učilnica Ro-RU
 1
END:VEVENT
BEGIN:VEVENT
SUMMARY:Functional food and nutraceuticals-ERASMUS
DTSTART;TZID=Europe/Ljubljana:20251006T090000
DTEND;TZID=Europe/Ljubljana:20251006T130000
DTSTAMP:20260425T154204Z
UID:bf-AFLABS-URNIK:rezervacija:23748
CATEGORIES:Reservation
COLOR:royalblue
DESCRIPTION:Predmeti: \nLetniki: \nIzvajalci: Janez Salobir\, Primož Trev
 en\nProstori: Predavalnica Živilstvo Ž4
LOCATION:Department of food science\, Predavalnica Živilstvo Ž4
ORGANIZER:Janez Salobir, Primož Treven
X-WR-TIMEZONE:Europe/Ljubljana
END:VEVENT
BEGIN:VEVENT
SUMMARY:Functional food and nutraceuticals-ERASMUS
DTSTART;TZID=Europe/Ljubljana:20251013T090000
DTEND;TZID=Europe/Ljubljana:20251013T130000
DTSTAMP:20260425T154204Z
UID:bf-AFLABS-URNIK:rezervacija:23749
CATEGORIES:Reservation
COLOR:royalblue
DESCRIPTION:Predmeti: \nLetniki: \nIzvajalci: Janez Salobir\, Primož Trev
 en\nProstori: Predavalnica Živilstvo Ž4
LOCATION:Department of food science\, Predavalnica Živilstvo Ž4
ORGANIZER:Janez Salobir, Primož Treven
X-WR-TIMEZONE:Europe/Ljubljana
END:VEVENT
BEGIN:VEVENT
SUMMARY:Functional food and nutraceuticals-ERASMUS
DTSTART;TZID=Europe/Ljubljana:20251009T130000
DTEND;TZID=Europe/Ljubljana:20251009T160000
DTSTAMP:20260425T154204Z
UID:bf-AFLABS-URNIK:rezervacija:23753
CATEGORIES:Reservation
COLOR:royalblue
DESCRIPTION:Predmeti: \nLetniki: \nIzvajalci: Janez Salobir\, Primož Trev
 en\nProstori: Predavalnica Živilstvo Ž4
LOCATION:Department of food science\, Predavalnica Živilstvo Ž4
ORGANIZER:Janez Salobir, Primož Treven
X-WR-TIMEZONE:Europe/Ljubljana
END:VEVENT
BEGIN:VEVENT
SUMMARY:FŽIN Erasmus
DTSTART;TZID=Europe/Ljubljana:20251013T110000
DTEND;TZID=Europe/Ljubljana:20251013T130000
DTSTAMP:20260425T154204Z
UID:bf-AFLABS-URNIK:rezervacija:24177
CATEGORIES:Reservation
COLOR:royalblue
DESCRIPTION:Predmeti: \nLetniki: \nIzvajalci: Primož Treven\nProstori: Va
 jalnica Ro-V1
LOCATION:Department of animal science\, Vajalnica Ro-V1
ORGANIZER:Primož Treven
X-WR-TIMEZONE:Europe/Ljubljana
END:VEVENT
END:VCALENDAR
