BEGIN:VCALENDAR
VERSION:2.0
PRODID:-//AFLabs urnik izvoz - bf//aflabs.si//SI
NAME:UL BF Urnik
X-WR-CALNAME:UL BF Urnik
DTSTAMP:20260423T153747Z
REFRESH-INTERVAL:PT1H
SOURCE:https://urniki.bf.uni-lj.si/en/teacher/329/?day=2025-10-27&export=1
URL:https://urniki.bf.uni-lj.si/en/teacher/329/?day=2025-10-27&export=1
X-PUBLISHED-TTL:PT1H
X-WR-TIMEZONE:Europe/Ljubljana
BEGIN:VTIMEZONE
TZID:Europe/Ljubljana
BEGIN:DAYLIGHT
DTSTART:20260329T020000
RDATE:20260329T020000
RDATE:20270328T020000
TZNAME:CEST
TZOFFSETFROM:+0100
TZOFFSETTO:+0200
END:DAYLIGHT
BEGIN:STANDARD
DTSTART:20261025T030000
RDATE:20261025T030000
RDATE:20271031T030000
TZNAME:CET
TZOFFSETFROM:+0200
TZOFFSETTO:+0100
END:STANDARD
END:VTIMEZONE
BEGIN:VEVENT
SUMMARY:Osnove informatike in statistike (ZI013)\, laboratorijske vaje (LV
 )\, [2. sk]
DTSTART;TZID=Europe/Ljubljana:20251009T140000
DTEND;TZID=Europe/Ljubljana:20251009T170000
DTSTAMP:20260423T153747Z
UID:bf-AFLABS-URNIK:srecanje:29207-2025-10-09 14:00:00+02:00
DESCRIPTION:Predmet: Osnove informatike in statistike (ZI013)\, laboratori
 jske vaje (LV)\, [2. sk]\nLetniki: Kmetijstvo - živinoreja 2. letnik (ASP
 )\nIzvajalci: Barbara Luštrek\nProstor: Računalniška učilnica Ro-RU2
END:VEVENT
BEGIN:VEVENT
SUMMARY:Osnove informatike in statistike (ZI013)\, laboratorijske vaje (LV
 )\, [2. sk]
DTSTART;TZID=Europe/Ljubljana:20251016T140000
DTEND;TZID=Europe/Ljubljana:20251016T170000
DTSTAMP:20260423T153747Z
UID:bf-AFLABS-URNIK:srecanje:29207-2025-10-16 14:00:00+02:00
DESCRIPTION:Predmet: Osnove informatike in statistike (ZI013)\, laboratori
 jske vaje (LV)\, [2. sk]\nLetniki: Kmetijstvo - živinoreja 2. letnik (ASP
 )\nIzvajalci: Barbara Luštrek\nProstor: Računalniška učilnica Ro-RU2
END:VEVENT
BEGIN:VEVENT
SUMMARY:Osnove informatike in statistike (ZI013)\, laboratorijske vaje (LV
 )\, [2. sk]
DTSTART;TZID=Europe/Ljubljana:20251023T140000
DTEND;TZID=Europe/Ljubljana:20251023T170000
DTSTAMP:20260423T153747Z
UID:bf-AFLABS-URNIK:srecanje:29207-2025-10-23 14:00:00+02:00
DESCRIPTION:Predmet: Osnove informatike in statistike (ZI013)\, laboratori
 jske vaje (LV)\, [2. sk]\nLetniki: Kmetijstvo - živinoreja 2. letnik (ASP
 )\nIzvajalci: Barbara Luštrek\nProstor: Računalniška učilnica Ro-RU2
END:VEVENT
BEGIN:VEVENT
SUMMARY:Osnove informatike in statistike (ZI013)\, laboratorijske vaje (LV
 )\, [2. sk]
DTSTART;TZID=Europe/Ljubljana:20251030T140000
DTEND;TZID=Europe/Ljubljana:20251030T170000
DTSTAMP:20260423T153747Z
UID:bf-AFLABS-URNIK:srecanje:29207-2025-10-30 14:00:00+01:00
DESCRIPTION:Predmet: Osnove informatike in statistike (ZI013)\, laboratori
 jske vaje (LV)\, [2. sk]\nLetniki: Kmetijstvo - živinoreja 2. letnik (ASP
 )\nIzvajalci: Barbara Luštrek\nProstor: Računalniška učilnica Ro-RU2
END:VEVENT
BEGIN:VEVENT
SUMMARY:Osnove informatike in statistike (ZI013)\, laboratorijske vaje (LV
 )\, [2. sk]
DTSTART;TZID=Europe/Ljubljana:20251106T140000
DTEND;TZID=Europe/Ljubljana:20251106T170000
DTSTAMP:20260423T153747Z
UID:bf-AFLABS-URNIK:srecanje:29207-2025-11-06 14:00:00+01:00
DESCRIPTION:Predmet: Osnove informatike in statistike (ZI013)\, laboratori
 jske vaje (LV)\, [2. sk]\nLetniki: Kmetijstvo - živinoreja 2. letnik (ASP
 )\nIzvajalci: Barbara Luštrek\nProstor: Računalniška učilnica Ro-RU2
END:VEVENT
BEGIN:VEVENT
SUMMARY:Osnove informatike in statistike (ZI013)\, laboratorijske vaje (LV
 )\, [2. sk]
DTSTART;TZID=Europe/Ljubljana:20251113T140000
DTEND;TZID=Europe/Ljubljana:20251113T170000
DTSTAMP:20260423T153747Z
UID:bf-AFLABS-URNIK:srecanje:29207-2025-11-13 14:00:00+01:00
DESCRIPTION:Predmet: Osnove informatike in statistike (ZI013)\, laboratori
 jske vaje (LV)\, [2. sk]\nLetniki: Kmetijstvo - živinoreja 2. letnik (ASP
 )\nIzvajalci: Barbara Luštrek\nProstor: Računalniška učilnica Ro-RU2
END:VEVENT
BEGIN:VEVENT
SUMMARY:Osnove informatike in statistike (ZI013)\, laboratorijske vaje (LV
 )\, [: 1. sk.]
DTSTART;TZID=Europe/Ljubljana:20251009T080000
DTEND;TZID=Europe/Ljubljana:20251009T110000
DTSTAMP:20260423T153747Z
UID:bf-AFLABS-URNIK:srecanje:25248-2025-10-09 08:00:00+02:00
DESCRIPTION:Predmet: Osnove informatike in statistike (ZI013)\, laboratori
 jske vaje (LV)\, [: 1. sk.]\nLetniki: Kmetijstvo - živinoreja 2. letnik (
 ASP)\nIzvajalci: Barbara Luštrek\nProstor: Računalniška učilnica Ro-RU
 2
END:VEVENT
BEGIN:VEVENT
SUMMARY:Osnove informatike in statistike (ZI013)\, laboratorijske vaje (LV
 )\, [: 1. sk.]
DTSTART;TZID=Europe/Ljubljana:20251016T080000
DTEND;TZID=Europe/Ljubljana:20251016T110000
DTSTAMP:20260423T153747Z
UID:bf-AFLABS-URNIK:srecanje:25248-2025-10-16 08:00:00+02:00
DESCRIPTION:Predmet: Osnove informatike in statistike (ZI013)\, laboratori
 jske vaje (LV)\, [: 1. sk.]\nLetniki: Kmetijstvo - živinoreja 2. letnik (
 ASP)\nIzvajalci: Barbara Luštrek\nProstor: Računalniška učilnica Ro-RU
 2
END:VEVENT
BEGIN:VEVENT
SUMMARY:Osnove informatike in statistike (ZI013)\, laboratorijske vaje (LV
 )\, [: 1. sk.]
DTSTART;TZID=Europe/Ljubljana:20251023T080000
DTEND;TZID=Europe/Ljubljana:20251023T110000
DTSTAMP:20260423T153747Z
UID:bf-AFLABS-URNIK:srecanje:25248-2025-10-23 08:00:00+02:00
DESCRIPTION:Predmet: Osnove informatike in statistike (ZI013)\, laboratori
 jske vaje (LV)\, [: 1. sk.]\nLetniki: Kmetijstvo - živinoreja 2. letnik (
 ASP)\nIzvajalci: Barbara Luštrek\nProstor: Računalniška učilnica Ro-RU
 2
END:VEVENT
BEGIN:VEVENT
SUMMARY:Osnove informatike in statistike (ZI013)\, laboratorijske vaje (LV
 )\, [: 1. sk.]
DTSTART;TZID=Europe/Ljubljana:20251030T080000
DTEND;TZID=Europe/Ljubljana:20251030T110000
DTSTAMP:20260423T153747Z
UID:bf-AFLABS-URNIK:srecanje:25248-2025-10-30 08:00:00+01:00
DESCRIPTION:Predmet: Osnove informatike in statistike (ZI013)\, laboratori
 jske vaje (LV)\, [: 1. sk.]\nLetniki: Kmetijstvo - živinoreja 2. letnik (
 ASP)\nIzvajalci: Barbara Luštrek\nProstor: Računalniška učilnica Ro-RU
 2
END:VEVENT
BEGIN:VEVENT
SUMMARY:Osnove informatike in statistike (ZI013)\, laboratorijske vaje (LV
 )\, [: 1. sk.]
DTSTART;TZID=Europe/Ljubljana:20251106T080000
DTEND;TZID=Europe/Ljubljana:20251106T110000
DTSTAMP:20260423T153747Z
UID:bf-AFLABS-URNIK:srecanje:25248-2025-11-06 08:00:00+01:00
DESCRIPTION:Predmet: Osnove informatike in statistike (ZI013)\, laboratori
 jske vaje (LV)\, [: 1. sk.]\nLetniki: Kmetijstvo - živinoreja 2. letnik (
 ASP)\nIzvajalci: Barbara Luštrek\nProstor: Računalniška učilnica Ro-RU
 2
END:VEVENT
BEGIN:VEVENT
SUMMARY:Osnove informatike in statistike (ZI013)\, laboratorijske vaje (LV
 )\, [: 1. sk.]
DTSTART;TZID=Europe/Ljubljana:20251113T080000
DTEND;TZID=Europe/Ljubljana:20251113T110000
DTSTAMP:20260423T153747Z
UID:bf-AFLABS-URNIK:srecanje:25248-2025-11-13 08:00:00+01:00
DESCRIPTION:Predmet: Osnove informatike in statistike (ZI013)\, laboratori
 jske vaje (LV)\, [: 1. sk.]\nLetniki: Kmetijstvo - živinoreja 2. letnik (
 ASP)\nIzvajalci: Barbara Luštrek\nProstor: Računalniška učilnica Ro-RU
 2
END:VEVENT
BEGIN:VEVENT
SUMMARY:Osnove biometrije (ZO011)\, laboratorijske vaje (LV)
DTSTART;TZID=Europe/Ljubljana:20251010T080000
DTEND;TZID=Europe/Ljubljana:20251010T104500
DTSTAMP:20260423T153747Z
UID:bf-AFLABS-URNIK:srecanje:25225-2025-10-10 08:00:00+02:00
DESCRIPTION:Predmet: Osnove biometrije (ZO011)\, laboratorijske vaje (LV)\
 nLetniki: Kmetijstvo - zootehnika 2. letnik (ASUN)\nIzvajalci: Barbara Lu
 štrek\nProstor: Računalniška učilnica Ro-RU1
END:VEVENT
BEGIN:VEVENT
SUMMARY:Osnove biometrije (ZO011)\, laboratorijske vaje (LV)
DTSTART;TZID=Europe/Ljubljana:20251017T080000
DTEND;TZID=Europe/Ljubljana:20251017T104500
DTSTAMP:20260423T153747Z
UID:bf-AFLABS-URNIK:srecanje:25225-2025-10-17 08:00:00+02:00
DESCRIPTION:Predmet: Osnove biometrije (ZO011)\, laboratorijske vaje (LV)\
 nLetniki: Kmetijstvo - zootehnika 2. letnik (ASUN)\nIzvajalci: Barbara Lu
 štrek\nProstor: Računalniška učilnica Ro-RU1
END:VEVENT
BEGIN:VEVENT
SUMMARY:Osnove biometrije (ZO011)\, laboratorijske vaje (LV)
DTSTART;TZID=Europe/Ljubljana:20251024T080000
DTEND;TZID=Europe/Ljubljana:20251024T104500
DTSTAMP:20260423T153747Z
UID:bf-AFLABS-URNIK:srecanje:25225-2025-10-24 08:00:00+02:00
DESCRIPTION:Predmet: Osnove biometrije (ZO011)\, laboratorijske vaje (LV)\
 nLetniki: Kmetijstvo - zootehnika 2. letnik (ASUN)\nIzvajalci: Barbara Lu
 štrek\nProstor: Računalniška učilnica Ro-RU1
END:VEVENT
BEGIN:VEVENT
SUMMARY:Osnove biometrije (ZO011)\, laboratorijske vaje (LV)
DTSTART;TZID=Europe/Ljubljana:20251107T080000
DTEND;TZID=Europe/Ljubljana:20251107T104500
DTSTAMP:20260423T153747Z
UID:bf-AFLABS-URNIK:srecanje:25225-2025-11-07 08:00:00+01:00
DESCRIPTION:Predmet: Osnove biometrije (ZO011)\, laboratorijske vaje (LV)\
 nLetniki: Kmetijstvo - zootehnika 2. letnik (ASUN)\nIzvajalci: Barbara Lu
 štrek\nProstor: Računalniška učilnica Ro-RU1
END:VEVENT
BEGIN:VEVENT
SUMMARY:Osnove biometrije (ZO011)\, laboratorijske vaje (LV)
DTSTART;TZID=Europe/Ljubljana:20251114T080000
DTEND;TZID=Europe/Ljubljana:20251114T104500
DTSTAMP:20260423T153747Z
UID:bf-AFLABS-URNIK:srecanje:25225-2025-11-14 08:00:00+01:00
DESCRIPTION:Predmet: Osnove biometrije (ZO011)\, laboratorijske vaje (LV)\
 nLetniki: Kmetijstvo - zootehnika 2. letnik (ASUN)\nIzvajalci: Barbara Lu
 štrek\nProstor: Računalniška učilnica Ro-RU1
END:VEVENT
BEGIN:VEVENT
SUMMARY:Biometrija I (ZO235)\, laboratorijske vaje (LV)\, [\; 1. sk]
DTSTART;TZID=Europe/Ljubljana:20251013T080000
DTEND;TZID=Europe/Ljubljana:20251013T100000
DTSTAMP:20260423T153747Z
UID:bf-AFLABS-URNIK:srecanje:24636-2025-10-13 08:00:00+02:00
DESCRIPTION:Predmet: Biometrija I (ZO235)\, laboratorijske vaje (LV)\, [\;
  1. sk]\nLetniki: Znanost o živalih 1. letnik (MAS)\nIzvajalci: Barbara L
 uštrek\nProstor: Računalniška učilnica Ro-RU1
END:VEVENT
BEGIN:VEVENT
SUMMARY:Biometrija I (ZO235)\, laboratorijske vaje (LV)\, [\; 1. sk]
DTSTART;TZID=Europe/Ljubljana:20251020T080000
DTEND;TZID=Europe/Ljubljana:20251020T100000
DTSTAMP:20260423T153747Z
UID:bf-AFLABS-URNIK:srecanje:24636-2025-10-20 08:00:00+02:00
DESCRIPTION:Predmet: Biometrija I (ZO235)\, laboratorijske vaje (LV)\, [\;
  1. sk]\nLetniki: Znanost o živalih 1. letnik (MAS)\nIzvajalci: Barbara L
 uštrek\nProstor: Računalniška učilnica Ro-RU1
END:VEVENT
BEGIN:VEVENT
SUMMARY:Biometrija I (ZO235)\, laboratorijske vaje (LV)\, [\; 1. sk]
DTSTART;TZID=Europe/Ljubljana:20251027T080000
DTEND;TZID=Europe/Ljubljana:20251027T100000
DTSTAMP:20260423T153747Z
UID:bf-AFLABS-URNIK:srecanje:24636-2025-10-27 08:00:00+01:00
DESCRIPTION:Predmet: Biometrija I (ZO235)\, laboratorijske vaje (LV)\, [\;
  1. sk]\nLetniki: Znanost o živalih 1. letnik (MAS)\nIzvajalci: Barbara L
 uštrek\nProstor: Računalniška učilnica Ro-RU1
END:VEVENT
BEGIN:VEVENT
SUMMARY:Biometrija I (ZO235)\, laboratorijske vaje (LV)\, [\; 1. sk]
DTSTART;TZID=Europe/Ljubljana:20251103T080000
DTEND;TZID=Europe/Ljubljana:20251103T100000
DTSTAMP:20260423T153747Z
UID:bf-AFLABS-URNIK:srecanje:24636-2025-11-03 08:00:00+01:00
DESCRIPTION:Predmet: Biometrija I (ZO235)\, laboratorijske vaje (LV)\, [\;
  1. sk]\nLetniki: Znanost o živalih 1. letnik (MAS)\nIzvajalci: Barbara L
 uštrek\nProstor: Računalniška učilnica Ro-RU1
END:VEVENT
BEGIN:VEVENT
SUMMARY:Biometrija I (ZO235)\, laboratorijske vaje (LV)\, [\; 1. sk]
DTSTART;TZID=Europe/Ljubljana:20251110T080000
DTEND;TZID=Europe/Ljubljana:20251110T100000
DTSTAMP:20260423T153747Z
UID:bf-AFLABS-URNIK:srecanje:24636-2025-11-10 08:00:00+01:00
DESCRIPTION:Predmet: Biometrija I (ZO235)\, laboratorijske vaje (LV)\, [\;
  1. sk]\nLetniki: Znanost o živalih 1. letnik (MAS)\nIzvajalci: Barbara L
 uštrek\nProstor: Računalniška učilnica Ro-RU1
END:VEVENT
BEGIN:VEVENT
SUMMARY:Biometrija I (ZO235)\, laboratorijske vaje (LV)\, [\; 2. sk.]
DTSTART;TZID=Europe/Ljubljana:20251013T130000
DTEND;TZID=Europe/Ljubljana:20251013T150000
DTSTAMP:20260423T153747Z
UID:bf-AFLABS-URNIK:srecanje:29213-2025-10-13 13:00:00+02:00
DESCRIPTION:Predmet: Biometrija I (ZO235)\, laboratorijske vaje (LV)\, [\;
  2. sk.]\nLetniki: Znanost o živalih 1. letnik (MAS)\nIzvajalci: Barbara 
 Luštrek\nProstor: Računalniška učilnica Ro-RU1
END:VEVENT
BEGIN:VEVENT
SUMMARY:Biometrija I (ZO235)\, laboratorijske vaje (LV)\, [\; 2. sk.]
DTSTART;TZID=Europe/Ljubljana:20251020T130000
DTEND;TZID=Europe/Ljubljana:20251020T150000
DTSTAMP:20260423T153747Z
UID:bf-AFLABS-URNIK:srecanje:29213-2025-10-20 13:00:00+02:00
DESCRIPTION:Predmet: Biometrija I (ZO235)\, laboratorijske vaje (LV)\, [\;
  2. sk.]\nLetniki: Znanost o živalih 1. letnik (MAS)\nIzvajalci: Barbara 
 Luštrek\nProstor: Računalniška učilnica Ro-RU1
END:VEVENT
BEGIN:VEVENT
SUMMARY:Biometrija I (ZO235)\, laboratorijske vaje (LV)\, [\; 2. sk.]
DTSTART;TZID=Europe/Ljubljana:20251027T130000
DTEND;TZID=Europe/Ljubljana:20251027T150000
DTSTAMP:20260423T153747Z
UID:bf-AFLABS-URNIK:srecanje:29213-2025-10-27 13:00:00+01:00
DESCRIPTION:Predmet: Biometrija I (ZO235)\, laboratorijske vaje (LV)\, [\;
  2. sk.]\nLetniki: Znanost o živalih 1. letnik (MAS)\nIzvajalci: Barbara 
 Luštrek\nProstor: Računalniška učilnica Ro-RU1
END:VEVENT
BEGIN:VEVENT
SUMMARY:Biometrija I (ZO235)\, laboratorijske vaje (LV)\, [\; 2. sk.]
DTSTART;TZID=Europe/Ljubljana:20251103T130000
DTEND;TZID=Europe/Ljubljana:20251103T150000
DTSTAMP:20260423T153747Z
UID:bf-AFLABS-URNIK:srecanje:29213-2025-11-03 13:00:00+01:00
DESCRIPTION:Predmet: Biometrija I (ZO235)\, laboratorijske vaje (LV)\, [\;
  2. sk.]\nLetniki: Znanost o živalih 1. letnik (MAS)\nIzvajalci: Barbara 
 Luštrek\nProstor: Računalniška učilnica Ro-RU1
END:VEVENT
BEGIN:VEVENT
SUMMARY:Biometrija I (ZO235)\, laboratorijske vaje (LV)\, [\; 2. sk.]
DTSTART;TZID=Europe/Ljubljana:20251110T130000
DTEND;TZID=Europe/Ljubljana:20251110T150000
DTSTAMP:20260423T153747Z
UID:bf-AFLABS-URNIK:srecanje:29213-2025-11-10 13:00:00+01:00
DESCRIPTION:Predmet: Biometrija I (ZO235)\, laboratorijske vaje (LV)\, [\;
  2. sk.]\nLetniki: Znanost o živalih 1. letnik (MAS)\nIzvajalci: Barbara 
 Luštrek\nProstor: Računalniška učilnica Ro-RU1
END:VEVENT
BEGIN:VEVENT
SUMMARY:Biometrija I (ZO235)\, laboratorijske vaje (LV)\, [\; 1. sk.]
DTSTART;TZID=Europe/Ljubljana:20251124T080000
DTEND;TZID=Europe/Ljubljana:20251124T100000
DTSTAMP:20260423T153747Z
UID:bf-AFLABS-URNIK:srecanje:25782-2025-11-24 08:00:00+01:00
DESCRIPTION:Predmet: Biometrija I (ZO235)\, laboratorijske vaje (LV)\, [\;
  1. sk.]\nLetniki: Znanost o živalih 1. letnik (MAS)\nIzvajalci: Barbara 
 Luštrek\nProstor: Računalniška učilnica Ro-RU1
END:VEVENT
BEGIN:VEVENT
SUMMARY:Biometrija I (ZO235)\, laboratorijske vaje (LV)\, [\; 1. sk.]
DTSTART;TZID=Europe/Ljubljana:20251201T080000
DTEND;TZID=Europe/Ljubljana:20251201T100000
DTSTAMP:20260423T153747Z
UID:bf-AFLABS-URNIK:srecanje:25782-2025-12-01 08:00:00+01:00
DESCRIPTION:Predmet: Biometrija I (ZO235)\, laboratorijske vaje (LV)\, [\;
  1. sk.]\nLetniki: Znanost o živalih 1. letnik (MAS)\nIzvajalci: Barbara 
 Luštrek\nProstor: Računalniška učilnica Ro-RU1
END:VEVENT
BEGIN:VEVENT
SUMMARY:Biometrija I (ZO235)\, laboratorijske vaje (LV)\, [\; 2. sk]
DTSTART;TZID=Europe/Ljubljana:20251124T130000
DTEND;TZID=Europe/Ljubljana:20251124T150000
DTSTAMP:20260423T153747Z
UID:bf-AFLABS-URNIK:srecanje:29215-2025-11-24 13:00:00+01:00
DESCRIPTION:Predmet: Biometrija I (ZO235)\, laboratorijske vaje (LV)\, [\;
  2. sk]\nLetniki: Znanost o živalih 1. letnik (MAS)\nIzvajalci: Barbara L
 uštrek\nProstor: Računalniška učilnica Ro-RU1
END:VEVENT
BEGIN:VEVENT
SUMMARY:Biometrija I (ZO235)\, laboratorijske vaje (LV)\, [\; 2. sk]
DTSTART;TZID=Europe/Ljubljana:20251201T130000
DTEND;TZID=Europe/Ljubljana:20251201T150000
DTSTAMP:20260423T153747Z
UID:bf-AFLABS-URNIK:srecanje:29215-2025-12-01 13:00:00+01:00
DESCRIPTION:Predmet: Biometrija I (ZO235)\, laboratorijske vaje (LV)\, [\;
  2. sk]\nLetniki: Znanost o živalih 1. letnik (MAS)\nIzvajalci: Barbara L
 uštrek\nProstor: Računalniška učilnica Ro-RU1
END:VEVENT
BEGIN:VEVENT
SUMMARY:Osnove informatike in statistike (ZI013)\, seminarske vaje (SV)
DTSTART;TZID=Europe/Ljubljana:20251126T080000
DTEND;TZID=Europe/Ljubljana:20251126T110000
DTSTAMP:20260423T153747Z
UID:bf-AFLABS-URNIK:srecanje:26373-2025-11-26 08:00:00+01:00
DESCRIPTION:Predmet: Osnove informatike in statistike (ZI013)\, seminarske
  vaje (SV)\nLetniki: Kmetijstvo - živinoreja 2. letnik (ASP)\nIzvajalci: 
 Barbara Luštrek\nProstor: Predavalnica Ro-7
END:VEVENT
BEGIN:VEVENT
SUMMARY:Osnove informatike in statistike (ZI013)\, seminarske vaje (SV)
DTSTART;TZID=Europe/Ljubljana:20251126T080000
DTEND;TZID=Europe/Ljubljana:20251126T110000
DTSTAMP:20260423T153747Z
UID:bf-AFLABS-URNIK:srecanje:26374-2025-11-26 08:00:00+01:00
DESCRIPTION:Predmet: Osnove informatike in statistike (ZI013)\, seminarske
  vaje (SV)\nLetniki: Kmetijstvo - živinoreja 2. letnik (ASP)\nIzvajalci: 
 Barbara Luštrek\nProstor: Računalniška učilnica Ro-RU2
END:VEVENT
BEGIN:VEVENT
SUMMARY:Osnove biometrije (ZO011)\, laboratorijske vaje (LV)
DTSTART;TZID=Europe/Ljubljana:20251127T100000
DTEND;TZID=Europe/Ljubljana:20251127T120000
DTSTAMP:20260423T153747Z
UID:bf-AFLABS-URNIK:srecanje:26353-2025-11-27 10:00:00+01:00
DESCRIPTION:Predmet: Osnove biometrije (ZO011)\, laboratorijske vaje (LV)\
 nLetniki: Kmetijstvo - zootehnika 2. letnik (ASUN)\nIzvajalci: Barbara Lu
 štrek\nProstor: Računalniška učilnica Ro-RU1
END:VEVENT
BEGIN:VEVENT
SUMMARY:Konjereja ZI (ZI040)\, seminarske vaje (SV)
DTSTART;TZID=Europe/Ljubljana:20251128T160000
DTEND;TZID=Europe/Ljubljana:20251128T173000
DTSTAMP:20260423T153747Z
UID:bf-AFLABS-URNIK:srecanje:26148-2025-11-28 16:00:00+01:00
DESCRIPTION:Predmet: Konjereja ZI (ZI040)\, seminarske vaje (SV)\nLetniki:
  Kmetijstvo - živinoreja 3. letnik (ASP)\nIzvajalci: Barbara Luštrek\, K
 lemen Potočnik\nProstor: Predavalnica Ro-7
END:VEVENT
BEGIN:VEVENT
SUMMARY:Konjereja ZO (ZO033)\, seminarji in laboratorijske vaje (S+LV)
DTSTART;TZID=Europe/Ljubljana:20251128T150000
DTEND;TZID=Europe/Ljubljana:20251128T173000
DTSTAMP:20260423T153747Z
UID:bf-AFLABS-URNIK:srecanje:26150-2025-11-28 15:00:00+01:00
DESCRIPTION:Predmet: Konjereja ZO (ZO033)\, seminarji in laboratorijske va
 je (S+LV)\nLetniki: Kmetijstvo - zootehnika 3. letnik (ASUN)\nIzvajalci: B
 arbara Luštrek\, Klemen Potočnik\nProstor: Predavalnica Ro-7
END:VEVENT
BEGIN:VEVENT
SUMMARY:Osnove biometrije (ZO011)\, laboratorijske vaje (LV)
DTSTART;TZID=Europe/Ljubljana:20251128T100000
DTEND;TZID=Europe/Ljubljana:20251128T120000
DTSTAMP:20260423T153747Z
UID:bf-AFLABS-URNIK:srecanje:26352-2025-11-28 10:00:00+01:00
DESCRIPTION:Predmet: Osnove biometrije (ZO011)\, laboratorijske vaje (LV)\
 nLetniki: Kmetijstvo - zootehnika 2. letnik (ASUN)\nIzvajalci: Barbara Lu
 štrek\nProstor: Računalniška učilnica Ro-RU1
END:VEVENT
BEGIN:VEVENT
SUMMARY:Vaje Biometrija I
DTSTART;TZID=Europe/Ljubljana:20251124T100000
DTEND;TZID=Europe/Ljubljana:20251124T130000
DTSTAMP:20260423T153747Z
UID:bf-AFLABS-URNIK:rezervacija:25319
ATTENDEE:Znanost o živalih 1. letnik (MAS)
CATEGORIES:Reservation
COLOR:royalblue
DESCRIPTION:Predmeti: Biometrija I (ZO235)\nLetniki: Znanost o živalih 1.
  letnik (MAS)\nIzvajalci: Barbara Luštrek\nProstori: Računalniška učil
 nica Ro-RU1
LOCATION:Department of animal science\, Računalniška učilnica Ro-RU1
ORGANIZER:Barbara Luštrek
X-WR-TIMEZONE:Europe/Ljubljana
END:VEVENT
BEGIN:VEVENT
SUMMARY:Vaje Osnove biometrije
DTSTART;TZID=Europe/Ljubljana:20251127T080000
DTEND;TZID=Europe/Ljubljana:20251127T100000
DTSTAMP:20260423T153747Z
UID:bf-AFLABS-URNIK:rezervacija:25412
ATTENDEE:Kmetijstvo - zootehnika 2. letnik (ASUN)
CATEGORIES:Reservation
COLOR:royalblue
DESCRIPTION:Predmeti: Osnove biometrije (ZO011)\nLetniki: Kmetijstvo - zoo
 tehnika 2. letnik (ASUN)\nIzvajalci: Barbara Luštrek\nProstori: Računaln
 iška učilnica Ro-RU1
LOCATION:Department of animal science\, Računalniška učilnica Ro-RU1
ORGANIZER:Barbara Luštrek
X-WR-TIMEZONE:Europe/Ljubljana
END:VEVENT
END:VCALENDAR
