BEGIN:VCALENDAR
VERSION:2.0
PRODID:-//AFLabs urnik izvoz - bf//aflabs.si//SI
NAME:UL BF Urnik
X-WR-CALNAME:UL BF Urnik
DTSTAMP:20260425T220909Z
REFRESH-INTERVAL:PT1H
SOURCE:https://urniki.bf.uni-lj.si/en/teacher/325/?day=2025-10-06&export=1
URL:https://urniki.bf.uni-lj.si/en/teacher/325/?day=2025-10-06&export=1
X-PUBLISHED-TTL:PT1H
X-WR-TIMEZONE:Europe/Ljubljana
BEGIN:VTIMEZONE
TZID:Europe/Ljubljana
BEGIN:DAYLIGHT
DTSTART:20260329T020000
RDATE:20260329T020000
RDATE:20270328T020000
TZNAME:CEST
TZOFFSETFROM:+0100
TZOFFSETTO:+0200
END:DAYLIGHT
BEGIN:STANDARD
DTSTART:20261025T030000
RDATE:20261025T030000
RDATE:20271031T030000
TZNAME:CET
TZOFFSETFROM:+0200
TZOFFSETTO:+0100
END:STANDARD
END:VTIMEZONE
BEGIN:VEVENT
SUMMARY:Kakovost in predelava mleka (ZI017)\, predavanja in seminarji (P+S
 )
DTSTART;TZID=Europe/Ljubljana:20251001T103000
DTEND;TZID=Europe/Ljubljana:20251001T123000
DTSTAMP:20260425T220909Z
UID:bf-AFLABS-URNIK:srecanje:24954-2025-10-01 10:30:00+02:00
DESCRIPTION:Predmet: Kakovost in predelava mleka (ZI017)\, predavanja in s
 eminarji (P+S)\nLetniki: Kmetijstvo - živinoreja 2. letnik (ASP)\nIzvajal
 ci: Andreja Čanžek Majhenič\, Primož Treven\nProstor: Predavalnica Ro-
 6
END:VEVENT
BEGIN:VEVENT
SUMMARY:Kakovost in predelava mleka (ZI017)\, predavanja in seminarji (P+S
 )
DTSTART;TZID=Europe/Ljubljana:20251008T103000
DTEND;TZID=Europe/Ljubljana:20251008T123000
DTSTAMP:20260425T220909Z
UID:bf-AFLABS-URNIK:srecanje:24954-2025-10-08 10:30:00+02:00
DESCRIPTION:Predmet: Kakovost in predelava mleka (ZI017)\, predavanja in s
 eminarji (P+S)\nLetniki: Kmetijstvo - živinoreja 2. letnik (ASP)\nIzvajal
 ci: Andreja Čanžek Majhenič\, Primož Treven\nProstor: Predavalnica Ro-
 6
END:VEVENT
BEGIN:VEVENT
SUMMARY:Kakovost in predelava mleka (ZI017)\, predavanja in seminarji (P+S
 )
DTSTART;TZID=Europe/Ljubljana:20251015T103000
DTEND;TZID=Europe/Ljubljana:20251015T123000
DTSTAMP:20260425T220909Z
UID:bf-AFLABS-URNIK:srecanje:24954-2025-10-15 10:30:00+02:00
DESCRIPTION:Predmet: Kakovost in predelava mleka (ZI017)\, predavanja in s
 eminarji (P+S)\nLetniki: Kmetijstvo - živinoreja 2. letnik (ASP)\nIzvajal
 ci: Andreja Čanžek Majhenič\, Primož Treven\nProstor: Predavalnica Ro-
 6
END:VEVENT
BEGIN:VEVENT
SUMMARY:Kakovost in predelava mleka (ZI017)\, predavanja in seminarji (P+S
 )
DTSTART;TZID=Europe/Ljubljana:20251022T103000
DTEND;TZID=Europe/Ljubljana:20251022T123000
DTSTAMP:20260425T220909Z
UID:bf-AFLABS-URNIK:srecanje:24954-2025-10-22 10:30:00+02:00
DESCRIPTION:Predmet: Kakovost in predelava mleka (ZI017)\, predavanja in s
 eminarji (P+S)\nLetniki: Kmetijstvo - živinoreja 2. letnik (ASP)\nIzvajal
 ci: Andreja Čanžek Majhenič\, Primož Treven\nProstor: Predavalnica Ro-
 6
END:VEVENT
BEGIN:VEVENT
SUMMARY:Kakovost in predelava mleka (ZI017)\, predavanja in seminarji (P+S
 )
DTSTART;TZID=Europe/Ljubljana:20251029T103000
DTEND;TZID=Europe/Ljubljana:20251029T123000
DTSTAMP:20260425T220909Z
UID:bf-AFLABS-URNIK:srecanje:24954-2025-10-29 10:30:00+01:00
DESCRIPTION:Predmet: Kakovost in predelava mleka (ZI017)\, predavanja in s
 eminarji (P+S)\nLetniki: Kmetijstvo - živinoreja 2. letnik (ASP)\nIzvajal
 ci: Andreja Čanžek Majhenič\, Primož Treven\nProstor: Predavalnica Ro-
 6
END:VEVENT
BEGIN:VEVENT
SUMMARY:Kakovost in predelava mleka (ZI017)\, predavanja in seminarji (P+S
 )
DTSTART;TZID=Europe/Ljubljana:20251105T103000
DTEND;TZID=Europe/Ljubljana:20251105T123000
DTSTAMP:20260425T220909Z
UID:bf-AFLABS-URNIK:srecanje:24954-2025-11-05 10:30:00+01:00
DESCRIPTION:Predmet: Kakovost in predelava mleka (ZI017)\, predavanja in s
 eminarji (P+S)\nLetniki: Kmetijstvo - živinoreja 2. letnik (ASP)\nIzvajal
 ci: Andreja Čanžek Majhenič\, Primož Treven\nProstor: Predavalnica Ro-
 6
END:VEVENT
BEGIN:VEVENT
SUMMARY:Kakovost in predelava mleka (ZI017)\, predavanja in seminarji (P+S
 )
DTSTART;TZID=Europe/Ljubljana:20251112T103000
DTEND;TZID=Europe/Ljubljana:20251112T123000
DTSTAMP:20260425T220909Z
UID:bf-AFLABS-URNIK:srecanje:24954-2025-11-12 10:30:00+01:00
DESCRIPTION:Predmet: Kakovost in predelava mleka (ZI017)\, predavanja in s
 eminarji (P+S)\nLetniki: Kmetijstvo - živinoreja 2. letnik (ASP)\nIzvajal
 ci: Andreja Čanžek Majhenič\, Primož Treven\nProstor: Predavalnica Ro-
 6
END:VEVENT
BEGIN:VEVENT
SUMMARY:Predelava mleka (ZO224)\, predavanja (P)
DTSTART;TZID=Europe/Ljubljana:20251002T100000
DTEND;TZID=Europe/Ljubljana:20251002T130000
DTSTAMP:20260425T220909Z
UID:bf-AFLABS-URNIK:srecanje:29006-2025-10-02 10:00:00+02:00
DESCRIPTION:Predmet: Predelava mleka (ZO224)\, predavanja (P)\nLetniki: \n
 Izvajalci: Andreja Čanžek Majhenič\nProstor: Predavalnica Ro-5
END:VEVENT
BEGIN:VEVENT
SUMMARY:Predelava mleka (ZO224)\, predavanja (P)
DTSTART;TZID=Europe/Ljubljana:20251009T100000
DTEND;TZID=Europe/Ljubljana:20251009T130000
DTSTAMP:20260425T220909Z
UID:bf-AFLABS-URNIK:srecanje:29006-2025-10-09 10:00:00+02:00
DESCRIPTION:Predmet: Predelava mleka (ZO224)\, predavanja (P)\nLetniki: \n
 Izvajalci: Andreja Čanžek Majhenič\nProstor: Predavalnica Ro-5
END:VEVENT
BEGIN:VEVENT
SUMMARY:Predelava mleka (ZO224)\, predavanja (P)
DTSTART;TZID=Europe/Ljubljana:20251016T100000
DTEND;TZID=Europe/Ljubljana:20251016T130000
DTSTAMP:20260425T220909Z
UID:bf-AFLABS-URNIK:srecanje:29006-2025-10-16 10:00:00+02:00
DESCRIPTION:Predmet: Predelava mleka (ZO224)\, predavanja (P)\nLetniki: \n
 Izvajalci: Andreja Čanžek Majhenič\nProstor: Predavalnica Ro-5
END:VEVENT
BEGIN:VEVENT
SUMMARY:Predelava mleka (ZO224)\, predavanja (P)
DTSTART;TZID=Europe/Ljubljana:20251023T100000
DTEND;TZID=Europe/Ljubljana:20251023T130000
DTSTAMP:20260425T220909Z
UID:bf-AFLABS-URNIK:srecanje:29006-2025-10-23 10:00:00+02:00
DESCRIPTION:Predmet: Predelava mleka (ZO224)\, predavanja (P)\nLetniki: \n
 Izvajalci: Andreja Čanžek Majhenič\nProstor: Predavalnica Ro-5
END:VEVENT
BEGIN:VEVENT
SUMMARY:Predelava mleka (ZO224)\, predavanja (P)
DTSTART;TZID=Europe/Ljubljana:20251030T100000
DTEND;TZID=Europe/Ljubljana:20251030T130000
DTSTAMP:20260425T220909Z
UID:bf-AFLABS-URNIK:srecanje:29006-2025-10-30 10:00:00+01:00
DESCRIPTION:Predmet: Predelava mleka (ZO224)\, predavanja (P)\nLetniki: \n
 Izvajalci: Andreja Čanžek Majhenič\nProstor: Predavalnica Ro-5
END:VEVENT
BEGIN:VEVENT
SUMMARY:Predelava mleka (ZO224)\, predavanja (P)
DTSTART;TZID=Europe/Ljubljana:20251106T100000
DTEND;TZID=Europe/Ljubljana:20251106T130000
DTSTAMP:20260425T220909Z
UID:bf-AFLABS-URNIK:srecanje:29006-2025-11-06 10:00:00+01:00
DESCRIPTION:Predmet: Predelava mleka (ZO224)\, predavanja (P)\nLetniki: \n
 Izvajalci: Andreja Čanžek Majhenič\nProstor: Predavalnica Ro-5
END:VEVENT
BEGIN:VEVENT
SUMMARY:Predelava mleka (ZO224)\, predavanja (P)
DTSTART;TZID=Europe/Ljubljana:20251113T100000
DTEND;TZID=Europe/Ljubljana:20251113T130000
DTSTAMP:20260425T220909Z
UID:bf-AFLABS-URNIK:srecanje:29006-2025-11-13 10:00:00+01:00
DESCRIPTION:Predmet: Predelava mleka (ZO224)\, predavanja (P)\nLetniki: \n
 Izvajalci: Andreja Čanžek Majhenič\nProstor: Predavalnica Ro-5
END:VEVENT
BEGIN:VEVENT
SUMMARY:Kakovost in predelava mleka (ZI017)\, predavanja in seminarji (P+S
 )
DTSTART;TZID=Europe/Ljubljana:20251003T080000
DTEND;TZID=Europe/Ljubljana:20251003T100000
DTSTAMP:20260425T220909Z
UID:bf-AFLABS-URNIK:srecanje:24955-2025-10-03 08:00:00+02:00
DESCRIPTION:Predmet: Kakovost in predelava mleka (ZI017)\, predavanja in s
 eminarji (P+S)\nLetniki: Kmetijstvo - živinoreja 2. letnik (ASP)\nIzvajal
 ci: Andreja Čanžek Majhenič\, Primož Treven\nProstor: Predavalnica Ro-
 6
END:VEVENT
BEGIN:VEVENT
SUMMARY:Kakovost in predelava mleka (ZI017)\, predavanja in seminarji (P+S
 )
DTSTART;TZID=Europe/Ljubljana:20251010T080000
DTEND;TZID=Europe/Ljubljana:20251010T100000
DTSTAMP:20260425T220909Z
UID:bf-AFLABS-URNIK:srecanje:24955-2025-10-10 08:00:00+02:00
DESCRIPTION:Predmet: Kakovost in predelava mleka (ZI017)\, predavanja in s
 eminarji (P+S)\nLetniki: Kmetijstvo - živinoreja 2. letnik (ASP)\nIzvajal
 ci: Andreja Čanžek Majhenič\, Primož Treven\nProstor: Predavalnica Ro-
 6
END:VEVENT
BEGIN:VEVENT
SUMMARY:Kakovost in predelava mleka (ZI017)\, predavanja in seminarji (P+S
 )
DTSTART;TZID=Europe/Ljubljana:20251017T080000
DTEND;TZID=Europe/Ljubljana:20251017T100000
DTSTAMP:20260425T220909Z
UID:bf-AFLABS-URNIK:srecanje:24955-2025-10-17 08:00:00+02:00
DESCRIPTION:Predmet: Kakovost in predelava mleka (ZI017)\, predavanja in s
 eminarji (P+S)\nLetniki: Kmetijstvo - živinoreja 2. letnik (ASP)\nIzvajal
 ci: Andreja Čanžek Majhenič\, Primož Treven\nProstor: Predavalnica Ro-
 6
END:VEVENT
BEGIN:VEVENT
SUMMARY:Kakovost in predelava mleka (ZI017)\, predavanja in seminarji (P+S
 )
DTSTART;TZID=Europe/Ljubljana:20251024T080000
DTEND;TZID=Europe/Ljubljana:20251024T100000
DTSTAMP:20260425T220909Z
UID:bf-AFLABS-URNIK:srecanje:24955-2025-10-24 08:00:00+02:00
DESCRIPTION:Predmet: Kakovost in predelava mleka (ZI017)\, predavanja in s
 eminarji (P+S)\nLetniki: Kmetijstvo - živinoreja 2. letnik (ASP)\nIzvajal
 ci: Andreja Čanžek Majhenič\, Primož Treven\nProstor: Predavalnica Ro-
 6
END:VEVENT
BEGIN:VEVENT
SUMMARY:Kakovost in predelava mleka (ZI017)\, predavanja in seminarji (P+S
 )
DTSTART;TZID=Europe/Ljubljana:20251107T080000
DTEND;TZID=Europe/Ljubljana:20251107T100000
DTSTAMP:20260425T220909Z
UID:bf-AFLABS-URNIK:srecanje:24955-2025-11-07 08:00:00+01:00
DESCRIPTION:Predmet: Kakovost in predelava mleka (ZI017)\, predavanja in s
 eminarji (P+S)\nLetniki: Kmetijstvo - živinoreja 2. letnik (ASP)\nIzvajal
 ci: Andreja Čanžek Majhenič\, Primož Treven\nProstor: Predavalnica Ro-
 6
END:VEVENT
BEGIN:VEVENT
SUMMARY:Kakovost in predelava mleka (ZI017)\, predavanja in seminarji (P+S
 )
DTSTART;TZID=Europe/Ljubljana:20251114T080000
DTEND;TZID=Europe/Ljubljana:20251114T100000
DTSTAMP:20260425T220909Z
UID:bf-AFLABS-URNIK:srecanje:24955-2025-11-14 08:00:00+01:00
DESCRIPTION:Predmet: Kakovost in predelava mleka (ZI017)\, predavanja in s
 eminarji (P+S)\nLetniki: Kmetijstvo - živinoreja 2. letnik (ASP)\nIzvajal
 ci: Andreja Čanžek Majhenič\, Primož Treven\nProstor: Predavalnica Ro-
 6
END:VEVENT
BEGIN:VEVENT
SUMMARY:Predelava mleka (ZO224)\, predavanja (P)
DTSTART;TZID=Europe/Ljubljana:20251007T090000
DTEND;TZID=Europe/Ljubljana:20251007T113000
DTSTAMP:20260425T220909Z
UID:bf-AFLABS-URNIK:srecanje:29003-2025-10-07 09:00:00+02:00
DESCRIPTION:Predmet: Predelava mleka (ZO224)\, predavanja (P)\nLetniki: \n
 Izvajalci: Andreja Čanžek Majhenič\nProstor: Predavalnica Ro-6
END:VEVENT
BEGIN:VEVENT
SUMMARY:Predelava mleka (ZO224)\, predavanja (P)
DTSTART;TZID=Europe/Ljubljana:20251014T090000
DTEND;TZID=Europe/Ljubljana:20251014T113000
DTSTAMP:20260425T220909Z
UID:bf-AFLABS-URNIK:srecanje:29003-2025-10-14 09:00:00+02:00
DESCRIPTION:Predmet: Predelava mleka (ZO224)\, predavanja (P)\nLetniki: \n
 Izvajalci: Andreja Čanžek Majhenič\nProstor: Predavalnica Ro-6
END:VEVENT
BEGIN:VEVENT
SUMMARY:Predelava mleka (ZO224)\, predavanja (P)
DTSTART;TZID=Europe/Ljubljana:20251021T090000
DTEND;TZID=Europe/Ljubljana:20251021T113000
DTSTAMP:20260425T220909Z
UID:bf-AFLABS-URNIK:srecanje:29003-2025-10-21 09:00:00+02:00
DESCRIPTION:Predmet: Predelava mleka (ZO224)\, predavanja (P)\nLetniki: \n
 Izvajalci: Andreja Čanžek Majhenič\nProstor: Predavalnica Ro-6
END:VEVENT
BEGIN:VEVENT
SUMMARY:Predelava mleka (ZO224)\, predavanja (P)
DTSTART;TZID=Europe/Ljubljana:20251028T090000
DTEND;TZID=Europe/Ljubljana:20251028T113000
DTSTAMP:20260425T220909Z
UID:bf-AFLABS-URNIK:srecanje:29003-2025-10-28 09:00:00+01:00
DESCRIPTION:Predmet: Predelava mleka (ZO224)\, predavanja (P)\nLetniki: \n
 Izvajalci: Andreja Čanžek Majhenič\nProstor: Predavalnica Ro-6
END:VEVENT
BEGIN:VEVENT
SUMMARY:Predelava mleka (ZO224)\, predavanja (P)
DTSTART;TZID=Europe/Ljubljana:20251104T090000
DTEND;TZID=Europe/Ljubljana:20251104T113000
DTSTAMP:20260425T220909Z
UID:bf-AFLABS-URNIK:srecanje:29003-2025-11-04 09:00:00+01:00
DESCRIPTION:Predmet: Predelava mleka (ZO224)\, predavanja (P)\nLetniki: \n
 Izvajalci: Andreja Čanžek Majhenič\nProstor: Predavalnica Ro-6
END:VEVENT
BEGIN:VEVENT
SUMMARY:Predelava mleka (ZO224)\, predavanja (P)
DTSTART;TZID=Europe/Ljubljana:20251111T090000
DTEND;TZID=Europe/Ljubljana:20251111T113000
DTSTAMP:20260425T220909Z
UID:bf-AFLABS-URNIK:srecanje:29003-2025-11-11 09:00:00+01:00
DESCRIPTION:Predmet: Predelava mleka (ZO224)\, predavanja (P)\nLetniki: \n
 Izvajalci: Andreja Čanžek Majhenič\nProstor: Predavalnica Ro-6
END:VEVENT
BEGIN:VEVENT
SUMMARY:predvanja Predelava mleka
DTSTART;TZID=Europe/Ljubljana:20251028T120000
DTEND;TZID=Europe/Ljubljana:20251028T150000
DTSTAMP:20260425T220909Z
UID:bf-AFLABS-URNIK:rezervacija:24614
CATEGORIES:Reservation
COLOR:royalblue
DESCRIPTION:Predmeti: \nLetniki: \nIzvajalci: Andreja Čanžek Majhenič\n
 Prostori: Predavalnica Ro-6
LOCATION:Department of animal science\, Predavalnica Ro-6
ORGANIZER:Andreja Čanžek Majhenič
X-WR-TIMEZONE:Europe/Ljubljana
END:VEVENT
END:VCALENDAR
