BEGIN:VCALENDAR
VERSION:2.0
PRODID:-//AFLabs urnik izvoz - bf//aflabs.si//SI
NAME:UL BF Urnik
X-WR-CALNAME:UL BF Urnik
DTSTAMP:20260421T162122Z
REFRESH-INTERVAL:PT1H
SOURCE:https://urniki.bf.uni-lj.si/en/teacher/313/?day=2025-10-06&export=1
URL:https://urniki.bf.uni-lj.si/en/teacher/313/?day=2025-10-06&export=1
X-PUBLISHED-TTL:PT1H
X-WR-TIMEZONE:Europe/Ljubljana
BEGIN:VTIMEZONE
TZID:Europe/Ljubljana
BEGIN:DAYLIGHT
DTSTART:20260329T020000
RDATE:20260329T020000
RDATE:20270328T020000
TZNAME:CEST
TZOFFSETFROM:+0100
TZOFFSETTO:+0200
END:DAYLIGHT
BEGIN:STANDARD
DTSTART:20261025T030000
RDATE:20261025T030000
RDATE:20271031T030000
TZNAME:CET
TZOFFSETFROM:+0200
TZOFFSETTO:+0100
END:STANDARD
END:VTIMEZONE
BEGIN:VEVENT
SUMMARY:Ekonomika živinorejske proizvodnje (ZI026)\, predavanja in semina
 rji (P+S)
DTSTART;TZID=Europe/Ljubljana:20251002T080000
DTEND;TZID=Europe/Ljubljana:20251002T100000
DTSTAMP:20260421T162122Z
UID:bf-AFLABS-URNIK:srecanje:24722-2025-10-02 08:00:00+02:00
DESCRIPTION:Predmet: Ekonomika živinorejske proizvodnje (ZI026)\, predava
 nja in seminarji (P+S)\nLetniki: Kmetijstvo - živinoreja 3. letnik (ASP)\
 nIzvajalci: Jaka Žgajnar\nProstor: Predavalnica Ro-3
END:VEVENT
BEGIN:VEVENT
SUMMARY:Ekonomika živinorejske proizvodnje (ZI026)\, predavanja in semina
 rji (P+S)
DTSTART;TZID=Europe/Ljubljana:20251009T080000
DTEND;TZID=Europe/Ljubljana:20251009T100000
DTSTAMP:20260421T162122Z
UID:bf-AFLABS-URNIK:srecanje:24722-2025-10-09 08:00:00+02:00
DESCRIPTION:Predmet: Ekonomika živinorejske proizvodnje (ZI026)\, predava
 nja in seminarji (P+S)\nLetniki: Kmetijstvo - živinoreja 3. letnik (ASP)\
 nIzvajalci: Jaka Žgajnar\nProstor: Predavalnica Ro-3
END:VEVENT
BEGIN:VEVENT
SUMMARY:Ekonomika živinorejske proizvodnje (ZI026)\, predavanja in semina
 rji (P+S)
DTSTART;TZID=Europe/Ljubljana:20251016T080000
DTEND;TZID=Europe/Ljubljana:20251016T100000
DTSTAMP:20260421T162122Z
UID:bf-AFLABS-URNIK:srecanje:24722-2025-10-16 08:00:00+02:00
DESCRIPTION:Predmet: Ekonomika živinorejske proizvodnje (ZI026)\, predava
 nja in seminarji (P+S)\nLetniki: Kmetijstvo - živinoreja 3. letnik (ASP)\
 nIzvajalci: Jaka Žgajnar\nProstor: Predavalnica Ro-3
END:VEVENT
BEGIN:VEVENT
SUMMARY:Ekonomika živinorejske proizvodnje (ZI026)\, predavanja in semina
 rji (P+S)
DTSTART;TZID=Europe/Ljubljana:20251023T080000
DTEND;TZID=Europe/Ljubljana:20251023T100000
DTSTAMP:20260421T162122Z
UID:bf-AFLABS-URNIK:srecanje:24722-2025-10-23 08:00:00+02:00
DESCRIPTION:Predmet: Ekonomika živinorejske proizvodnje (ZI026)\, predava
 nja in seminarji (P+S)\nLetniki: Kmetijstvo - živinoreja 3. letnik (ASP)\
 nIzvajalci: Jaka Žgajnar\nProstor: Predavalnica Ro-3
END:VEVENT
BEGIN:VEVENT
SUMMARY:Ekonomika živinorejske proizvodnje (ZI026)\, predavanja in semina
 rji (P+S)
DTSTART;TZID=Europe/Ljubljana:20251030T080000
DTEND;TZID=Europe/Ljubljana:20251030T100000
DTSTAMP:20260421T162122Z
UID:bf-AFLABS-URNIK:srecanje:24722-2025-10-30 08:00:00+01:00
DESCRIPTION:Predmet: Ekonomika živinorejske proizvodnje (ZI026)\, predava
 nja in seminarji (P+S)\nLetniki: Kmetijstvo - živinoreja 3. letnik (ASP)\
 nIzvajalci: Jaka Žgajnar\nProstor: Predavalnica Ro-3
END:VEVENT
BEGIN:VEVENT
SUMMARY:Ekonomika živinorejske proizvodnje (ZI026)\, predavanja in semina
 rji (P+S)
DTSTART;TZID=Europe/Ljubljana:20251106T080000
DTEND;TZID=Europe/Ljubljana:20251106T100000
DTSTAMP:20260421T162122Z
UID:bf-AFLABS-URNIK:srecanje:24722-2025-11-06 08:00:00+01:00
DESCRIPTION:Predmet: Ekonomika živinorejske proizvodnje (ZI026)\, predava
 nja in seminarji (P+S)\nLetniki: Kmetijstvo - živinoreja 3. letnik (ASP)\
 nIzvajalci: Jaka Žgajnar\nProstor: Predavalnica Ro-3
END:VEVENT
BEGIN:VEVENT
SUMMARY:Ekonomika živinorejske proizvodnje (ZI026)\, predavanja in semina
 rji (P+S)
DTSTART;TZID=Europe/Ljubljana:20251113T080000
DTEND;TZID=Europe/Ljubljana:20251113T100000
DTSTAMP:20260421T162122Z
UID:bf-AFLABS-URNIK:srecanje:24722-2025-11-13 08:00:00+01:00
DESCRIPTION:Predmet: Ekonomika živinorejske proizvodnje (ZI026)\, predava
 nja in seminarji (P+S)\nLetniki: Kmetijstvo - živinoreja 3. letnik (ASP)\
 nIzvajalci: Jaka Žgajnar\nProstor: Predavalnica Ro-3
END:VEVENT
BEGIN:VEVENT
SUMMARY:Ekonomika živinorejske proizvodnje (ZI026)\, seminarske vaje (SV)
DTSTART;TZID=Europe/Ljubljana:20251002T100000
DTEND;TZID=Europe/Ljubljana:20251002T130000
DTSTAMP:20260421T162122Z
UID:bf-AFLABS-URNIK:srecanje:24723-2025-10-02 10:00:00+02:00
DESCRIPTION:Predmet: Ekonomika živinorejske proizvodnje (ZI026)\, seminar
 ske vaje (SV)\nLetniki: Kmetijstvo - živinoreja 3. letnik (ASP)\nIzvajalc
 i: Jaka Žgajnar\nProstor: Predavalnica Ro-3
END:VEVENT
BEGIN:VEVENT
SUMMARY:Ekonomika živinorejske proizvodnje (ZI026)\, seminarske vaje (SV)
DTSTART;TZID=Europe/Ljubljana:20251009T100000
DTEND;TZID=Europe/Ljubljana:20251009T130000
DTSTAMP:20260421T162122Z
UID:bf-AFLABS-URNIK:srecanje:24723-2025-10-09 10:00:00+02:00
DESCRIPTION:Predmet: Ekonomika živinorejske proizvodnje (ZI026)\, seminar
 ske vaje (SV)\nLetniki: Kmetijstvo - živinoreja 3. letnik (ASP)\nIzvajalc
 i: Jaka Žgajnar\nProstor: Predavalnica Ro-3
END:VEVENT
BEGIN:VEVENT
SUMMARY:Ekonomika živinorejske proizvodnje (ZI026)\, seminarske vaje (SV)
DTSTART;TZID=Europe/Ljubljana:20251016T100000
DTEND;TZID=Europe/Ljubljana:20251016T130000
DTSTAMP:20260421T162122Z
UID:bf-AFLABS-URNIK:srecanje:24723-2025-10-16 10:00:00+02:00
DESCRIPTION:Predmet: Ekonomika živinorejske proizvodnje (ZI026)\, seminar
 ske vaje (SV)\nLetniki: Kmetijstvo - živinoreja 3. letnik (ASP)\nIzvajalc
 i: Jaka Žgajnar\nProstor: Predavalnica Ro-3
END:VEVENT
BEGIN:VEVENT
SUMMARY:Ekonomika živinorejske proizvodnje (ZI026)\, seminarske vaje (SV)
DTSTART;TZID=Europe/Ljubljana:20251023T100000
DTEND;TZID=Europe/Ljubljana:20251023T130000
DTSTAMP:20260421T162122Z
UID:bf-AFLABS-URNIK:srecanje:24723-2025-10-23 10:00:00+02:00
DESCRIPTION:Predmet: Ekonomika živinorejske proizvodnje (ZI026)\, seminar
 ske vaje (SV)\nLetniki: Kmetijstvo - živinoreja 3. letnik (ASP)\nIzvajalc
 i: Jaka Žgajnar\nProstor: Predavalnica Ro-3
END:VEVENT
BEGIN:VEVENT
SUMMARY:Ekonomika živinorejske proizvodnje (ZI026)\, seminarske vaje (SV)
DTSTART;TZID=Europe/Ljubljana:20251030T100000
DTEND;TZID=Europe/Ljubljana:20251030T130000
DTSTAMP:20260421T162122Z
UID:bf-AFLABS-URNIK:srecanje:24723-2025-10-30 10:00:00+01:00
DESCRIPTION:Predmet: Ekonomika živinorejske proizvodnje (ZI026)\, seminar
 ske vaje (SV)\nLetniki: Kmetijstvo - živinoreja 3. letnik (ASP)\nIzvajalc
 i: Jaka Žgajnar\nProstor: Predavalnica Ro-3
END:VEVENT
BEGIN:VEVENT
SUMMARY:Ekonomika živinorejske proizvodnje (ZI026)\, seminarske vaje (SV)
DTSTART;TZID=Europe/Ljubljana:20251106T100000
DTEND;TZID=Europe/Ljubljana:20251106T130000
DTSTAMP:20260421T162122Z
UID:bf-AFLABS-URNIK:srecanje:24723-2025-11-06 10:00:00+01:00
DESCRIPTION:Predmet: Ekonomika živinorejske proizvodnje (ZI026)\, seminar
 ske vaje (SV)\nLetniki: Kmetijstvo - živinoreja 3. letnik (ASP)\nIzvajalc
 i: Jaka Žgajnar\nProstor: Predavalnica Ro-3
END:VEVENT
BEGIN:VEVENT
SUMMARY:Ekonomika živinorejske proizvodnje (ZI026)\, seminarske vaje (SV)
DTSTART;TZID=Europe/Ljubljana:20251113T100000
DTEND;TZID=Europe/Ljubljana:20251113T130000
DTSTAMP:20260421T162122Z
UID:bf-AFLABS-URNIK:srecanje:24723-2025-11-13 10:00:00+01:00
DESCRIPTION:Predmet: Ekonomika živinorejske proizvodnje (ZI026)\, seminar
 ske vaje (SV)\nLetniki: Kmetijstvo - živinoreja 3. letnik (ASP)\nIzvajalc
 i: Jaka Žgajnar\nProstor: Predavalnica Ro-3
END:VEVENT
BEGIN:VEVENT
SUMMARY:Znanost o konjih (ZO238)\, predavanja in seminarji (P+S)
DTSTART;TZID=Europe/Ljubljana:20251009T130000
DTEND;TZID=Europe/Ljubljana:20251009T160000
DTSTAMP:20260421T162122Z
UID:bf-AFLABS-URNIK:srecanje:25646-2025-10-09 13:00:00+02:00
DESCRIPTION:Predmet: Znanost o konjih (ZO238)\, predavanja in seminarji (P
 +S)\nLetniki: Znanost o živalih 2. letnik (MAS)\nIzvajalci: Peter Dovč\,
  Jaka Žgajnar\nProstor: Predavalnica Ro-2
END:VEVENT
BEGIN:VEVENT
SUMMARY:Znanost o konjih (ZO238)\, predavanja in seminarji (P+S)
DTSTART;TZID=Europe/Ljubljana:20251016T130000
DTEND;TZID=Europe/Ljubljana:20251016T160000
DTSTAMP:20260421T162122Z
UID:bf-AFLABS-URNIK:srecanje:25646-2025-10-16 13:00:00+02:00
DESCRIPTION:Predmet: Znanost o konjih (ZO238)\, predavanja in seminarji (P
 +S)\nLetniki: Znanost o živalih 2. letnik (MAS)\nIzvajalci: Peter Dovč\,
  Jaka Žgajnar\nProstor: Predavalnica Ro-2
END:VEVENT
BEGIN:VEVENT
SUMMARY:Znanost o konjih (ZO238)\, predavanja in seminarji (P+S)
DTSTART;TZID=Europe/Ljubljana:20251023T130000
DTEND;TZID=Europe/Ljubljana:20251023T160000
DTSTAMP:20260421T162122Z
UID:bf-AFLABS-URNIK:srecanje:25646-2025-10-23 13:00:00+02:00
DESCRIPTION:Predmet: Znanost o konjih (ZO238)\, predavanja in seminarji (P
 +S)\nLetniki: Znanost o živalih 2. letnik (MAS)\nIzvajalci: Peter Dovč\,
  Jaka Žgajnar\nProstor: Predavalnica Ro-2
END:VEVENT
BEGIN:VEVENT
SUMMARY:Znanost o konjih (ZO238)\, predavanja in seminarji (P+S)
DTSTART;TZID=Europe/Ljubljana:20251030T130000
DTEND;TZID=Europe/Ljubljana:20251030T160000
DTSTAMP:20260421T162122Z
UID:bf-AFLABS-URNIK:srecanje:25646-2025-10-30 13:00:00+01:00
DESCRIPTION:Predmet: Znanost o konjih (ZO238)\, predavanja in seminarji (P
 +S)\nLetniki: Znanost o živalih 2. letnik (MAS)\nIzvajalci: Peter Dovč\,
  Jaka Žgajnar\nProstor: Predavalnica Ro-2
END:VEVENT
BEGIN:VEVENT
SUMMARY:Znanost o konjih (ZO238)\, predavanja in seminarji (P+S)
DTSTART;TZID=Europe/Ljubljana:20251106T130000
DTEND;TZID=Europe/Ljubljana:20251106T160000
DTSTAMP:20260421T162122Z
UID:bf-AFLABS-URNIK:srecanje:25646-2025-11-06 13:00:00+01:00
DESCRIPTION:Predmet: Znanost o konjih (ZO238)\, predavanja in seminarji (P
 +S)\nLetniki: Znanost o živalih 2. letnik (MAS)\nIzvajalci: Peter Dovč\,
  Jaka Žgajnar\nProstor: Predavalnica Ro-2
END:VEVENT
BEGIN:VEVENT
SUMMARY:Znanost o konjih (ZO238)\, predavanja in seminarji (P+S)
DTSTART;TZID=Europe/Ljubljana:20251113T130000
DTEND;TZID=Europe/Ljubljana:20251113T160000
DTSTAMP:20260421T162122Z
UID:bf-AFLABS-URNIK:srecanje:25646-2025-11-13 13:00:00+01:00
DESCRIPTION:Predmet: Znanost o konjih (ZO238)\, predavanja in seminarji (P
 +S)\nLetniki: Znanost o živalih 2. letnik (MAS)\nIzvajalci: Peter Dovč\,
  Jaka Žgajnar\nProstor: Predavalnica Ro-2
END:VEVENT
BEGIN:VEVENT
SUMMARY:Sestanek CRP V4-2402
DTSTART;TZID=Europe/Ljubljana:20251020T090000
DTEND;TZID=Europe/Ljubljana:20251020T130000
DTSTAMP:20260421T162122Z
UID:bf-AFLABS-URNIK:rezervacija:24267
CATEGORIES:Reservation
COLOR:royalblue
DESCRIPTION:Predmeti: \nLetniki: \nIzvajalci: Jaka Žgajnar\nProstori: Zbo
 rnica (Zootehnika)
LOCATION:Department of animal science\, Zbornica (Zootehnika)
ORGANIZER:Jaka Žgajnar
X-WR-TIMEZONE:Europe/Ljubljana
END:VEVENT
END:VCALENDAR
