BEGIN:VCALENDAR
VERSION:2.0
PRODID:-//AFLabs urnik izvoz - bf//aflabs.si//SI
NAME:UL BF Urnik
X-WR-CALNAME:UL BF Urnik
DTSTAMP:20260425T193529Z
REFRESH-INTERVAL:PT1H
SOURCE:https://urniki.bf.uni-lj.si/en/teacher/312/?day=2025-11-10&export=1
URL:https://urniki.bf.uni-lj.si/en/teacher/312/?day=2025-11-10&export=1
X-PUBLISHED-TTL:PT1H
X-WR-TIMEZONE:Europe/Ljubljana
BEGIN:VTIMEZONE
TZID:Europe/Ljubljana
BEGIN:DAYLIGHT
DTSTART:20260329T020000
RDATE:20260329T020000
RDATE:20270328T020000
TZNAME:CEST
TZOFFSETFROM:+0100
TZOFFSETTO:+0200
END:DAYLIGHT
BEGIN:STANDARD
DTSTART:20261025T030000
RDATE:20261025T030000
RDATE:20271031T030000
TZNAME:CET
TZOFFSETFROM:+0200
TZOFFSETTO:+0100
END:STANDARD
END:VTIMEZONE
BEGIN:VEVENT
SUMMARY:Ekološko kmetijstvo AH (AH029)\, predavanja (P)
DTSTART;TZID=Europe/Ljubljana:20251124T120000
DTEND;TZID=Europe/Ljubljana:20251124T140000
DTSTAMP:20260425T193529Z
UID:bf-AFLABS-URNIK:srecanje:25864-2025-11-24 12:00:00+01:00
DESCRIPTION:Predmet: Ekološko kmetijstvo AH (AH029)\, predavanja (P)\nLet
 niki: Kmetijstvo - agronomija 3. letnik (AGA)\nIzvajalci: Darja Kocjan Ač
 ko\nProstor: Predavalnica Agronomija A10
END:VEVENT
BEGIN:VEVENT
SUMMARY:Ekološko kmetijstvo AH (AH029)\, predavanja (P)
DTSTART;TZID=Europe/Ljubljana:20251201T120000
DTEND;TZID=Europe/Ljubljana:20251201T140000
DTSTAMP:20260425T193529Z
UID:bf-AFLABS-URNIK:srecanje:25864-2025-12-01 12:00:00+01:00
DESCRIPTION:Predmet: Ekološko kmetijstvo AH (AH029)\, predavanja (P)\nLet
 niki: Kmetijstvo - agronomija 3. letnik (AGA)\nIzvajalci: Darja Kocjan Ač
 ko\nProstor: Predavalnica Agronomija A10
END:VEVENT
BEGIN:VEVENT
SUMMARY:Ekološko kmetijstvo AH (AH029)\, predavanja (P)
DTSTART;TZID=Europe/Ljubljana:20251208T120000
DTEND;TZID=Europe/Ljubljana:20251208T140000
DTSTAMP:20260425T193529Z
UID:bf-AFLABS-URNIK:srecanje:25864-2025-12-08 12:00:00+01:00
DESCRIPTION:Predmet: Ekološko kmetijstvo AH (AH029)\, predavanja (P)\nLet
 niki: Kmetijstvo - agronomija 3. letnik (AGA)\nIzvajalci: Darja Kocjan Ač
 ko\nProstor: Predavalnica Agronomija A10
END:VEVENT
BEGIN:VEVENT
SUMMARY:Ekološko kmetijstvo AH (AH029)\, predavanja (P)
DTSTART;TZID=Europe/Ljubljana:20251215T120000
DTEND;TZID=Europe/Ljubljana:20251215T140000
DTSTAMP:20260425T193529Z
UID:bf-AFLABS-URNIK:srecanje:25864-2025-12-15 12:00:00+01:00
DESCRIPTION:Predmet: Ekološko kmetijstvo AH (AH029)\, predavanja (P)\nLet
 niki: Kmetijstvo - agronomija 3. letnik (AGA)\nIzvajalci: Darja Kocjan Ač
 ko\nProstor: Predavalnica Agronomija A10
END:VEVENT
BEGIN:VEVENT
SUMMARY:Ekološko kmetijstvo ZI (ZI063)\, predavanja (P)
DTSTART;TZID=Europe/Ljubljana:20251124T150000
DTEND;TZID=Europe/Ljubljana:20251124T190000
DTSTAMP:20260425T193529Z
UID:bf-AFLABS-URNIK:srecanje:25866-2025-11-24 15:00:00+01:00
DESCRIPTION:Predmet: Ekološko kmetijstvo ZI (ZI063)\, predavanja (P)\nLet
 niki: \nIzvajalci: Darja Kocjan Ačko\nProstor: Predavalnica Agronomija A5
END:VEVENT
BEGIN:VEVENT
SUMMARY:Ekološko kmetijstvo ZI (ZI063)\, predavanja (P)
DTSTART;TZID=Europe/Ljubljana:20251201T150000
DTEND;TZID=Europe/Ljubljana:20251201T190000
DTSTAMP:20260425T193529Z
UID:bf-AFLABS-URNIK:srecanje:25866-2025-12-01 15:00:00+01:00
DESCRIPTION:Predmet: Ekološko kmetijstvo ZI (ZI063)\, predavanja (P)\nLet
 niki: \nIzvajalci: Darja Kocjan Ačko\nProstor: Predavalnica Agronomija A5
END:VEVENT
BEGIN:VEVENT
SUMMARY:Ekološko kmetijstvo ZI (ZI063)\, predavanja (P)
DTSTART;TZID=Europe/Ljubljana:20251208T150000
DTEND;TZID=Europe/Ljubljana:20251208T190000
DTSTAMP:20260425T193529Z
UID:bf-AFLABS-URNIK:srecanje:25866-2025-12-08 15:00:00+01:00
DESCRIPTION:Predmet: Ekološko kmetijstvo ZI (ZI063)\, predavanja (P)\nLet
 niki: \nIzvajalci: Darja Kocjan Ačko\nProstor: Predavalnica Agronomija A5
END:VEVENT
BEGIN:VEVENT
SUMMARY:Ekološko kmetijstvo ZI (ZI063)\, predavanja (P)
DTSTART;TZID=Europe/Ljubljana:20251215T150000
DTEND;TZID=Europe/Ljubljana:20251215T190000
DTSTAMP:20260425T193529Z
UID:bf-AFLABS-URNIK:srecanje:25866-2025-12-15 15:00:00+01:00
DESCRIPTION:Predmet: Ekološko kmetijstvo ZI (ZI063)\, predavanja (P)\nLet
 niki: \nIzvajalci: Darja Kocjan Ačko\nProstor: Predavalnica Agronomija A5
END:VEVENT
BEGIN:VEVENT
SUMMARY:Pridelovanje poljščin AH (AH017)\, predavanja (P)
DTSTART;TZID=Europe/Ljubljana:20251125T090000
DTEND;TZID=Europe/Ljubljana:20251125T120000
DTSTAMP:20260425T193529Z
UID:bf-AFLABS-URNIK:srecanje:26438-2025-11-25 09:00:00+01:00
DESCRIPTION:Predmet: Pridelovanje poljščin AH (AH017)\, predavanja (P)\n
 Letniki: Kmetijstvo - agronomija 2. letnik (AGA)\nIzvajalci: Darja Kocjan 
 Ačko\nProstor: Predavalnica Agronomija A10
END:VEVENT
BEGIN:VEVENT
SUMMARY:Pridelovanje poljščin AH (AH017)\, predavanja (P)
DTSTART;TZID=Europe/Ljubljana:20251202T090000
DTEND;TZID=Europe/Ljubljana:20251202T120000
DTSTAMP:20260425T193529Z
UID:bf-AFLABS-URNIK:srecanje:26438-2025-12-02 09:00:00+01:00
DESCRIPTION:Predmet: Pridelovanje poljščin AH (AH017)\, predavanja (P)\n
 Letniki: Kmetijstvo - agronomija 2. letnik (AGA)\nIzvajalci: Darja Kocjan 
 Ačko\nProstor: Predavalnica Agronomija A10
END:VEVENT
BEGIN:VEVENT
SUMMARY:Pridelovanje poljščin AH (AH017)\, predavanja (P)
DTSTART;TZID=Europe/Ljubljana:20251209T090000
DTEND;TZID=Europe/Ljubljana:20251209T120000
DTSTAMP:20260425T193529Z
UID:bf-AFLABS-URNIK:srecanje:26438-2025-12-09 09:00:00+01:00
DESCRIPTION:Predmet: Pridelovanje poljščin AH (AH017)\, predavanja (P)\n
 Letniki: Kmetijstvo - agronomija 2. letnik (AGA)\nIzvajalci: Darja Kocjan 
 Ačko\nProstor: Predavalnica Agronomija A10
END:VEVENT
BEGIN:VEVENT
SUMMARY:Tehnologije pridelave kmetijskih rastlin BT (BT032)\, predavanja (
 P)
DTSTART;TZID=Europe/Ljubljana:20251125T163000
DTEND;TZID=Europe/Ljubljana:20251125T200000
DTSTAMP:20260425T193529Z
UID:bf-AFLABS-URNIK:srecanje:26648-2025-11-25 16:30:00+01:00
DESCRIPTION:Predmet: Tehnologije pridelave kmetijskih rastlin BT (BT032)\,
  predavanja (P)\nLetniki: Biotehnologija 3. letnik (BTUN)\, Biotehnologija
  2. letnik (BTUN)\nIzvajalci: Nina Kacjan-Maršić\, Darja Kocjan Ačko\, 
 Denis Rusjan\, Robert Veberič\nProstor: Predavalnica Agronomija A5
END:VEVENT
BEGIN:VEVENT
SUMMARY:Tehnologije pridelave kmetijskih rastlin BT (BT032)\, predavanja (
 P)
DTSTART;TZID=Europe/Ljubljana:20251202T163000
DTEND;TZID=Europe/Ljubljana:20251202T200000
DTSTAMP:20260425T193529Z
UID:bf-AFLABS-URNIK:srecanje:26648-2025-12-02 16:30:00+01:00
DESCRIPTION:Predmet: Tehnologije pridelave kmetijskih rastlin BT (BT032)\,
  predavanja (P)\nLetniki: Biotehnologija 3. letnik (BTUN)\, Biotehnologija
  2. letnik (BTUN)\nIzvajalci: Nina Kacjan-Maršić\, Darja Kocjan Ačko\, 
 Denis Rusjan\, Robert Veberič\nProstor: Predavalnica Agronomija A5
END:VEVENT
BEGIN:VEVENT
SUMMARY:Tehnologije pridelave kmetijskih rastlin BT (BT032)\, predavanja (
 P)
DTSTART;TZID=Europe/Ljubljana:20251209T163000
DTEND;TZID=Europe/Ljubljana:20251209T200000
DTSTAMP:20260425T193529Z
UID:bf-AFLABS-URNIK:srecanje:26648-2025-12-09 16:30:00+01:00
DESCRIPTION:Predmet: Tehnologije pridelave kmetijskih rastlin BT (BT032)\,
  predavanja (P)\nLetniki: Biotehnologija 3. letnik (BTUN)\, Biotehnologija
  2. letnik (BTUN)\nIzvajalci: Nina Kacjan-Maršić\, Darja Kocjan Ačko\, 
 Denis Rusjan\, Robert Veberič\nProstor: Predavalnica Agronomija A5
END:VEVENT
BEGIN:VEVENT
SUMMARY:Trajnostno kmetijstvo (AG210)\, predavanja (P)
DTSTART;TZID=Europe/Ljubljana:20251125T080000
DTEND;TZID=Europe/Ljubljana:20251125T100000
DTSTAMP:20260425T193529Z
UID:bf-AFLABS-URNIK:srecanje:26655-2025-11-25 08:00:00+01:00
DESCRIPTION:Predmet: Trajnostno kmetijstvo (AG210)\, predavanja (P)\nLetni
 ki: Agronomija 2. letnik (MAG)\nIzvajalci: Darja Kocjan Ačko\, Rok Miheli
 č\, Matej Vidrih\nProstor: Predavalnica Agronomija A2
END:VEVENT
BEGIN:VEVENT
SUMMARY:Trajnostno kmetijstvo (AG210)\, predavanja (P)
DTSTART;TZID=Europe/Ljubljana:20251202T080000
DTEND;TZID=Europe/Ljubljana:20251202T100000
DTSTAMP:20260425T193529Z
UID:bf-AFLABS-URNIK:srecanje:26655-2025-12-02 08:00:00+01:00
DESCRIPTION:Predmet: Trajnostno kmetijstvo (AG210)\, predavanja (P)\nLetni
 ki: Agronomija 2. letnik (MAG)\nIzvajalci: Darja Kocjan Ačko\, Rok Miheli
 č\, Matej Vidrih\nProstor: Predavalnica Agronomija A2
END:VEVENT
BEGIN:VEVENT
SUMMARY:Trajnostno kmetijstvo (AG210)\, predavanja (P)
DTSTART;TZID=Europe/Ljubljana:20251209T080000
DTEND;TZID=Europe/Ljubljana:20251209T100000
DTSTAMP:20260425T193529Z
UID:bf-AFLABS-URNIK:srecanje:26655-2025-12-09 08:00:00+01:00
DESCRIPTION:Predmet: Trajnostno kmetijstvo (AG210)\, predavanja (P)\nLetni
 ki: Agronomija 2. letnik (MAG)\nIzvajalci: Darja Kocjan Ačko\, Rok Miheli
 č\, Matej Vidrih\nProstor: Predavalnica Agronomija A2
END:VEVENT
BEGIN:VEVENT
SUMMARY:Trajnostno kmetijstvo (AG210)\, seminarji (S)
DTSTART;TZID=Europe/Ljubljana:20251125T100000
DTEND;TZID=Europe/Ljubljana:20251125T120000
DTSTAMP:20260425T193529Z
UID:bf-AFLABS-URNIK:srecanje:26657-2025-11-25 10:00:00+01:00
DESCRIPTION:Predmet: Trajnostno kmetijstvo (AG210)\, seminarji (S)\nLetnik
 i: Agronomija 2. letnik (MAG)\nIzvajalci: Darja Kocjan Ačko\, Rok Miheli
 č\, Matej Vidrih\nProstor: Predavalnica Agronomija A2
END:VEVENT
BEGIN:VEVENT
SUMMARY:Trajnostno kmetijstvo (AG210)\, seminarji (S)
DTSTART;TZID=Europe/Ljubljana:20251202T100000
DTEND;TZID=Europe/Ljubljana:20251202T120000
DTSTAMP:20260425T193529Z
UID:bf-AFLABS-URNIK:srecanje:26657-2025-12-02 10:00:00+01:00
DESCRIPTION:Predmet: Trajnostno kmetijstvo (AG210)\, seminarji (S)\nLetnik
 i: Agronomija 2. letnik (MAG)\nIzvajalci: Darja Kocjan Ačko\, Rok Miheli
 č\, Matej Vidrih\nProstor: Predavalnica Agronomija A2
END:VEVENT
BEGIN:VEVENT
SUMMARY:Trajnostno kmetijstvo (AG210)\, seminarji (S)
DTSTART;TZID=Europe/Ljubljana:20251209T100000
DTEND;TZID=Europe/Ljubljana:20251209T120000
DTSTAMP:20260425T193529Z
UID:bf-AFLABS-URNIK:srecanje:26657-2025-12-09 10:00:00+01:00
DESCRIPTION:Predmet: Trajnostno kmetijstvo (AG210)\, seminarji (S)\nLetnik
 i: Agronomija 2. letnik (MAG)\nIzvajalci: Darja Kocjan Ačko\, Rok Miheli
 č\, Matej Vidrih\nProstor: Predavalnica Agronomija A2
END:VEVENT
BEGIN:VEVENT
SUMMARY:Ekološko kmetijstvo AH (AH029)\, predavanja (P)
DTSTART;TZID=Europe/Ljubljana:20251126T080000
DTEND;TZID=Europe/Ljubljana:20251126T110000
DTSTAMP:20260425T193529Z
UID:bf-AFLABS-URNIK:srecanje:25865-2025-11-26 08:00:00+01:00
DESCRIPTION:Predmet: Ekološko kmetijstvo AH (AH029)\, predavanja (P)\nLet
 niki: Kmetijstvo - agronomija 3. letnik (AGA)\nIzvajalci: Darja Kocjan Ač
 ko\nProstor: Predavalnica Agronomija A10
END:VEVENT
BEGIN:VEVENT
SUMMARY:Ekološko kmetijstvo AH (AH029)\, predavanja (P)
DTSTART;TZID=Europe/Ljubljana:20251203T080000
DTEND;TZID=Europe/Ljubljana:20251203T110000
DTSTAMP:20260425T193529Z
UID:bf-AFLABS-URNIK:srecanje:25865-2025-12-03 08:00:00+01:00
DESCRIPTION:Predmet: Ekološko kmetijstvo AH (AH029)\, predavanja (P)\nLet
 niki: Kmetijstvo - agronomija 3. letnik (AGA)\nIzvajalci: Darja Kocjan Ač
 ko\nProstor: Predavalnica Agronomija A10
END:VEVENT
BEGIN:VEVENT
SUMMARY:Ekološko kmetijstvo AH (AH029)\, predavanja (P)
DTSTART;TZID=Europe/Ljubljana:20251210T080000
DTEND;TZID=Europe/Ljubljana:20251210T110000
DTSTAMP:20260425T193529Z
UID:bf-AFLABS-URNIK:srecanje:25865-2025-12-10 08:00:00+01:00
DESCRIPTION:Predmet: Ekološko kmetijstvo AH (AH029)\, predavanja (P)\nLet
 niki: Kmetijstvo - agronomija 3. letnik (AGA)\nIzvajalci: Darja Kocjan Ač
 ko\nProstor: Predavalnica Agronomija A10
END:VEVENT
BEGIN:VEVENT
SUMMARY:Trajnostno kmetijstvo (AG210)\, predavanja (P)
DTSTART;TZID=Europe/Ljubljana:20251126T080000
DTEND;TZID=Europe/Ljubljana:20251126T100000
DTSTAMP:20260425T193529Z
UID:bf-AFLABS-URNIK:srecanje:26656-2025-11-26 08:00:00+01:00
DESCRIPTION:Predmet: Trajnostno kmetijstvo (AG210)\, predavanja (P)\nLetni
 ki: Agronomija 2. letnik (MAG)\nIzvajalci: Darja Kocjan Ačko\, Rok Miheli
 č\, Matej Vidrih\nProstor: Predavalnica Agronomija A2
END:VEVENT
BEGIN:VEVENT
SUMMARY:Trajnostno kmetijstvo (AG210)\, predavanja (P)
DTSTART;TZID=Europe/Ljubljana:20251203T080000
DTEND;TZID=Europe/Ljubljana:20251203T100000
DTSTAMP:20260425T193529Z
UID:bf-AFLABS-URNIK:srecanje:26656-2025-12-03 08:00:00+01:00
DESCRIPTION:Predmet: Trajnostno kmetijstvo (AG210)\, predavanja (P)\nLetni
 ki: Agronomija 2. letnik (MAG)\nIzvajalci: Darja Kocjan Ačko\, Rok Miheli
 č\, Matej Vidrih\nProstor: Predavalnica Agronomija A2
END:VEVENT
BEGIN:VEVENT
SUMMARY:Trajnostno kmetijstvo (AG210)\, predavanja (P)
DTSTART;TZID=Europe/Ljubljana:20251210T080000
DTEND;TZID=Europe/Ljubljana:20251210T100000
DTSTAMP:20260425T193529Z
UID:bf-AFLABS-URNIK:srecanje:26656-2025-12-10 08:00:00+01:00
DESCRIPTION:Predmet: Trajnostno kmetijstvo (AG210)\, predavanja (P)\nLetni
 ki: Agronomija 2. letnik (MAG)\nIzvajalci: Darja Kocjan Ačko\, Rok Miheli
 č\, Matej Vidrih\nProstor: Predavalnica Agronomija A2
END:VEVENT
BEGIN:VEVENT
SUMMARY:Pridelovanje poljščin AH (AH017)\, predavanja (P)
DTSTART;TZID=Europe/Ljubljana:20251127T120000
DTEND;TZID=Europe/Ljubljana:20251127T150000
DTSTAMP:20260425T193529Z
UID:bf-AFLABS-URNIK:srecanje:26439-2025-11-27 12:00:00+01:00
DESCRIPTION:Predmet: Pridelovanje poljščin AH (AH017)\, predavanja (P)\n
 Letniki: Kmetijstvo - agronomija 2. letnik (AGA)\nIzvajalci: Darja Kocjan 
 Ačko\nProstor: Predavalnica Agronomija A10
END:VEVENT
BEGIN:VEVENT
SUMMARY:Pridelovanje poljščin AH (AH017)\, predavanja (P)
DTSTART;TZID=Europe/Ljubljana:20251204T120000
DTEND;TZID=Europe/Ljubljana:20251204T150000
DTSTAMP:20260425T193529Z
UID:bf-AFLABS-URNIK:srecanje:26439-2025-12-04 12:00:00+01:00
DESCRIPTION:Predmet: Pridelovanje poljščin AH (AH017)\, predavanja (P)\n
 Letniki: Kmetijstvo - agronomija 2. letnik (AGA)\nIzvajalci: Darja Kocjan 
 Ačko\nProstor: Predavalnica Agronomija A10
END:VEVENT
BEGIN:VEVENT
SUMMARY:Pridelovanje poljščin AH (AH017)\, predavanja (P)
DTSTART;TZID=Europe/Ljubljana:20251211T120000
DTEND;TZID=Europe/Ljubljana:20251211T150000
DTSTAMP:20260425T193529Z
UID:bf-AFLABS-URNIK:srecanje:26439-2025-12-11 12:00:00+01:00
DESCRIPTION:Predmet: Pridelovanje poljščin AH (AH017)\, predavanja (P)\n
 Letniki: Kmetijstvo - agronomija 2. letnik (AGA)\nIzvajalci: Darja Kocjan 
 Ačko\nProstor: Predavalnica Agronomija A10
END:VEVENT
BEGIN:VEVENT
SUMMARY:izbirni predmet Ekološko kmetijstvo
DTSTART;TZID=Europe/Ljubljana:20251208T150000
DTEND;TZID=Europe/Ljubljana:20251208T190000
DTSTAMP:20260425T193529Z
UID:bf-AFLABS-URNIK:rezervacija:25589
CATEGORIES:Reservation
COLOR:royalblue
DESCRIPTION:Predmeti: \nLetniki: \nIzvajalci: Darja Kocjan Ačko\nProstori
 : Predavalnica Agronomija A7
LOCATION:Department of agronomy\, Predavalnica Agronomija A7
ORGANIZER:Darja Kocjan Ačko
X-WR-TIMEZONE:Europe/Ljubljana
END:VEVENT
END:VCALENDAR
