BEGIN:VCALENDAR
VERSION:2.0
PRODID:-//AFLabs urnik izvoz - bf//aflabs.si//SI
NAME:UL BF Urnik
X-WR-CALNAME:UL BF Urnik
DTSTAMP:20260421T205301Z
REFRESH-INTERVAL:PT1H
SOURCE:https://urniki.bf.uni-lj.si/en/teacher/280/?day=2026-10-05&export=1
URL:https://urniki.bf.uni-lj.si/en/teacher/280/?day=2026-10-05&export=1
X-PUBLISHED-TTL:PT1H
X-WR-TIMEZONE:Europe/Ljubljana
BEGIN:VTIMEZONE
TZID:Europe/Ljubljana
BEGIN:DAYLIGHT
DTSTART:20260329T020000
RDATE:20260329T020000
RDATE:20270328T020000
TZNAME:CEST
TZOFFSETFROM:+0100
TZOFFSETTO:+0200
END:DAYLIGHT
BEGIN:STANDARD
DTSTART:20261025T030000
RDATE:20261025T030000
RDATE:20271031T030000
TZNAME:CET
TZOFFSETFROM:+0200
TZOFFSETTO:+0100
END:STANDARD
END:VTIMEZONE
BEGIN:VEVENT
SUMMARY:Izpiti
DTSTART;TZID=Europe/Ljubljana:20260909T090000
DTEND;TZID=Europe/Ljubljana:20260909T101500
DTSTAMP:20260421T205301Z
UID:bf-AFLABS-URNIK:rezervacija:27431
ATTENDEE:Lesarsko inženirstvo 2. letnik (WEPS)
ATTENDEE:Lesarstvo 1. letnik (MWS)
ATTENDEE:Lesarstvo 2. letnik (WSUN)
ATTENDEE:Lesarstvo 3. letnik (WSUN)
CATEGORIES:Reservation
COLOR:royalblue
DESCRIPTION:Predmeti: Organizacija in management lesnega podjetja (LE225)\
 , Računalniške tehnologije pri poslovanju (LE056)\, Ekonomika lesnega po
 djetja in osnove podjetništva (LI007)\nLetniki: Lesarstvo 2. letnik (WSUN
 )\, Lesarstvo 3. letnik (WSUN)\, Lesarsko inženirstvo 2. letnik (WEPS)\, 
 Lesarstvo 1. letnik (MWS)\nIzvajalci: Teja Bizjak Govedič\, Luka Goropeč
 nik\, Jože Kropivšek\nProstori: Predavalnica Lesarstvo L3
LOCATION:Department of wood science and technology\, Predavalnica Lesarstv
 o L3
ORGANIZER:Teja Bizjak Govedič, Luka Goropečnik, Jože Kropivšek
X-WR-TIMEZONE:Europe/Ljubljana
END:VEVENT
BEGIN:VEVENT
SUMMARY:Izpiti
DTSTART;TZID=Europe/Ljubljana:20260908T090000
DTEND;TZID=Europe/Ljubljana:20260908T101500
DTSTAMP:20260421T205301Z
UID:bf-AFLABS-URNIK:rezervacija:27432
ATTENDEE:Lesarsko inženirstvo 3. letnik (WEPS)
CATEGORIES:Reservation
COLOR:royalblue
DESCRIPTION:Predmeti: Podjetništvo LI (LI017)\nLetniki: Lesarsko inženir
 stvo 3. letnik (WEPS)\nIzvajalci: Teja Bizjak Govedič\, Luka Goropečnik\
 , Jože Kropivšek\nProstori: Predavalnica Lesarstvo L3
LOCATION:Department of wood science and technology\, Predavalnica Lesarstv
 o L3
ORGANIZER:Teja Bizjak Govedič, Luka Goropečnik, Jože Kropivšek
X-WR-TIMEZONE:Europe/Ljubljana
END:VEVENT
END:VCALENDAR
