BEGIN:VCALENDAR
VERSION:2.0
PRODID:-//AFLabs urnik izvoz - bf//aflabs.si//SI
NAME:UL BF Urnik
X-WR-CALNAME:UL BF Urnik
DTSTAMP:20260425T154201Z
REFRESH-INTERVAL:PT1H
SOURCE:https://urniki.bf.uni-lj.si/en/teacher/268/?day=2025-11-03&export=1
URL:https://urniki.bf.uni-lj.si/en/teacher/268/?day=2025-11-03&export=1
X-PUBLISHED-TTL:PT1H
X-WR-TIMEZONE:Europe/Ljubljana
BEGIN:VTIMEZONE
TZID:Europe/Ljubljana
BEGIN:DAYLIGHT
DTSTART:20260329T020000
RDATE:20260329T020000
RDATE:20270328T020000
TZNAME:CEST
TZOFFSETFROM:+0100
TZOFFSETTO:+0200
END:DAYLIGHT
BEGIN:STANDARD
DTSTART:20261025T030000
RDATE:20261025T030000
RDATE:20271031T030000
TZNAME:CET
TZOFFSETFROM:+0200
TZOFFSETTO:+0100
END:STANDARD
END:VTIMEZONE
BEGIN:VEVENT
SUMMARY:Protipožarna zaščita in modifikacija lesa (LI019)\, predavanja 
 (P)
DTSTART;TZID=Europe/Ljubljana:20251001T150000
DTEND;TZID=Europe/Ljubljana:20251001T170000
DTSTAMP:20260425T154201Z
UID:bf-AFLABS-URNIK:srecanje:25343-2025-10-01 15:00:00+02:00
DESCRIPTION:Predmet: Protipožarna zaščita in modifikacija lesa (LI019)\
 , predavanja (P)\nLetniki: Lesarsko inženirstvo 3. letnik (WEPS)\nIzvajal
 ci: Boštjan Lesar\nProstor: Predavalnica Lesarstvo L1
END:VEVENT
BEGIN:VEVENT
SUMMARY:Protipožarna zaščita in modifikacija lesa (LI019)\, predavanja 
 (P)
DTSTART;TZID=Europe/Ljubljana:20251008T150000
DTEND;TZID=Europe/Ljubljana:20251008T170000
DTSTAMP:20260425T154201Z
UID:bf-AFLABS-URNIK:srecanje:25343-2025-10-08 15:00:00+02:00
DESCRIPTION:Predmet: Protipožarna zaščita in modifikacija lesa (LI019)\
 , predavanja (P)\nLetniki: Lesarsko inženirstvo 3. letnik (WEPS)\nIzvajal
 ci: Boštjan Lesar\nProstor: Predavalnica Lesarstvo L1
END:VEVENT
BEGIN:VEVENT
SUMMARY:Protipožarna zaščita in modifikacija lesa (LI019)\, predavanja 
 (P)
DTSTART;TZID=Europe/Ljubljana:20251015T150000
DTEND;TZID=Europe/Ljubljana:20251015T170000
DTSTAMP:20260425T154201Z
UID:bf-AFLABS-URNIK:srecanje:25343-2025-10-15 15:00:00+02:00
DESCRIPTION:Predmet: Protipožarna zaščita in modifikacija lesa (LI019)\
 , predavanja (P)\nLetniki: Lesarsko inženirstvo 3. letnik (WEPS)\nIzvajal
 ci: Boštjan Lesar\nProstor: Predavalnica Lesarstvo L1
END:VEVENT
BEGIN:VEVENT
SUMMARY:Protipožarna zaščita in modifikacija lesa (LI019)\, predavanja 
 (P)
DTSTART;TZID=Europe/Ljubljana:20251022T150000
DTEND;TZID=Europe/Ljubljana:20251022T170000
DTSTAMP:20260425T154201Z
UID:bf-AFLABS-URNIK:srecanje:25343-2025-10-22 15:00:00+02:00
DESCRIPTION:Predmet: Protipožarna zaščita in modifikacija lesa (LI019)\
 , predavanja (P)\nLetniki: Lesarsko inženirstvo 3. letnik (WEPS)\nIzvajal
 ci: Boštjan Lesar\nProstor: Predavalnica Lesarstvo L1
END:VEVENT
BEGIN:VEVENT
SUMMARY:Protipožarna zaščita in modifikacija lesa (LI019)\, predavanja 
 (P)
DTSTART;TZID=Europe/Ljubljana:20251029T150000
DTEND;TZID=Europe/Ljubljana:20251029T170000
DTSTAMP:20260425T154201Z
UID:bf-AFLABS-URNIK:srecanje:25343-2025-10-29 15:00:00+01:00
DESCRIPTION:Predmet: Protipožarna zaščita in modifikacija lesa (LI019)\
 , predavanja (P)\nLetniki: Lesarsko inženirstvo 3. letnik (WEPS)\nIzvajal
 ci: Boštjan Lesar\nProstor: Predavalnica Lesarstvo L1
END:VEVENT
BEGIN:VEVENT
SUMMARY:Protipožarna zaščita in modifikacija lesa (LI019)\, predavanja 
 (P)
DTSTART;TZID=Europe/Ljubljana:20251105T150000
DTEND;TZID=Europe/Ljubljana:20251105T170000
DTSTAMP:20260425T154201Z
UID:bf-AFLABS-URNIK:srecanje:25343-2025-11-05 15:00:00+01:00
DESCRIPTION:Predmet: Protipožarna zaščita in modifikacija lesa (LI019)\
 , predavanja (P)\nLetniki: Lesarsko inženirstvo 3. letnik (WEPS)\nIzvajal
 ci: Boštjan Lesar\nProstor: Predavalnica Lesarstvo L1
END:VEVENT
BEGIN:VEVENT
SUMMARY:Protipožarna zaščita in modifikacija lesa (LI019)\, predavanja 
 (P)
DTSTART;TZID=Europe/Ljubljana:20251112T150000
DTEND;TZID=Europe/Ljubljana:20251112T170000
DTSTAMP:20260425T154201Z
UID:bf-AFLABS-URNIK:srecanje:25343-2025-11-12 15:00:00+01:00
DESCRIPTION:Predmet: Protipožarna zaščita in modifikacija lesa (LI019)\
 , predavanja (P)\nLetniki: Lesarsko inženirstvo 3. letnik (WEPS)\nIzvajal
 ci: Boštjan Lesar\nProstor: Predavalnica Lesarstvo L1
END:VEVENT
BEGIN:VEVENT
SUMMARY:Okoljski in ekonomski vidiki zaščite in modifikacije lesa (LE226
 )\, predavanja (P)
DTSTART;TZID=Europe/Ljubljana:20251001T120000
DTEND;TZID=Europe/Ljubljana:20251001T143000
DTSTAMP:20260425T154201Z
UID:bf-AFLABS-URNIK:srecanje:25211-2025-10-01 12:00:00+02:00
DESCRIPTION:Predmet: Okoljski in ekonomski vidiki zaščite in modifikacij
 e lesa (LE226)\, predavanja (P)\nLetniki: Lesarstvo 2. letnik (MWS)\nIzvaj
 alci: Miha Humar\, Boštjan Lesar\nProstor: Predavalnica Lesarstvo L6\, Ve
 lika predavalnica
END:VEVENT
BEGIN:VEVENT
SUMMARY:Okoljski in ekonomski vidiki zaščite in modifikacije lesa (LE226
 )\, predavanja (P)
DTSTART;TZID=Europe/Ljubljana:20251008T120000
DTEND;TZID=Europe/Ljubljana:20251008T143000
DTSTAMP:20260425T154201Z
UID:bf-AFLABS-URNIK:srecanje:25211-2025-10-08 12:00:00+02:00
DESCRIPTION:Predmet: Okoljski in ekonomski vidiki zaščite in modifikacij
 e lesa (LE226)\, predavanja (P)\nLetniki: Lesarstvo 2. letnik (MWS)\nIzvaj
 alci: Miha Humar\, Boštjan Lesar\nProstor: Predavalnica Lesarstvo L6\, Ve
 lika predavalnica
END:VEVENT
BEGIN:VEVENT
SUMMARY:Okoljski in ekonomski vidiki zaščite in modifikacije lesa (LE226
 )\, predavanja (P)
DTSTART;TZID=Europe/Ljubljana:20251015T120000
DTEND;TZID=Europe/Ljubljana:20251015T143000
DTSTAMP:20260425T154201Z
UID:bf-AFLABS-URNIK:srecanje:25211-2025-10-15 12:00:00+02:00
DESCRIPTION:Predmet: Okoljski in ekonomski vidiki zaščite in modifikacij
 e lesa (LE226)\, predavanja (P)\nLetniki: Lesarstvo 2. letnik (MWS)\nIzvaj
 alci: Miha Humar\, Boštjan Lesar\nProstor: Predavalnica Lesarstvo L6\, Ve
 lika predavalnica
END:VEVENT
BEGIN:VEVENT
SUMMARY:Okoljski in ekonomski vidiki zaščite in modifikacije lesa (LE226
 )\, predavanja (P)
DTSTART;TZID=Europe/Ljubljana:20251022T120000
DTEND;TZID=Europe/Ljubljana:20251022T143000
DTSTAMP:20260425T154201Z
UID:bf-AFLABS-URNIK:srecanje:25211-2025-10-22 12:00:00+02:00
DESCRIPTION:Predmet: Okoljski in ekonomski vidiki zaščite in modifikacij
 e lesa (LE226)\, predavanja (P)\nLetniki: Lesarstvo 2. letnik (MWS)\nIzvaj
 alci: Miha Humar\, Boštjan Lesar\nProstor: Predavalnica Lesarstvo L6\, Ve
 lika predavalnica
END:VEVENT
BEGIN:VEVENT
SUMMARY:Okoljski in ekonomski vidiki zaščite in modifikacije lesa (LE226
 )\, predavanja (P)
DTSTART;TZID=Europe/Ljubljana:20251029T120000
DTEND;TZID=Europe/Ljubljana:20251029T143000
DTSTAMP:20260425T154201Z
UID:bf-AFLABS-URNIK:srecanje:25211-2025-10-29 12:00:00+01:00
DESCRIPTION:Predmet: Okoljski in ekonomski vidiki zaščite in modifikacij
 e lesa (LE226)\, predavanja (P)\nLetniki: Lesarstvo 2. letnik (MWS)\nIzvaj
 alci: Miha Humar\, Boštjan Lesar\nProstor: Predavalnica Lesarstvo L6\, Ve
 lika predavalnica
END:VEVENT
BEGIN:VEVENT
SUMMARY:Okoljski in ekonomski vidiki zaščite in modifikacije lesa (LE226
 )\, predavanja (P)
DTSTART;TZID=Europe/Ljubljana:20251105T120000
DTEND;TZID=Europe/Ljubljana:20251105T143000
DTSTAMP:20260425T154201Z
UID:bf-AFLABS-URNIK:srecanje:25211-2025-11-05 12:00:00+01:00
DESCRIPTION:Predmet: Okoljski in ekonomski vidiki zaščite in modifikacij
 e lesa (LE226)\, predavanja (P)\nLetniki: Lesarstvo 2. letnik (MWS)\nIzvaj
 alci: Miha Humar\, Boštjan Lesar\nProstor: Predavalnica Lesarstvo L6\, Ve
 lika predavalnica
END:VEVENT
BEGIN:VEVENT
SUMMARY:Okoljski in ekonomski vidiki zaščite in modifikacije lesa (LE226
 )\, predavanja (P)
DTSTART;TZID=Europe/Ljubljana:20251112T120000
DTEND;TZID=Europe/Ljubljana:20251112T143000
DTSTAMP:20260425T154201Z
UID:bf-AFLABS-URNIK:srecanje:25211-2025-11-12 12:00:00+01:00
DESCRIPTION:Predmet: Okoljski in ekonomski vidiki zaščite in modifikacij
 e lesa (LE226)\, predavanja (P)\nLetniki: Lesarstvo 2. letnik (MWS)\nIzvaj
 alci: Miha Humar\, Boštjan Lesar\nProstor: Predavalnica Lesarstvo L6\, Ve
 lika predavalnica
END:VEVENT
BEGIN:VEVENT
SUMMARY:Lesni škodljivci (LE016)\, predavanja (P)
DTSTART;TZID=Europe/Ljubljana:20251006T110000
DTEND;TZID=Europe/Ljubljana:20251006T140000
DTSTAMP:20260425T154201Z
UID:bf-AFLABS-URNIK:srecanje:25075-2025-10-06 11:00:00+02:00
DESCRIPTION:Predmet: Lesni škodljivci (LE016)\, predavanja (P)\nLetniki: 
 Lesarstvo 1. letnik (WSUN)\nIzvajalci: Boštjan Lesar\nProstor: Predavalni
 ca Lesarstvo L1
END:VEVENT
BEGIN:VEVENT
SUMMARY:Lesni škodljivci (LE016)\, predavanja (P)
DTSTART;TZID=Europe/Ljubljana:20251013T110000
DTEND;TZID=Europe/Ljubljana:20251013T140000
DTSTAMP:20260425T154201Z
UID:bf-AFLABS-URNIK:srecanje:25075-2025-10-13 11:00:00+02:00
DESCRIPTION:Predmet: Lesni škodljivci (LE016)\, predavanja (P)\nLetniki: 
 Lesarstvo 1. letnik (WSUN)\nIzvajalci: Boštjan Lesar\nProstor: Predavalni
 ca Lesarstvo L1
END:VEVENT
BEGIN:VEVENT
SUMMARY:Lesni škodljivci (LE016)\, predavanja (P)
DTSTART;TZID=Europe/Ljubljana:20251020T110000
DTEND;TZID=Europe/Ljubljana:20251020T140000
DTSTAMP:20260425T154201Z
UID:bf-AFLABS-URNIK:srecanje:25075-2025-10-20 11:00:00+02:00
DESCRIPTION:Predmet: Lesni škodljivci (LE016)\, predavanja (P)\nLetniki: 
 Lesarstvo 1. letnik (WSUN)\nIzvajalci: Boštjan Lesar\nProstor: Predavalni
 ca Lesarstvo L1
END:VEVENT
BEGIN:VEVENT
SUMMARY:Lesni škodljivci (LE016)\, predavanja (P)
DTSTART;TZID=Europe/Ljubljana:20251027T110000
DTEND;TZID=Europe/Ljubljana:20251027T140000
DTSTAMP:20260425T154201Z
UID:bf-AFLABS-URNIK:srecanje:25075-2025-10-27 11:00:00+01:00
DESCRIPTION:Predmet: Lesni škodljivci (LE016)\, predavanja (P)\nLetniki: 
 Lesarstvo 1. letnik (WSUN)\nIzvajalci: Boštjan Lesar\nProstor: Predavalni
 ca Lesarstvo L1
END:VEVENT
BEGIN:VEVENT
SUMMARY:Lesni škodljivci (LE016)\, predavanja (P)
DTSTART;TZID=Europe/Ljubljana:20251103T110000
DTEND;TZID=Europe/Ljubljana:20251103T140000
DTSTAMP:20260425T154201Z
UID:bf-AFLABS-URNIK:srecanje:25075-2025-11-03 11:00:00+01:00
DESCRIPTION:Predmet: Lesni škodljivci (LE016)\, predavanja (P)\nLetniki: 
 Lesarstvo 1. letnik (WSUN)\nIzvajalci: Boštjan Lesar\nProstor: Predavalni
 ca Lesarstvo L1
END:VEVENT
BEGIN:VEVENT
SUMMARY:Lesni škodljivci (LE016)\, predavanja (P)
DTSTART;TZID=Europe/Ljubljana:20251110T110000
DTEND;TZID=Europe/Ljubljana:20251110T140000
DTSTAMP:20260425T154201Z
UID:bf-AFLABS-URNIK:srecanje:25075-2025-11-10 11:00:00+01:00
DESCRIPTION:Predmet: Lesni škodljivci (LE016)\, predavanja (P)\nLetniki: 
 Lesarstvo 1. letnik (WSUN)\nIzvajalci: Boštjan Lesar\nProstor: Predavalni
 ca Lesarstvo L1
END:VEVENT
BEGIN:VEVENT
SUMMARY:Okoljski in ekonomski vidiki zaščite in modifikacije lesa (LE226
 )\, predavanja (P)
DTSTART;TZID=Europe/Ljubljana:20251007T080000
DTEND;TZID=Europe/Ljubljana:20251007T103000
DTSTAMP:20260425T154201Z
UID:bf-AFLABS-URNIK:srecanje:25210-2025-10-07 08:00:00+02:00
DESCRIPTION:Predmet: Okoljski in ekonomski vidiki zaščite in modifikacij
 e lesa (LE226)\, predavanja (P)\nLetniki: Lesarstvo 2. letnik (MWS)\nIzvaj
 alci: Miha Humar\, Boštjan Lesar\nProstor: Predavalnica Lesarstvo L3
END:VEVENT
BEGIN:VEVENT
SUMMARY:Okoljski in ekonomski vidiki zaščite in modifikacije lesa (LE226
 )\, predavanja (P)
DTSTART;TZID=Europe/Ljubljana:20251014T080000
DTEND;TZID=Europe/Ljubljana:20251014T103000
DTSTAMP:20260425T154201Z
UID:bf-AFLABS-URNIK:srecanje:25210-2025-10-14 08:00:00+02:00
DESCRIPTION:Predmet: Okoljski in ekonomski vidiki zaščite in modifikacij
 e lesa (LE226)\, predavanja (P)\nLetniki: Lesarstvo 2. letnik (MWS)\nIzvaj
 alci: Miha Humar\, Boštjan Lesar\nProstor: Predavalnica Lesarstvo L3
END:VEVENT
BEGIN:VEVENT
SUMMARY:Okoljski in ekonomski vidiki zaščite in modifikacije lesa (LE226
 )\, predavanja (P)
DTSTART;TZID=Europe/Ljubljana:20251021T080000
DTEND;TZID=Europe/Ljubljana:20251021T103000
DTSTAMP:20260425T154201Z
UID:bf-AFLABS-URNIK:srecanje:25210-2025-10-21 08:00:00+02:00
DESCRIPTION:Predmet: Okoljski in ekonomski vidiki zaščite in modifikacij
 e lesa (LE226)\, predavanja (P)\nLetniki: Lesarstvo 2. letnik (MWS)\nIzvaj
 alci: Miha Humar\, Boštjan Lesar\nProstor: Predavalnica Lesarstvo L3
END:VEVENT
BEGIN:VEVENT
SUMMARY:Okoljski in ekonomski vidiki zaščite in modifikacije lesa (LE226
 )\, predavanja (P)
DTSTART;TZID=Europe/Ljubljana:20251028T080000
DTEND;TZID=Europe/Ljubljana:20251028T103000
DTSTAMP:20260425T154201Z
UID:bf-AFLABS-URNIK:srecanje:25210-2025-10-28 08:00:00+01:00
DESCRIPTION:Predmet: Okoljski in ekonomski vidiki zaščite in modifikacij
 e lesa (LE226)\, predavanja (P)\nLetniki: Lesarstvo 2. letnik (MWS)\nIzvaj
 alci: Miha Humar\, Boštjan Lesar\nProstor: Predavalnica Lesarstvo L3
END:VEVENT
BEGIN:VEVENT
SUMMARY:Okoljski in ekonomski vidiki zaščite in modifikacije lesa (LE226
 )\, predavanja (P)
DTSTART;TZID=Europe/Ljubljana:20251104T080000
DTEND;TZID=Europe/Ljubljana:20251104T103000
DTSTAMP:20260425T154201Z
UID:bf-AFLABS-URNIK:srecanje:25210-2025-11-04 08:00:00+01:00
DESCRIPTION:Predmet: Okoljski in ekonomski vidiki zaščite in modifikacij
 e lesa (LE226)\, predavanja (P)\nLetniki: Lesarstvo 2. letnik (MWS)\nIzvaj
 alci: Miha Humar\, Boštjan Lesar\nProstor: Predavalnica Lesarstvo L3
END:VEVENT
BEGIN:VEVENT
SUMMARY:Okoljski in ekonomski vidiki zaščite in modifikacije lesa (LE226
 )\, predavanja (P)
DTSTART;TZID=Europe/Ljubljana:20251111T080000
DTEND;TZID=Europe/Ljubljana:20251111T103000
DTSTAMP:20260425T154201Z
UID:bf-AFLABS-URNIK:srecanje:25210-2025-11-11 08:00:00+01:00
DESCRIPTION:Predmet: Okoljski in ekonomski vidiki zaščite in modifikacij
 e lesa (LE226)\, predavanja (P)\nLetniki: Lesarstvo 2. letnik (MWS)\nIzvaj
 alci: Miha Humar\, Boštjan Lesar\nProstor: Predavalnica Lesarstvo L3
END:VEVENT
BEGIN:VEVENT
SUMMARY:Protipožarna zaščita in modifikacija lesa (LI019)\, predavanja 
 (P)
DTSTART;TZID=Europe/Ljubljana:20251124T080000
DTEND;TZID=Europe/Ljubljana:20251124T110000
DTSTAMP:20260425T154201Z
UID:bf-AFLABS-URNIK:srecanje:26471-2025-11-24 08:00:00+01:00
DESCRIPTION:Predmet: Protipožarna zaščita in modifikacija lesa (LI019)\
 , predavanja (P)\nLetniki: Lesarsko inženirstvo 3. letnik (WEPS)\nIzvajal
 ci: Boštjan Lesar\nProstor: Predavalnica Lesarstvo L2
END:VEVENT
BEGIN:VEVENT
SUMMARY:Protipožarna zaščita in modifikacija lesa (LI019)\, predavanja 
 (P)
DTSTART;TZID=Europe/Ljubljana:20251201T080000
DTEND;TZID=Europe/Ljubljana:20251201T110000
DTSTAMP:20260425T154201Z
UID:bf-AFLABS-URNIK:srecanje:26471-2025-12-01 08:00:00+01:00
DESCRIPTION:Predmet: Protipožarna zaščita in modifikacija lesa (LI019)\
 , predavanja (P)\nLetniki: Lesarsko inženirstvo 3. letnik (WEPS)\nIzvajal
 ci: Boštjan Lesar\nProstor: Predavalnica Lesarstvo L2
END:VEVENT
BEGIN:VEVENT
SUMMARY:Protipožarna zaščita in modifikacija lesa (LI019)\, predavanja 
 (P)
DTSTART;TZID=Europe/Ljubljana:20251208T080000
DTEND;TZID=Europe/Ljubljana:20251208T110000
DTSTAMP:20260425T154201Z
UID:bf-AFLABS-URNIK:srecanje:26471-2025-12-08 08:00:00+01:00
DESCRIPTION:Predmet: Protipožarna zaščita in modifikacija lesa (LI019)\
 , predavanja (P)\nLetniki: Lesarsko inženirstvo 3. letnik (WEPS)\nIzvajal
 ci: Boštjan Lesar\nProstor: Predavalnica Lesarstvo L2
END:VEVENT
BEGIN:VEVENT
SUMMARY:Okoljski in ekonomski vidiki zaščite in modifikacije lesa (LE226
 )\, predavanja (P)
DTSTART;TZID=Europe/Ljubljana:20251125T080000
DTEND;TZID=Europe/Ljubljana:20251125T103000
DTSTAMP:20260425T154201Z
UID:bf-AFLABS-URNIK:srecanje:26325-2025-11-25 08:00:00+01:00
DESCRIPTION:Predmet: Okoljski in ekonomski vidiki zaščite in modifikacij
 e lesa (LE226)\, predavanja (P)\nLetniki: Lesarstvo 2. letnik (MWS)\nIzvaj
 alci: Miha Humar\, Boštjan Lesar\nProstor: Laboratorij za lesne škodljiv
 ce (Lesarstvo)
END:VEVENT
BEGIN:VEVENT
SUMMARY:Okoljski in ekonomski vidiki zaščite in modifikacije lesa (LE226
 )\, predavanja (P)
DTSTART;TZID=Europe/Ljubljana:20251202T080000
DTEND;TZID=Europe/Ljubljana:20251202T103000
DTSTAMP:20260425T154201Z
UID:bf-AFLABS-URNIK:srecanje:26325-2025-12-02 08:00:00+01:00
DESCRIPTION:Predmet: Okoljski in ekonomski vidiki zaščite in modifikacij
 e lesa (LE226)\, predavanja (P)\nLetniki: Lesarstvo 2. letnik (MWS)\nIzvaj
 alci: Miha Humar\, Boštjan Lesar\nProstor: Laboratorij za lesne škodljiv
 ce (Lesarstvo)
END:VEVENT
BEGIN:VEVENT
SUMMARY:Okoljski in ekonomski vidiki zaščite in modifikacije lesa (LE226
 )\, predavanja (P)
DTSTART;TZID=Europe/Ljubljana:20251126T080000
DTEND;TZID=Europe/Ljubljana:20251126T110000
DTSTAMP:20260425T154201Z
UID:bf-AFLABS-URNIK:srecanje:26326-2025-11-26 08:00:00+01:00
DESCRIPTION:Predmet: Okoljski in ekonomski vidiki zaščite in modifikacij
 e lesa (LE226)\, predavanja (P)\nLetniki: Lesarstvo 2. letnik (MWS)\nIzvaj
 alci: Miha Humar\, Boštjan Lesar\nProstor: Sejna soba Lesarstvo
END:VEVENT
BEGIN:VEVENT
SUMMARY:Okoljski in ekonomski vidiki zaščite in modifikacije lesa (LE226
 )\, predavanja (P)
DTSTART;TZID=Europe/Ljubljana:20251203T080000
DTEND;TZID=Europe/Ljubljana:20251203T110000
DTSTAMP:20260425T154201Z
UID:bf-AFLABS-URNIK:srecanje:26326-2025-12-03 08:00:00+01:00
DESCRIPTION:Predmet: Okoljski in ekonomski vidiki zaščite in modifikacij
 e lesa (LE226)\, predavanja (P)\nLetniki: Lesarstvo 2. letnik (MWS)\nIzvaj
 alci: Miha Humar\, Boštjan Lesar\nProstor: Sejna soba Lesarstvo
END:VEVENT
BEGIN:VEVENT
SUMMARY:Lesni škodljivci (LE016)\, predavanja (P)
DTSTART;TZID=Europe/Ljubljana:20251127T080000
DTEND;TZID=Europe/Ljubljana:20251127T110000
DTSTAMP:20260425T154201Z
UID:bf-AFLABS-URNIK:srecanje:26192-2025-11-27 08:00:00+01:00
DESCRIPTION:Predmet: Lesni škodljivci (LE016)\, predavanja (P)\nLetniki: 
 Lesarstvo 1. letnik (WSUN)\nIzvajalci: Boštjan Lesar\nProstor: Predavalni
 ca Lesarstvo L1
END:VEVENT
BEGIN:VEVENT
SUMMARY:Lesni škodljivci (LE016)\, predavanja (P)
DTSTART;TZID=Europe/Ljubljana:20251204T080000
DTEND;TZID=Europe/Ljubljana:20251204T110000
DTSTAMP:20260425T154201Z
UID:bf-AFLABS-URNIK:srecanje:26192-2025-12-04 08:00:00+01:00
DESCRIPTION:Predmet: Lesni škodljivci (LE016)\, predavanja (P)\nLetniki: 
 Lesarstvo 1. letnik (WSUN)\nIzvajalci: Boštjan Lesar\nProstor: Predavalni
 ca Lesarstvo L1
END:VEVENT
BEGIN:VEVENT
SUMMARY:Protipožrana zaščita predavanja Erazmus
DTSTART;TZID=Europe/Ljubljana:20251118T120000
DTEND;TZID=Europe/Ljubljana:20251118T140000
DTSTAMP:20260425T154201Z
UID:bf-AFLABS-URNIK:rezervacija:24639
ATTENDEE:Lesarsko inženirstvo 3. letnik (WEPS)
CATEGORIES:Reservation
COLOR:royalblue
DESCRIPTION:Predmeti: Protipožarna zaščita in modifikacija lesa (LI019)
 \nLetniki: Lesarsko inženirstvo 3. letnik (WEPS)\nIzvajalci: Boštjan Les
 ar\nProstori: Prodekanova soba Lesarstvo
LOCATION:Department of wood science and technology\, Prodekanova soba Lesa
 rstvo
ORGANIZER:Boštjan Lesar
X-WR-TIMEZONE:Europe/Ljubljana
END:VEVENT
BEGIN:VEVENT
SUMMARY:Protipožrana zaščita predavanja Erazmus
DTSTART;TZID=Europe/Ljubljana:20251125T120000
DTEND;TZID=Europe/Ljubljana:20251125T140000
DTSTAMP:20260425T154201Z
UID:bf-AFLABS-URNIK:rezervacija:24640
ATTENDEE:Lesarsko inženirstvo 3. letnik (WEPS)
CATEGORIES:Reservation
COLOR:royalblue
DESCRIPTION:Predmeti: Protipožarna zaščita in modifikacija lesa (LI019)
 \nLetniki: Lesarsko inženirstvo 3. letnik (WEPS)\nIzvajalci: Boštjan Les
 ar\nProstori: Prodekanova soba Lesarstvo
LOCATION:Department of wood science and technology\, Prodekanova soba Lesa
 rstvo
ORGANIZER:Boštjan Lesar
X-WR-TIMEZONE:Europe/Ljubljana
END:VEVENT
BEGIN:VEVENT
SUMMARY:Protipožrana zaščita predavanja Erazmus
DTSTART;TZID=Europe/Ljubljana:20251202T120000
DTEND;TZID=Europe/Ljubljana:20251202T140000
DTSTAMP:20260425T154201Z
UID:bf-AFLABS-URNIK:rezervacija:24641
ATTENDEE:Lesarsko inženirstvo 3. letnik (WEPS)
CATEGORIES:Reservation
COLOR:royalblue
DESCRIPTION:Predmeti: Protipožarna zaščita in modifikacija lesa (LI019)
 \nLetniki: Lesarsko inženirstvo 3. letnik (WEPS)\nIzvajalci: Boštjan Les
 ar\nProstori: Prodekanova soba Lesarstvo
LOCATION:Department of wood science and technology\, Prodekanova soba Lesa
 rstvo
ORGANIZER:Boštjan Lesar
X-WR-TIMEZONE:Europe/Ljubljana
END:VEVENT
BEGIN:VEVENT
SUMMARY:OEZVML Erazmus
DTSTART;TZID=Europe/Ljubljana:20251029T080000
DTEND;TZID=Europe/Ljubljana:20251029T100000
DTSTAMP:20260425T154201Z
UID:bf-AFLABS-URNIK:rezervacija:24649
ATTENDEE:Lesarstvo 2. letnik (MWS)
CATEGORIES:Reservation
COLOR:royalblue
DESCRIPTION:Predmeti: Okoljski in ekonomski vidiki zaščite in modifikaci
 je lesa (LE226)\nLetniki: Lesarstvo 2. letnik (MWS)\nIzvajalci: Boštjan L
 esar\nProstori: Prodekanova soba Lesarstvo
LOCATION:Department of wood science and technology\, Prodekanova soba Lesa
 rstvo
ORGANIZER:Boštjan Lesar
X-WR-TIMEZONE:Europe/Ljubljana
END:VEVENT
BEGIN:VEVENT
SUMMARY:OEZVML Erazmus
DTSTART;TZID=Europe/Ljubljana:20251105T080000
DTEND;TZID=Europe/Ljubljana:20251105T100000
DTSTAMP:20260425T154201Z
UID:bf-AFLABS-URNIK:rezervacija:24650
ATTENDEE:Lesarstvo 2. letnik (MWS)
CATEGORIES:Reservation
COLOR:royalblue
DESCRIPTION:Predmeti: Okoljski in ekonomski vidiki zaščite in modifikaci
 je lesa (LE226)\nLetniki: Lesarstvo 2. letnik (MWS)\nIzvajalci: Boštjan L
 esar\nProstori: Prodekanova soba Lesarstvo
LOCATION:Department of wood science and technology\, Prodekanova soba Lesa
 rstvo
ORGANIZER:Boštjan Lesar
X-WR-TIMEZONE:Europe/Ljubljana
END:VEVENT
BEGIN:VEVENT
SUMMARY:OEZVML Erazmus
DTSTART;TZID=Europe/Ljubljana:20251112T080000
DTEND;TZID=Europe/Ljubljana:20251112T100000
DTSTAMP:20260425T154201Z
UID:bf-AFLABS-URNIK:rezervacija:24651
ATTENDEE:Lesarstvo 2. letnik (MWS)
CATEGORIES:Reservation
COLOR:royalblue
DESCRIPTION:Predmeti: Okoljski in ekonomski vidiki zaščite in modifikaci
 je lesa (LE226)\nLetniki: Lesarstvo 2. letnik (MWS)\nIzvajalci: Boštjan L
 esar\nProstori: Prodekanova soba Lesarstvo
LOCATION:Department of wood science and technology\, Prodekanova soba Lesa
 rstvo
ORGANIZER:Boštjan Lesar
X-WR-TIMEZONE:Europe/Ljubljana
END:VEVENT
BEGIN:VEVENT
SUMMARY:OEZVML Erazmus
DTSTART;TZID=Europe/Ljubljana:20251119T080000
DTEND;TZID=Europe/Ljubljana:20251119T100000
DTSTAMP:20260425T154201Z
UID:bf-AFLABS-URNIK:rezervacija:24652
ATTENDEE:Lesarstvo 2. letnik (MWS)
CATEGORIES:Reservation
COLOR:royalblue
DESCRIPTION:Predmeti: Okoljski in ekonomski vidiki zaščite in modifikaci
 je lesa (LE226)\nLetniki: Lesarstvo 2. letnik (MWS)\nIzvajalci: Boštjan L
 esar\nProstori: Prodekanova soba Lesarstvo
LOCATION:Department of wood science and technology\, Prodekanova soba Lesa
 rstvo
ORGANIZER:Boštjan Lesar
X-WR-TIMEZONE:Europe/Ljubljana
END:VEVENT
BEGIN:VEVENT
SUMMARY:OEZVML Erazmus
DTSTART;TZID=Europe/Ljubljana:20251126T080000
DTEND;TZID=Europe/Ljubljana:20251126T100000
DTSTAMP:20260425T154201Z
UID:bf-AFLABS-URNIK:rezervacija:24653
ATTENDEE:Lesarstvo 2. letnik (MWS)
CATEGORIES:Reservation
COLOR:royalblue
DESCRIPTION:Predmeti: Okoljski in ekonomski vidiki zaščite in modifikaci
 je lesa (LE226)\nLetniki: Lesarstvo 2. letnik (MWS)\nIzvajalci: Boštjan L
 esar\nProstori: Prodekanova soba Lesarstvo
LOCATION:Department of wood science and technology\, Prodekanova soba Lesa
 rstvo
ORGANIZER:Boštjan Lesar
X-WR-TIMEZONE:Europe/Ljubljana
END:VEVENT
BEGIN:VEVENT
SUMMARY:Sestanek uredniškega odpora Acta
DTSTART;TZID=Europe/Ljubljana:20251118T130000
DTEND;TZID=Europe/Ljubljana:20251118T150000
DTSTAMP:20260425T154201Z
UID:bf-AFLABS-URNIK:rezervacija:25129
CATEGORIES:Reservation
COLOR:royalblue
DESCRIPTION:Predmeti: \nLetniki: \nIzvajalci: Boštjan Lesar\nProstori: Se
 jna soba Lesarstvo
LOCATION:Department of wood science and technology\, Sejna soba Lesarstvo
ORGANIZER:Boštjan Lesar
X-WR-TIMEZONE:Europe/Ljubljana
END:VEVENT
END:VCALENDAR
