BEGIN:VCALENDAR
VERSION:2.0
PRODID:-//AFLabs urnik izvoz - bf//aflabs.si//SI
NAME:UL BF Urnik
X-WR-CALNAME:UL BF Urnik
DTSTAMP:20260425T025836Z
REFRESH-INTERVAL:PT1H
SOURCE:https://urniki.bf.uni-lj.si/en/teacher/256/?day=2025-10-13&export=1
URL:https://urniki.bf.uni-lj.si/en/teacher/256/?day=2025-10-13&export=1
X-PUBLISHED-TTL:PT1H
X-WR-TIMEZONE:Europe/Ljubljana
BEGIN:VTIMEZONE
TZID:Europe/Ljubljana
BEGIN:DAYLIGHT
DTSTART:20260329T020000
RDATE:20260329T020000
RDATE:20270328T020000
TZNAME:CEST
TZOFFSETFROM:+0100
TZOFFSETTO:+0200
END:DAYLIGHT
BEGIN:STANDARD
DTSTART:20261025T030000
RDATE:20261025T030000
RDATE:20271031T030000
TZNAME:CET
TZOFFSETFROM:+0200
TZOFFSETTO:+0100
END:STANDARD
END:VTIMEZONE
BEGIN:VEVENT
SUMMARY:Uvod v trženje v agroživilstvu (ZO059)\, predavanja (P)
DTSTART;TZID=Europe/Ljubljana:20251007T080000
DTEND;TZID=Europe/Ljubljana:20251007T110000
DTSTAMP:20260425T025836Z
UID:bf-AFLABS-URNIK:srecanje:25584-2025-10-07 08:00:00+02:00
DESCRIPTION:Predmet: Uvod v trženje v agroživilstvu (ZO059)\, predavanja
  (P)\nLetniki: Kmetijstvo - zootehnika 2. letnik (ASUN)\nIzvajalci: Aleš 
 Kuhar\nProstor: Predavalnica Ro-1
END:VEVENT
BEGIN:VEVENT
SUMMARY:Uvod v trženje v agroživilstvu (ZO059)\, predavanja (P)
DTSTART;TZID=Europe/Ljubljana:20251014T080000
DTEND;TZID=Europe/Ljubljana:20251014T110000
DTSTAMP:20260425T025836Z
UID:bf-AFLABS-URNIK:srecanje:25584-2025-10-14 08:00:00+02:00
DESCRIPTION:Predmet: Uvod v trženje v agroživilstvu (ZO059)\, predavanja
  (P)\nLetniki: Kmetijstvo - zootehnika 2. letnik (ASUN)\nIzvajalci: Aleš 
 Kuhar\nProstor: Predavalnica Ro-1
END:VEVENT
BEGIN:VEVENT
SUMMARY:Uvod v trženje v agroživilstvu (ZO059)\, predavanja (P)
DTSTART;TZID=Europe/Ljubljana:20251021T080000
DTEND;TZID=Europe/Ljubljana:20251021T110000
DTSTAMP:20260425T025836Z
UID:bf-AFLABS-URNIK:srecanje:25584-2025-10-21 08:00:00+02:00
DESCRIPTION:Predmet: Uvod v trženje v agroživilstvu (ZO059)\, predavanja
  (P)\nLetniki: Kmetijstvo - zootehnika 2. letnik (ASUN)\nIzvajalci: Aleš 
 Kuhar\nProstor: Predavalnica Ro-1
END:VEVENT
BEGIN:VEVENT
SUMMARY:Uvod v trženje v agroživilstvu (ZO059)\, predavanja (P)
DTSTART;TZID=Europe/Ljubljana:20251028T080000
DTEND;TZID=Europe/Ljubljana:20251028T110000
DTSTAMP:20260425T025836Z
UID:bf-AFLABS-URNIK:srecanje:25584-2025-10-28 08:00:00+01:00
DESCRIPTION:Predmet: Uvod v trženje v agroživilstvu (ZO059)\, predavanja
  (P)\nLetniki: Kmetijstvo - zootehnika 2. letnik (ASUN)\nIzvajalci: Aleš 
 Kuhar\nProstor: Predavalnica Ro-1
END:VEVENT
BEGIN:VEVENT
SUMMARY:Uvod v trženje v agroživilstvu (ZO059)\, seminarske vaje (SV)
DTSTART;TZID=Europe/Ljubljana:20251007T110000
DTEND;TZID=Europe/Ljubljana:20251007T120000
DTSTAMP:20260425T025836Z
UID:bf-AFLABS-URNIK:srecanje:25585-2025-10-07 11:00:00+02:00
DESCRIPTION:Predmet: Uvod v trženje v agroživilstvu (ZO059)\, seminarske
  vaje (SV)\nLetniki: Kmetijstvo - zootehnika 2. letnik (ASUN)\nIzvajalci: 
 Aleš Kuhar\nProstor: Predavalnica Ro-1
END:VEVENT
BEGIN:VEVENT
SUMMARY:Uvod v trženje v agroživilstvu (ZO059)\, seminarske vaje (SV)
DTSTART;TZID=Europe/Ljubljana:20251014T110000
DTEND;TZID=Europe/Ljubljana:20251014T120000
DTSTAMP:20260425T025836Z
UID:bf-AFLABS-URNIK:srecanje:25585-2025-10-14 11:00:00+02:00
DESCRIPTION:Predmet: Uvod v trženje v agroživilstvu (ZO059)\, seminarske
  vaje (SV)\nLetniki: Kmetijstvo - zootehnika 2. letnik (ASUN)\nIzvajalci: 
 Aleš Kuhar\nProstor: Predavalnica Ro-1
END:VEVENT
BEGIN:VEVENT
SUMMARY:Uvod v trženje v agroživilstvu (ZO059)\, seminarske vaje (SV)
DTSTART;TZID=Europe/Ljubljana:20251021T110000
DTEND;TZID=Europe/Ljubljana:20251021T120000
DTSTAMP:20260425T025836Z
UID:bf-AFLABS-URNIK:srecanje:25585-2025-10-21 11:00:00+02:00
DESCRIPTION:Predmet: Uvod v trženje v agroživilstvu (ZO059)\, seminarske
  vaje (SV)\nLetniki: Kmetijstvo - zootehnika 2. letnik (ASUN)\nIzvajalci: 
 Aleš Kuhar\nProstor: Predavalnica Ro-1
END:VEVENT
BEGIN:VEVENT
SUMMARY:Uvod v trženje v agroživilstvu (ZO059)\, seminarske vaje (SV)
DTSTART;TZID=Europe/Ljubljana:20251028T110000
DTEND;TZID=Europe/Ljubljana:20251028T120000
DTSTAMP:20260425T025836Z
UID:bf-AFLABS-URNIK:srecanje:25585-2025-10-28 11:00:00+01:00
DESCRIPTION:Predmet: Uvod v trženje v agroživilstvu (ZO059)\, seminarske
  vaje (SV)\nLetniki: Kmetijstvo - zootehnika 2. letnik (ASUN)\nIzvajalci: 
 Aleš Kuhar\nProstor: Predavalnica Ro-1
END:VEVENT
BEGIN:VEVENT
SUMMARY:Uvod v trženje v agroživilstvu (ZO059)\, laboratorijske vaje (LV
 )
DTSTART;TZID=Europe/Ljubljana:20251007T120000
DTEND;TZID=Europe/Ljubljana:20251007T133000
DTSTAMP:20260425T025836Z
UID:bf-AFLABS-URNIK:srecanje:25583-2025-10-07 12:00:00+02:00
DESCRIPTION:Predmet: Uvod v trženje v agroživilstvu (ZO059)\, laboratori
 jske vaje (LV)\nLetniki: Kmetijstvo - zootehnika 2. letnik (ASUN)\nIzvajal
 ci: Aleš Kuhar\nProstor: Predavalnica Ro-1
END:VEVENT
BEGIN:VEVENT
SUMMARY:Uvod v trženje v agroživilstvu (ZO059)\, laboratorijske vaje (LV
 )
DTSTART;TZID=Europe/Ljubljana:20251014T120000
DTEND;TZID=Europe/Ljubljana:20251014T133000
DTSTAMP:20260425T025836Z
UID:bf-AFLABS-URNIK:srecanje:25583-2025-10-14 12:00:00+02:00
DESCRIPTION:Predmet: Uvod v trženje v agroživilstvu (ZO059)\, laboratori
 jske vaje (LV)\nLetniki: Kmetijstvo - zootehnika 2. letnik (ASUN)\nIzvajal
 ci: Aleš Kuhar\nProstor: Predavalnica Ro-1
END:VEVENT
BEGIN:VEVENT
SUMMARY:Uvod v trženje v agroživilstvu (ZO059)\, laboratorijske vaje (LV
 )
DTSTART;TZID=Europe/Ljubljana:20251021T120000
DTEND;TZID=Europe/Ljubljana:20251021T133000
DTSTAMP:20260425T025836Z
UID:bf-AFLABS-URNIK:srecanje:25583-2025-10-21 12:00:00+02:00
DESCRIPTION:Predmet: Uvod v trženje v agroživilstvu (ZO059)\, laboratori
 jske vaje (LV)\nLetniki: Kmetijstvo - zootehnika 2. letnik (ASUN)\nIzvajal
 ci: Aleš Kuhar\nProstor: Predavalnica Ro-1
END:VEVENT
BEGIN:VEVENT
SUMMARY:Uvod v trženje v agroživilstvu (ZO059)\, laboratorijske vaje (LV
 )
DTSTART;TZID=Europe/Ljubljana:20251028T120000
DTEND;TZID=Europe/Ljubljana:20251028T133000
DTSTAMP:20260425T025836Z
UID:bf-AFLABS-URNIK:srecanje:25583-2025-10-28 12:00:00+01:00
DESCRIPTION:Predmet: Uvod v trženje v agroživilstvu (ZO059)\, laboratori
 jske vaje (LV)\nLetniki: Kmetijstvo - zootehnika 2. letnik (ASUN)\nIzvajal
 ci: Aleš Kuhar\nProstor: Predavalnica Ro-1
END:VEVENT
BEGIN:VEVENT
SUMMARY:Uvod v trženje v agroživilstvu (ZO059)\, predavanja\, seminarske
  vaje\, lab. vaje (P+SV+LV)
DTSTART;TZID=Europe/Ljubljana:20251104T110000
DTEND;TZID=Europe/Ljubljana:20251104T150000
DTSTAMP:20260425T025836Z
UID:bf-AFLABS-URNIK:srecanje:29561-2025-11-04 11:00:00+01:00
DESCRIPTION:Predmet: Uvod v trženje v agroživilstvu (ZO059)\, predavanja
 \, seminarske vaje\, lab. vaje (P+SV+LV)\nLetniki: Kmetijstvo - zootehnika
  2. letnik (ASUN)\nIzvajalci: Aleš Kuhar\nProstor: Predavalnica Ro-1
END:VEVENT
BEGIN:VEVENT
SUMMARY:Uvod v trženje v agroživilstvu (ZO059)\, predavanja\, seminarske
  vaje\, lab. vaje (P+SV+LV)
DTSTART;TZID=Europe/Ljubljana:20251111T110000
DTEND;TZID=Europe/Ljubljana:20251111T150000
DTSTAMP:20260425T025836Z
UID:bf-AFLABS-URNIK:srecanje:29561-2025-11-11 11:00:00+01:00
DESCRIPTION:Predmet: Uvod v trženje v agroživilstvu (ZO059)\, predavanja
 \, seminarske vaje\, lab. vaje (P+SV+LV)\nLetniki: Kmetijstvo - zootehnika
  2. letnik (ASUN)\nIzvajalci: Aleš Kuhar\nProstor: Predavalnica Ro-1
END:VEVENT
END:VCALENDAR
