BEGIN:VCALENDAR
VERSION:2.0
PRODID:-//AFLabs urnik izvoz - bf//aflabs.si//SI
NAME:UL BF Urnik
X-WR-CALNAME:UL BF Urnik
DTSTAMP:20260425T003241Z
REFRESH-INTERVAL:PT1H
SOURCE:https://urniki.bf.uni-lj.si/en/teacher/229/?day=2025-11-10&export=1
URL:https://urniki.bf.uni-lj.si/en/teacher/229/?day=2025-11-10&export=1
X-PUBLISHED-TTL:PT1H
X-WR-TIMEZONE:Europe/Ljubljana
BEGIN:VTIMEZONE
TZID:Europe/Ljubljana
BEGIN:DAYLIGHT
DTSTART:20260329T020000
RDATE:20260329T020000
RDATE:20270328T020000
TZNAME:CEST
TZOFFSETFROM:+0100
TZOFFSETTO:+0200
END:DAYLIGHT
BEGIN:STANDARD
DTSTART:20261025T030000
RDATE:20261025T030000
RDATE:20271031T030000
TZNAME:CET
TZOFFSETFROM:+0200
TZOFFSETTO:+0100
END:STANDARD
END:VTIMEZONE
BEGIN:VEVENT
SUMMARY:Uvod v agrarno ekonomiko (ZI006)\, predavanja (P)
DTSTART;TZID=Europe/Ljubljana:20251125T103000
DTEND;TZID=Europe/Ljubljana:20251125T120000
DTSTAMP:20260425T003241Z
UID:bf-AFLABS-URNIK:srecanje:26668-2025-11-25 10:30:00+01:00
DESCRIPTION:Predmet: Uvod v agrarno ekonomiko (ZI006)\, predavanja (P)\nLe
 tniki: Kmetijstvo - živinoreja 1. letnik (ASP)\nIzvajalci: Luka Juvanči
 č\nProstor: Predavalnica Živilstvo Ž4
END:VEVENT
BEGIN:VEVENT
SUMMARY:Uvod v agrarno ekonomiko (ZI006)\, predavanja (P)
DTSTART;TZID=Europe/Ljubljana:20251202T103000
DTEND;TZID=Europe/Ljubljana:20251202T120000
DTSTAMP:20260425T003241Z
UID:bf-AFLABS-URNIK:srecanje:26668-2025-12-02 10:30:00+01:00
DESCRIPTION:Predmet: Uvod v agrarno ekonomiko (ZI006)\, predavanja (P)\nLe
 tniki: Kmetijstvo - živinoreja 1. letnik (ASP)\nIzvajalci: Luka Juvanči
 č\nProstor: Predavalnica Živilstvo Ž4
END:VEVENT
BEGIN:VEVENT
SUMMARY:Uvod v agrarno ekonomiko (ZI006)\, predavanja (P)
DTSTART;TZID=Europe/Ljubljana:20251209T103000
DTEND;TZID=Europe/Ljubljana:20251209T120000
DTSTAMP:20260425T003241Z
UID:bf-AFLABS-URNIK:srecanje:26668-2025-12-09 10:30:00+01:00
DESCRIPTION:Predmet: Uvod v agrarno ekonomiko (ZI006)\, predavanja (P)\nLe
 tniki: Kmetijstvo - živinoreja 1. letnik (ASP)\nIzvajalci: Luka Juvanči
 č\nProstor: Predavalnica Živilstvo Ž4
END:VEVENT
BEGIN:VEVENT
SUMMARY:Dopolnilne dejavnosti na kmetijah (ZI028)\, predavanja (P)
DTSTART;TZID=Europe/Ljubljana:20251126T080000
DTEND;TZID=Europe/Ljubljana:20251126T100000
DTSTAMP:20260425T003241Z
UID:bf-AFLABS-URNIK:srecanje:25846-2025-11-26 08:00:00+01:00
DESCRIPTION:Predmet: Dopolnilne dejavnosti na kmetijah (ZI028)\, predavanj
 a (P)\nLetniki: Kmetijstvo - živinoreja 3. letnik (ASP)\nIzvajalci: Luka 
 Juvančič\nProstor: Predavalnica Ro-2
END:VEVENT
BEGIN:VEVENT
SUMMARY:Dopolnilne dejavnosti na kmetijah (ZI028)\, predavanja (P)
DTSTART;TZID=Europe/Ljubljana:20251203T080000
DTEND;TZID=Europe/Ljubljana:20251203T100000
DTSTAMP:20260425T003241Z
UID:bf-AFLABS-URNIK:srecanje:25846-2025-12-03 08:00:00+01:00
DESCRIPTION:Predmet: Dopolnilne dejavnosti na kmetijah (ZI028)\, predavanj
 a (P)\nLetniki: Kmetijstvo - živinoreja 3. letnik (ASP)\nIzvajalci: Luka 
 Juvančič\nProstor: Predavalnica Ro-2
END:VEVENT
BEGIN:VEVENT
SUMMARY:Dopolnilne dejavnosti na kmetijah (ZI028)\, predavanja (P)
DTSTART;TZID=Europe/Ljubljana:20251210T080000
DTEND;TZID=Europe/Ljubljana:20251210T100000
DTSTAMP:20260425T003241Z
UID:bf-AFLABS-URNIK:srecanje:25846-2025-12-10 08:00:00+01:00
DESCRIPTION:Predmet: Dopolnilne dejavnosti na kmetijah (ZI028)\, predavanj
 a (P)\nLetniki: Kmetijstvo - živinoreja 3. letnik (ASP)\nIzvajalci: Luka 
 Juvančič\nProstor: Predavalnica Ro-2
END:VEVENT
BEGIN:VEVENT
SUMMARY:Dopolnilne dejavnosti na kmetijah (ZI028)\, predavanja (P)
DTSTART;TZID=Europe/Ljubljana:20251126T120000
DTEND;TZID=Europe/Ljubljana:20251126T140000
DTSTAMP:20260425T003241Z
UID:bf-AFLABS-URNIK:srecanje:25847-2025-11-26 12:00:00+01:00
DESCRIPTION:Predmet: Dopolnilne dejavnosti na kmetijah (ZI028)\, predavanj
 a (P)\nLetniki: Kmetijstvo - živinoreja 3. letnik (ASP)\nIzvajalci: Luka 
 Juvančič\nProstor: Predavalnica Ro-2
END:VEVENT
BEGIN:VEVENT
SUMMARY:Dopolnilne dejavnosti na kmetijah (ZI028)\, predavanja (P)
DTSTART;TZID=Europe/Ljubljana:20251203T120000
DTEND;TZID=Europe/Ljubljana:20251203T140000
DTSTAMP:20260425T003241Z
UID:bf-AFLABS-URNIK:srecanje:25847-2025-12-03 12:00:00+01:00
DESCRIPTION:Predmet: Dopolnilne dejavnosti na kmetijah (ZI028)\, predavanj
 a (P)\nLetniki: Kmetijstvo - živinoreja 3. letnik (ASP)\nIzvajalci: Luka 
 Juvančič\nProstor: Predavalnica Ro-2
END:VEVENT
BEGIN:VEVENT
SUMMARY:Dopolnilne dejavnosti na kmetijah (ZI028)\, predavanja (P)
DTSTART;TZID=Europe/Ljubljana:20251210T120000
DTEND;TZID=Europe/Ljubljana:20251210T140000
DTSTAMP:20260425T003241Z
UID:bf-AFLABS-URNIK:srecanje:25847-2025-12-10 12:00:00+01:00
DESCRIPTION:Predmet: Dopolnilne dejavnosti na kmetijah (ZI028)\, predavanj
 a (P)\nLetniki: Kmetijstvo - živinoreja 3. letnik (ASP)\nIzvajalci: Luka 
 Juvančič\nProstor: Predavalnica Ro-2
END:VEVENT
BEGIN:VEVENT
SUMMARY:Dopolnilne dejavnosti na kmetijah (ZI028)\, seminarske vaje (SV)
DTSTART;TZID=Europe/Ljubljana:20251126T100000
DTEND;TZID=Europe/Ljubljana:20251126T120000
DTSTAMP:20260425T003241Z
UID:bf-AFLABS-URNIK:srecanje:25848-2025-11-26 10:00:00+01:00
DESCRIPTION:Predmet: Dopolnilne dejavnosti na kmetijah (ZI028)\, seminarsk
 e vaje (SV)\nLetniki: Kmetijstvo - živinoreja 3. letnik (ASP)\nIzvajalci:
  Luka Juvančič\nProstor: Predavalnica Ro-2
END:VEVENT
BEGIN:VEVENT
SUMMARY:Dopolnilne dejavnosti na kmetijah (ZI028)\, seminarske vaje (SV)
DTSTART;TZID=Europe/Ljubljana:20251203T100000
DTEND;TZID=Europe/Ljubljana:20251203T120000
DTSTAMP:20260425T003241Z
UID:bf-AFLABS-URNIK:srecanje:25848-2025-12-03 10:00:00+01:00
DESCRIPTION:Predmet: Dopolnilne dejavnosti na kmetijah (ZI028)\, seminarsk
 e vaje (SV)\nLetniki: Kmetijstvo - živinoreja 3. letnik (ASP)\nIzvajalci:
  Luka Juvančič\nProstor: Predavalnica Ro-2
END:VEVENT
BEGIN:VEVENT
SUMMARY:Dopolnilne dejavnosti na kmetijah (ZI028)\, seminarske vaje (SV)
DTSTART;TZID=Europe/Ljubljana:20251210T100000
DTEND;TZID=Europe/Ljubljana:20251210T120000
DTSTAMP:20260425T003241Z
UID:bf-AFLABS-URNIK:srecanje:25848-2025-12-10 10:00:00+01:00
DESCRIPTION:Predmet: Dopolnilne dejavnosti na kmetijah (ZI028)\, seminarsk
 e vaje (SV)\nLetniki: Kmetijstvo - živinoreja 3. letnik (ASP)\nIzvajalci:
  Luka Juvančič\nProstor: Predavalnica Ro-2
END:VEVENT
BEGIN:VEVENT
SUMMARY:Bioekonomija (BT240)\, predavanja (P)
DTSTART;TZID=Europe/Ljubljana:20251127T160000
DTEND;TZID=Europe/Ljubljana:20251127T183000
DTSTAMP:20260425T003241Z
UID:bf-AFLABS-URNIK:srecanje:25718-2025-11-27 16:00:00+01:00
DESCRIPTION:Predmet: Bioekonomija (BT240)\, predavanja (P)\nLetniki: Biote
 hnologija 1. letnik (MBT)\, Biotehnologija 2. letnik (MBT)\nIzvajalci: Luk
 a Juvančič\nProstor: Predavalnica Agronomija A5
END:VEVENT
BEGIN:VEVENT
SUMMARY:Bioekonomija (BT240)\, predavanja (P)
DTSTART;TZID=Europe/Ljubljana:20251204T160000
DTEND;TZID=Europe/Ljubljana:20251204T183000
DTSTAMP:20260425T003241Z
UID:bf-AFLABS-URNIK:srecanje:25718-2025-12-04 16:00:00+01:00
DESCRIPTION:Predmet: Bioekonomija (BT240)\, predavanja (P)\nLetniki: Biote
 hnologija 1. letnik (MBT)\, Biotehnologija 2. letnik (MBT)\nIzvajalci: Luk
 a Juvančič\nProstor: Predavalnica Agronomija A5
END:VEVENT
BEGIN:VEVENT
SUMMARY:Bioekonomija (BT240)\, predavanja (P)
DTSTART;TZID=Europe/Ljubljana:20251211T160000
DTEND;TZID=Europe/Ljubljana:20251211T183000
DTSTAMP:20260425T003241Z
UID:bf-AFLABS-URNIK:srecanje:25718-2025-12-11 16:00:00+01:00
DESCRIPTION:Predmet: Bioekonomija (BT240)\, predavanja (P)\nLetniki: Biote
 hnologija 1. letnik (MBT)\, Biotehnologija 2. letnik (MBT)\nIzvajalci: Luk
 a Juvančič\nProstor: Predavalnica Agronomija A5
END:VEVENT
BEGIN:VEVENT
SUMMARY:Bioekonomija (BT240)\, seminarji (S)
DTSTART;TZID=Europe/Ljubljana:20251127T183000
DTEND;TZID=Europe/Ljubljana:20251127T200000
DTSTAMP:20260425T003241Z
UID:bf-AFLABS-URNIK:srecanje:25719-2025-11-27 18:30:00+01:00
DESCRIPTION:Predmet: Bioekonomija (BT240)\, seminarji (S)\nLetniki: Bioteh
 nologija 1. letnik (MBT)\, Biotehnologija 2. letnik (MBT)\nIzvajalci: Luka
  Juvančič\nProstor: Predavalnica Agronomija A5
END:VEVENT
BEGIN:VEVENT
SUMMARY:Bioekonomija (BT240)\, seminarji (S)
DTSTART;TZID=Europe/Ljubljana:20251204T183000
DTEND;TZID=Europe/Ljubljana:20251204T200000
DTSTAMP:20260425T003241Z
UID:bf-AFLABS-URNIK:srecanje:25719-2025-12-04 18:30:00+01:00
DESCRIPTION:Predmet: Bioekonomija (BT240)\, seminarji (S)\nLetniki: Bioteh
 nologija 1. letnik (MBT)\, Biotehnologija 2. letnik (MBT)\nIzvajalci: Luka
  Juvančič\nProstor: Predavalnica Agronomija A5
END:VEVENT
BEGIN:VEVENT
SUMMARY:Bioekonomija (BT240)\, seminarji (S)
DTSTART;TZID=Europe/Ljubljana:20251211T183000
DTEND;TZID=Europe/Ljubljana:20251211T200000
DTSTAMP:20260425T003241Z
UID:bf-AFLABS-URNIK:srecanje:25719-2025-12-11 18:30:00+01:00
DESCRIPTION:Predmet: Bioekonomija (BT240)\, seminarji (S)\nLetniki: Bioteh
 nologija 1. letnik (MBT)\, Biotehnologija 2. letnik (MBT)\nIzvajalci: Luka
  Juvančič\nProstor: Predavalnica Agronomija A5
END:VEVENT
BEGIN:VEVENT
SUMMARY:Uvod v agrarno ekonomiko (ZI006)\, predavanja (P)
DTSTART;TZID=Europe/Ljubljana:20251127T080000
DTEND;TZID=Europe/Ljubljana:20251127T110000
DTSTAMP:20260425T003241Z
UID:bf-AFLABS-URNIK:srecanje:26669-2025-11-27 08:00:00+01:00
DESCRIPTION:Predmet: Uvod v agrarno ekonomiko (ZI006)\, predavanja (P)\nLe
 tniki: Kmetijstvo - živinoreja 1. letnik (ASP)\nIzvajalci: Luka Juvanči
 č\nProstor: Predavalnica Ro-4
END:VEVENT
BEGIN:VEVENT
SUMMARY:Uvod v agrarno ekonomiko (ZI006)\, predavanja (P)
DTSTART;TZID=Europe/Ljubljana:20251204T080000
DTEND;TZID=Europe/Ljubljana:20251204T110000
DTSTAMP:20260425T003241Z
UID:bf-AFLABS-URNIK:srecanje:26669-2025-12-04 08:00:00+01:00
DESCRIPTION:Predmet: Uvod v agrarno ekonomiko (ZI006)\, predavanja (P)\nLe
 tniki: Kmetijstvo - živinoreja 1. letnik (ASP)\nIzvajalci: Luka Juvanči
 č\nProstor: Predavalnica Ro-4
END:VEVENT
BEGIN:VEVENT
SUMMARY:Uvod v agrarno ekonomiko (ZI006)\, predavanja (P)
DTSTART;TZID=Europe/Ljubljana:20251211T080000
DTEND;TZID=Europe/Ljubljana:20251211T110000
DTSTAMP:20260425T003241Z
UID:bf-AFLABS-URNIK:srecanje:26669-2025-12-11 08:00:00+01:00
DESCRIPTION:Predmet: Uvod v agrarno ekonomiko (ZI006)\, predavanja (P)\nLe
 tniki: Kmetijstvo - živinoreja 1. letnik (ASP)\nIzvajalci: Luka Juvanči
 č\nProstor: Predavalnica Ro-4
END:VEVENT
BEGIN:VEVENT
SUMMARY:Javno (inavguracijsko) predavanje Luka Juvančič
DTSTART;TZID=Europe/Ljubljana:20251117T140000
DTEND;TZID=Europe/Ljubljana:20251117T160000
DTSTAMP:20260425T003241Z
UID:bf-AFLABS-URNIK:rezervacija:24589
CATEGORIES:Reservation
COLOR:royalblue
DESCRIPTION:Predmeti: \nLetniki: \nIzvajalci: Luka Juvančič\nProstori: V
 iteška dvorana
LOCATION:Department of animal science\, Viteška dvorana
ORGANIZER:Luka Juvančič
X-WR-TIMEZONE:Europe/Ljubljana
END:VEVENT
BEGIN:VEVENT
SUMMARY:prof. Juvančič
DTSTART;TZID=Europe/Ljubljana:20251117T130000
DTEND;TZID=Europe/Ljubljana:20251117T170000
DTSTAMP:20260425T003241Z
UID:bf-AFLABS-URNIK:rezervacija:24956
CATEGORIES:Reservation
COLOR:royalblue
DESCRIPTION:Predmeti: \nLetniki: \nIzvajalci: Luka Juvančič\nProstori: Z
 bornica (Zootehnika)
LOCATION:Department of animal science\, Zbornica (Zootehnika)
ORGANIZER:Luka Juvančič
X-WR-TIMEZONE:Europe/Ljubljana
END:VEVENT
BEGIN:VEVENT
SUMMARY:Seminarske vaje - dopolnilne dejavnosti na kmetijah
DTSTART;TZID=Europe/Ljubljana:20251203T110000
DTEND;TZID=Europe/Ljubljana:20251203T133000
DTSTAMP:20260425T003241Z
UID:bf-AFLABS-URNIK:rezervacija:25387
ATTENDEE:Kmetijstvo - živinoreja 3. letnik (ASP)
CATEGORIES:Reservation
COLOR:royalblue
DESCRIPTION:Predmeti: Dopolnilne dejavnosti na kmetijah (ZI028)\nLetniki: 
 Kmetijstvo - živinoreja 3. letnik (ASP)\nIzvajalci: Luka Juvančič\nPros
 tori: Računalniška učilnica Ro-RU2
LOCATION:Department of animal science\, Računalniška učilnica Ro-RU2
ORGANIZER:Luka Juvančič
X-WR-TIMEZONE:Europe/Ljubljana
END:VEVENT
END:VCALENDAR
