BEGIN:VCALENDAR
VERSION:2.0
PRODID:-//AFLabs urnik izvoz - bf//aflabs.si//SI
NAME:UL BF Urnik
X-WR-CALNAME:UL BF Urnik
DTSTAMP:20260424T171446Z
REFRESH-INTERVAL:PT1H
SOURCE:https://urniki.bf.uni-lj.si/en/teacher/215/?day=2025-10-06&export=1
URL:https://urniki.bf.uni-lj.si/en/teacher/215/?day=2025-10-06&export=1
X-PUBLISHED-TTL:PT1H
X-WR-TIMEZONE:Europe/Ljubljana
BEGIN:VTIMEZONE
TZID:Europe/Ljubljana
BEGIN:DAYLIGHT
DTSTART:20260329T020000
RDATE:20260329T020000
RDATE:20270328T020000
TZNAME:CEST
TZOFFSETFROM:+0100
TZOFFSETTO:+0200
END:DAYLIGHT
BEGIN:STANDARD
DTSTART:20261025T030000
RDATE:20261025T030000
RDATE:20271031T030000
TZNAME:CET
TZOFFSETFROM:+0200
TZOFFSETTO:+0100
END:STANDARD
END:VTIMEZONE
BEGIN:VEVENT
SUMMARY:Rastlinske tkivne kulture (BT014)\, laboratorijske vaje (LV)\, [:1
 ]
DTSTART;TZID=Europe/Ljubljana:20251006T101500
DTEND;TZID=Europe/Ljubljana:20251006T123000
DTSTAMP:20260424T171446Z
UID:bf-AFLABS-URNIK:srecanje:25363-2025-10-06 10:15:00+02:00
DESCRIPTION:Predmet: Rastlinske tkivne kulture (BT014)\, laboratorijske va
 je (LV)\, [:1]\nLetniki: Biotehnologija 2. letnik (BTUN)\nIzvajalci: Katar
 ina Rudolf Pilih\nProstor: Laboratorij (Agronomija)
END:VEVENT
BEGIN:VEVENT
SUMMARY:Rastlinske tkivne kulture (BT014)\, laboratorijske vaje (LV)\, [:1
 ]
DTSTART;TZID=Europe/Ljubljana:20251013T101500
DTEND;TZID=Europe/Ljubljana:20251013T123000
DTSTAMP:20260424T171446Z
UID:bf-AFLABS-URNIK:srecanje:25363-2025-10-13 10:15:00+02:00
DESCRIPTION:Predmet: Rastlinske tkivne kulture (BT014)\, laboratorijske va
 je (LV)\, [:1]\nLetniki: Biotehnologija 2. letnik (BTUN)\nIzvajalci: Katar
 ina Rudolf Pilih\nProstor: Laboratorij (Agronomija)
END:VEVENT
BEGIN:VEVENT
SUMMARY:Rastlinske tkivne kulture (BT014)\, laboratorijske vaje (LV)\, [:1
 ]
DTSTART;TZID=Europe/Ljubljana:20251020T101500
DTEND;TZID=Europe/Ljubljana:20251020T123000
DTSTAMP:20260424T171446Z
UID:bf-AFLABS-URNIK:srecanje:25363-2025-10-20 10:15:00+02:00
DESCRIPTION:Predmet: Rastlinske tkivne kulture (BT014)\, laboratorijske va
 je (LV)\, [:1]\nLetniki: Biotehnologija 2. letnik (BTUN)\nIzvajalci: Katar
 ina Rudolf Pilih\nProstor: Laboratorij (Agronomija)
END:VEVENT
BEGIN:VEVENT
SUMMARY:Rastlinske tkivne kulture (BT014)\, laboratorijske vaje (LV)\, [:1
 ]
DTSTART;TZID=Europe/Ljubljana:20251027T101500
DTEND;TZID=Europe/Ljubljana:20251027T123000
DTSTAMP:20260424T171446Z
UID:bf-AFLABS-URNIK:srecanje:25363-2025-10-27 10:15:00+01:00
DESCRIPTION:Predmet: Rastlinske tkivne kulture (BT014)\, laboratorijske va
 je (LV)\, [:1]\nLetniki: Biotehnologija 2. letnik (BTUN)\nIzvajalci: Katar
 ina Rudolf Pilih\nProstor: Laboratorij (Agronomija)
END:VEVENT
BEGIN:VEVENT
SUMMARY:Rastlinske tkivne kulture (BT014)\, laboratorijske vaje (LV)\, [:1
 ]
DTSTART;TZID=Europe/Ljubljana:20251103T101500
DTEND;TZID=Europe/Ljubljana:20251103T123000
DTSTAMP:20260424T171446Z
UID:bf-AFLABS-URNIK:srecanje:25363-2025-11-03 10:15:00+01:00
DESCRIPTION:Predmet: Rastlinske tkivne kulture (BT014)\, laboratorijske va
 je (LV)\, [:1]\nLetniki: Biotehnologija 2. letnik (BTUN)\nIzvajalci: Katar
 ina Rudolf Pilih\nProstor: Laboratorij (Agronomija)
END:VEVENT
BEGIN:VEVENT
SUMMARY:Rastlinske tkivne kulture (BT014)\, laboratorijske vaje (LV)\, [:1
 ]
DTSTART;TZID=Europe/Ljubljana:20251110T101500
DTEND;TZID=Europe/Ljubljana:20251110T123000
DTSTAMP:20260424T171446Z
UID:bf-AFLABS-URNIK:srecanje:25363-2025-11-10 10:15:00+01:00
DESCRIPTION:Predmet: Rastlinske tkivne kulture (BT014)\, laboratorijske va
 je (LV)\, [:1]\nLetniki: Biotehnologija 2. letnik (BTUN)\nIzvajalci: Katar
 ina Rudolf Pilih\nProstor: Laboratorij (Agronomija)
END:VEVENT
BEGIN:VEVENT
SUMMARY:Rastlinske tkivne kulture (BT014)\, laboratorijske vaje (LV)\, [:4
 ]
DTSTART;TZID=Europe/Ljubljana:20251006T133000
DTEND;TZID=Europe/Ljubljana:20251006T154500
DTSTAMP:20260424T171446Z
UID:bf-AFLABS-URNIK:srecanje:25366-2025-10-06 13:30:00+02:00
DESCRIPTION:Predmet: Rastlinske tkivne kulture (BT014)\, laboratorijske va
 je (LV)\, [:4]\nLetniki: Biotehnologija 2. letnik (BTUN)\nIzvajalci: Katar
 ina Rudolf Pilih\nProstor: Laboratorij (Agronomija)
END:VEVENT
BEGIN:VEVENT
SUMMARY:Rastlinske tkivne kulture (BT014)\, laboratorijske vaje (LV)\, [:4
 ]
DTSTART;TZID=Europe/Ljubljana:20251013T133000
DTEND;TZID=Europe/Ljubljana:20251013T154500
DTSTAMP:20260424T171446Z
UID:bf-AFLABS-URNIK:srecanje:25366-2025-10-13 13:30:00+02:00
DESCRIPTION:Predmet: Rastlinske tkivne kulture (BT014)\, laboratorijske va
 je (LV)\, [:4]\nLetniki: Biotehnologija 2. letnik (BTUN)\nIzvajalci: Katar
 ina Rudolf Pilih\nProstor: Laboratorij (Agronomija)
END:VEVENT
BEGIN:VEVENT
SUMMARY:Rastlinske tkivne kulture (BT014)\, laboratorijske vaje (LV)\, [:4
 ]
DTSTART;TZID=Europe/Ljubljana:20251020T133000
DTEND;TZID=Europe/Ljubljana:20251020T154500
DTSTAMP:20260424T171446Z
UID:bf-AFLABS-URNIK:srecanje:25366-2025-10-20 13:30:00+02:00
DESCRIPTION:Predmet: Rastlinske tkivne kulture (BT014)\, laboratorijske va
 je (LV)\, [:4]\nLetniki: Biotehnologija 2. letnik (BTUN)\nIzvajalci: Katar
 ina Rudolf Pilih\nProstor: Laboratorij (Agronomija)
END:VEVENT
BEGIN:VEVENT
SUMMARY:Rastlinske tkivne kulture (BT014)\, laboratorijske vaje (LV)\, [:4
 ]
DTSTART;TZID=Europe/Ljubljana:20251027T133000
DTEND;TZID=Europe/Ljubljana:20251027T154500
DTSTAMP:20260424T171446Z
UID:bf-AFLABS-URNIK:srecanje:25366-2025-10-27 13:30:00+01:00
DESCRIPTION:Predmet: Rastlinske tkivne kulture (BT014)\, laboratorijske va
 je (LV)\, [:4]\nLetniki: Biotehnologija 2. letnik (BTUN)\nIzvajalci: Katar
 ina Rudolf Pilih\nProstor: Laboratorij (Agronomija)
END:VEVENT
BEGIN:VEVENT
SUMMARY:Rastlinske tkivne kulture (BT014)\, laboratorijske vaje (LV)\, [:4
 ]
DTSTART;TZID=Europe/Ljubljana:20251103T133000
DTEND;TZID=Europe/Ljubljana:20251103T154500
DTSTAMP:20260424T171446Z
UID:bf-AFLABS-URNIK:srecanje:25366-2025-11-03 13:30:00+01:00
DESCRIPTION:Predmet: Rastlinske tkivne kulture (BT014)\, laboratorijske va
 je (LV)\, [:4]\nLetniki: Biotehnologija 2. letnik (BTUN)\nIzvajalci: Katar
 ina Rudolf Pilih\nProstor: Laboratorij (Agronomija)
END:VEVENT
BEGIN:VEVENT
SUMMARY:Rastlinske tkivne kulture (BT014)\, laboratorijske vaje (LV)\, [:4
 ]
DTSTART;TZID=Europe/Ljubljana:20251110T133000
DTEND;TZID=Europe/Ljubljana:20251110T154500
DTSTAMP:20260424T171446Z
UID:bf-AFLABS-URNIK:srecanje:25366-2025-11-10 13:30:00+01:00
DESCRIPTION:Predmet: Rastlinske tkivne kulture (BT014)\, laboratorijske va
 je (LV)\, [:4]\nLetniki: Biotehnologija 2. letnik (BTUN)\nIzvajalci: Katar
 ina Rudolf Pilih\nProstor: Laboratorij (Agronomija)
END:VEVENT
BEGIN:VEVENT
SUMMARY:Rastlinske tkivne kulture (BT014)\, seminarske vaje (SV)
DTSTART;TZID=Europe/Ljubljana:20251006T170000
DTEND;TZID=Europe/Ljubljana:20251006T180000
DTSTAMP:20260424T171446Z
UID:bf-AFLABS-URNIK:srecanje:25369-2025-10-06 17:00:00+02:00
DESCRIPTION:Predmet: Rastlinske tkivne kulture (BT014)\, seminarske vaje (
 SV)\nLetniki: Biotehnologija 2. letnik (BTUN)\nIzvajalci: Katarina Rudolf 
 Pilih\nProstor: None
END:VEVENT
BEGIN:VEVENT
SUMMARY:Rastlinske tkivne kulture (BT014)\, seminarske vaje (SV)
DTSTART;TZID=Europe/Ljubljana:20251013T170000
DTEND;TZID=Europe/Ljubljana:20251013T180000
DTSTAMP:20260424T171446Z
UID:bf-AFLABS-URNIK:srecanje:25369-2025-10-13 17:00:00+02:00
DESCRIPTION:Predmet: Rastlinske tkivne kulture (BT014)\, seminarske vaje (
 SV)\nLetniki: Biotehnologija 2. letnik (BTUN)\nIzvajalci: Katarina Rudolf 
 Pilih\nProstor: None
END:VEVENT
BEGIN:VEVENT
SUMMARY:Rastlinske tkivne kulture (BT014)\, seminarske vaje (SV)
DTSTART;TZID=Europe/Ljubljana:20251020T170000
DTEND;TZID=Europe/Ljubljana:20251020T180000
DTSTAMP:20260424T171446Z
UID:bf-AFLABS-URNIK:srecanje:25369-2025-10-20 17:00:00+02:00
DESCRIPTION:Predmet: Rastlinske tkivne kulture (BT014)\, seminarske vaje (
 SV)\nLetniki: Biotehnologija 2. letnik (BTUN)\nIzvajalci: Katarina Rudolf 
 Pilih\nProstor: None
END:VEVENT
BEGIN:VEVENT
SUMMARY:Rastlinske tkivne kulture (BT014)\, seminarske vaje (SV)
DTSTART;TZID=Europe/Ljubljana:20251027T170000
DTEND;TZID=Europe/Ljubljana:20251027T180000
DTSTAMP:20260424T171446Z
UID:bf-AFLABS-URNIK:srecanje:25369-2025-10-27 17:00:00+01:00
DESCRIPTION:Predmet: Rastlinske tkivne kulture (BT014)\, seminarske vaje (
 SV)\nLetniki: Biotehnologija 2. letnik (BTUN)\nIzvajalci: Katarina Rudolf 
 Pilih\nProstor: None
END:VEVENT
BEGIN:VEVENT
SUMMARY:Rastlinske tkivne kulture (BT014)\, seminarske vaje (SV)
DTSTART;TZID=Europe/Ljubljana:20251103T170000
DTEND;TZID=Europe/Ljubljana:20251103T180000
DTSTAMP:20260424T171446Z
UID:bf-AFLABS-URNIK:srecanje:25369-2025-11-03 17:00:00+01:00
DESCRIPTION:Predmet: Rastlinske tkivne kulture (BT014)\, seminarske vaje (
 SV)\nLetniki: Biotehnologija 2. letnik (BTUN)\nIzvajalci: Katarina Rudolf 
 Pilih\nProstor: None
END:VEVENT
BEGIN:VEVENT
SUMMARY:Rastlinske tkivne kulture (BT014)\, seminarske vaje (SV)
DTSTART;TZID=Europe/Ljubljana:20251110T170000
DTEND;TZID=Europe/Ljubljana:20251110T180000
DTSTAMP:20260424T171446Z
UID:bf-AFLABS-URNIK:srecanje:25369-2025-11-10 17:00:00+01:00
DESCRIPTION:Predmet: Rastlinske tkivne kulture (BT014)\, seminarske vaje (
 SV)\nLetniki: Biotehnologija 2. letnik (BTUN)\nIzvajalci: Katarina Rudolf 
 Pilih\nProstor: None
END:VEVENT
BEGIN:VEVENT
SUMMARY:Rastlinske tkivne kulture (BT014)\, laboratorijske vaje (LV)\, [:2
 ]
DTSTART;TZID=Europe/Ljubljana:20251007T073000
DTEND;TZID=Europe/Ljubljana:20251007T094500
DTSTAMP:20260424T171446Z
UID:bf-AFLABS-URNIK:srecanje:25364-2025-10-07 07:30:00+02:00
DESCRIPTION:Predmet: Rastlinske tkivne kulture (BT014)\, laboratorijske va
 je (LV)\, [:2]\nLetniki: Biotehnologija 2. letnik (BTUN)\nIzvajalci: Katar
 ina Rudolf Pilih\nProstor: Laboratorij (Agronomija)
END:VEVENT
BEGIN:VEVENT
SUMMARY:Rastlinske tkivne kulture (BT014)\, laboratorijske vaje (LV)\, [:2
 ]
DTSTART;TZID=Europe/Ljubljana:20251014T073000
DTEND;TZID=Europe/Ljubljana:20251014T094500
DTSTAMP:20260424T171446Z
UID:bf-AFLABS-URNIK:srecanje:25364-2025-10-14 07:30:00+02:00
DESCRIPTION:Predmet: Rastlinske tkivne kulture (BT014)\, laboratorijske va
 je (LV)\, [:2]\nLetniki: Biotehnologija 2. letnik (BTUN)\nIzvajalci: Katar
 ina Rudolf Pilih\nProstor: Laboratorij (Agronomija)
END:VEVENT
BEGIN:VEVENT
SUMMARY:Rastlinske tkivne kulture (BT014)\, laboratorijske vaje (LV)\, [:2
 ]
DTSTART;TZID=Europe/Ljubljana:20251021T073000
DTEND;TZID=Europe/Ljubljana:20251021T094500
DTSTAMP:20260424T171446Z
UID:bf-AFLABS-URNIK:srecanje:25364-2025-10-21 07:30:00+02:00
DESCRIPTION:Predmet: Rastlinske tkivne kulture (BT014)\, laboratorijske va
 je (LV)\, [:2]\nLetniki: Biotehnologija 2. letnik (BTUN)\nIzvajalci: Katar
 ina Rudolf Pilih\nProstor: Laboratorij (Agronomija)
END:VEVENT
BEGIN:VEVENT
SUMMARY:Rastlinske tkivne kulture (BT014)\, laboratorijske vaje (LV)\, [:2
 ]
DTSTART;TZID=Europe/Ljubljana:20251028T073000
DTEND;TZID=Europe/Ljubljana:20251028T094500
DTSTAMP:20260424T171446Z
UID:bf-AFLABS-URNIK:srecanje:25364-2025-10-28 07:30:00+01:00
DESCRIPTION:Predmet: Rastlinske tkivne kulture (BT014)\, laboratorijske va
 je (LV)\, [:2]\nLetniki: Biotehnologija 2. letnik (BTUN)\nIzvajalci: Katar
 ina Rudolf Pilih\nProstor: Laboratorij (Agronomija)
END:VEVENT
BEGIN:VEVENT
SUMMARY:Rastlinske tkivne kulture (BT014)\, laboratorijske vaje (LV)\, [:2
 ]
DTSTART;TZID=Europe/Ljubljana:20251104T073000
DTEND;TZID=Europe/Ljubljana:20251104T094500
DTSTAMP:20260424T171446Z
UID:bf-AFLABS-URNIK:srecanje:25364-2025-11-04 07:30:00+01:00
DESCRIPTION:Predmet: Rastlinske tkivne kulture (BT014)\, laboratorijske va
 je (LV)\, [:2]\nLetniki: Biotehnologija 2. letnik (BTUN)\nIzvajalci: Katar
 ina Rudolf Pilih\nProstor: Laboratorij (Agronomija)
END:VEVENT
BEGIN:VEVENT
SUMMARY:Rastlinske tkivne kulture (BT014)\, laboratorijske vaje (LV)\, [:2
 ]
DTSTART;TZID=Europe/Ljubljana:20251111T073000
DTEND;TZID=Europe/Ljubljana:20251111T094500
DTSTAMP:20260424T171446Z
UID:bf-AFLABS-URNIK:srecanje:25364-2025-11-11 07:30:00+01:00
DESCRIPTION:Predmet: Rastlinske tkivne kulture (BT014)\, laboratorijske va
 je (LV)\, [:2]\nLetniki: Biotehnologija 2. letnik (BTUN)\nIzvajalci: Katar
 ina Rudolf Pilih\nProstor: Laboratorij (Agronomija)
END:VEVENT
BEGIN:VEVENT
SUMMARY:Rastlinske tkivne kulture (BT014)\, laboratorijske vaje (LV)\, [:3
 ]
DTSTART;TZID=Europe/Ljubljana:20251007T094500
DTEND;TZID=Europe/Ljubljana:20251007T120000
DTSTAMP:20260424T171446Z
UID:bf-AFLABS-URNIK:srecanje:25365-2025-10-07 09:45:00+02:00
DESCRIPTION:Predmet: Rastlinske tkivne kulture (BT014)\, laboratorijske va
 je (LV)\, [:3]\nLetniki: Biotehnologija 2. letnik (BTUN)\nIzvajalci: Katar
 ina Rudolf Pilih\nProstor: Laboratorij (Agronomija)
END:VEVENT
BEGIN:VEVENT
SUMMARY:Rastlinske tkivne kulture (BT014)\, laboratorijske vaje (LV)\, [:3
 ]
DTSTART;TZID=Europe/Ljubljana:20251014T094500
DTEND;TZID=Europe/Ljubljana:20251014T120000
DTSTAMP:20260424T171446Z
UID:bf-AFLABS-URNIK:srecanje:25365-2025-10-14 09:45:00+02:00
DESCRIPTION:Predmet: Rastlinske tkivne kulture (BT014)\, laboratorijske va
 je (LV)\, [:3]\nLetniki: Biotehnologija 2. letnik (BTUN)\nIzvajalci: Katar
 ina Rudolf Pilih\nProstor: Laboratorij (Agronomija)
END:VEVENT
BEGIN:VEVENT
SUMMARY:Rastlinske tkivne kulture (BT014)\, laboratorijske vaje (LV)\, [:3
 ]
DTSTART;TZID=Europe/Ljubljana:20251021T094500
DTEND;TZID=Europe/Ljubljana:20251021T120000
DTSTAMP:20260424T171446Z
UID:bf-AFLABS-URNIK:srecanje:25365-2025-10-21 09:45:00+02:00
DESCRIPTION:Predmet: Rastlinske tkivne kulture (BT014)\, laboratorijske va
 je (LV)\, [:3]\nLetniki: Biotehnologija 2. letnik (BTUN)\nIzvajalci: Katar
 ina Rudolf Pilih\nProstor: Laboratorij (Agronomija)
END:VEVENT
BEGIN:VEVENT
SUMMARY:Rastlinske tkivne kulture (BT014)\, laboratorijske vaje (LV)\, [:3
 ]
DTSTART;TZID=Europe/Ljubljana:20251028T094500
DTEND;TZID=Europe/Ljubljana:20251028T120000
DTSTAMP:20260424T171446Z
UID:bf-AFLABS-URNIK:srecanje:25365-2025-10-28 09:45:00+01:00
DESCRIPTION:Predmet: Rastlinske tkivne kulture (BT014)\, laboratorijske va
 je (LV)\, [:3]\nLetniki: Biotehnologija 2. letnik (BTUN)\nIzvajalci: Katar
 ina Rudolf Pilih\nProstor: Laboratorij (Agronomija)
END:VEVENT
BEGIN:VEVENT
SUMMARY:Rastlinske tkivne kulture (BT014)\, laboratorijske vaje (LV)\, [:3
 ]
DTSTART;TZID=Europe/Ljubljana:20251104T094500
DTEND;TZID=Europe/Ljubljana:20251104T120000
DTSTAMP:20260424T171446Z
UID:bf-AFLABS-URNIK:srecanje:25365-2025-11-04 09:45:00+01:00
DESCRIPTION:Predmet: Rastlinske tkivne kulture (BT014)\, laboratorijske va
 je (LV)\, [:3]\nLetniki: Biotehnologija 2. letnik (BTUN)\nIzvajalci: Katar
 ina Rudolf Pilih\nProstor: Laboratorij (Agronomija)
END:VEVENT
BEGIN:VEVENT
SUMMARY:Rastlinske tkivne kulture (BT014)\, laboratorijske vaje (LV)\, [:3
 ]
DTSTART;TZID=Europe/Ljubljana:20251111T094500
DTEND;TZID=Europe/Ljubljana:20251111T120000
DTSTAMP:20260424T171446Z
UID:bf-AFLABS-URNIK:srecanje:25365-2025-11-11 09:45:00+01:00
DESCRIPTION:Predmet: Rastlinske tkivne kulture (BT014)\, laboratorijske va
 je (LV)\, [:3]\nLetniki: Biotehnologija 2. letnik (BTUN)\nIzvajalci: Katar
 ina Rudolf Pilih\nProstor: Laboratorij (Agronomija)
END:VEVENT
END:VCALENDAR
