BEGIN:VCALENDAR
VERSION:2.0
PRODID:-//AFLabs urnik izvoz - bf//aflabs.si//SI
NAME:UL BF Urnik
X-WR-CALNAME:UL BF Urnik
DTSTAMP:20260424T151127Z
REFRESH-INTERVAL:PT1H
SOURCE:https://urniki.bf.uni-lj.si/en/teacher/20/?day=2025-09-08&export=1
URL:https://urniki.bf.uni-lj.si/en/teacher/20/?day=2025-09-08&export=1
X-PUBLISHED-TTL:PT1H
X-WR-TIMEZONE:Europe/Ljubljana
BEGIN:VTIMEZONE
TZID:Europe/Ljubljana
BEGIN:DAYLIGHT
DTSTART:20260329T020000
RDATE:20260329T020000
RDATE:20270328T020000
TZNAME:CEST
TZOFFSETFROM:+0100
TZOFFSETTO:+0200
END:DAYLIGHT
BEGIN:STANDARD
DTSTART:20261025T030000
RDATE:20261025T030000
RDATE:20271031T030000
TZNAME:CET
TZOFFSETFROM:+0200
TZOFFSETTO:+0100
END:STANDARD
END:VTIMEZONE
BEGIN:VEVENT
SUMMARY:Botanika s fiziologijo rastlin (GG007)\, laboratorijske vaje (LV)\
 , [. 1. skupina]
DTSTART;TZID=Europe/Ljubljana:20251006T110000
DTEND;TZID=Europe/Ljubljana:20251006T133000
DTSTAMP:20260424T151127Z
UID:bf-AFLABS-URNIK:srecanje:24668-2025-10-06 11:00:00+02:00
DESCRIPTION:Predmet: Botanika s fiziologijo rastlin (GG007)\, laboratorijs
 ke vaje (LV)\, [. 1. skupina]\nLetniki: Gozdarstvo in obnovljivi gozdni vi
 ri 1. letnik (FOUN)\nIzvajalci: Boris Turk\nProstor: Mikroskopirnica AL3 (
 Agronomija)
END:VEVENT
BEGIN:VEVENT
SUMMARY:Botanika s fiziologijo rastlin (GG007)\, laboratorijske vaje (LV)\
 , [. 1. skupina]
DTSTART;TZID=Europe/Ljubljana:20251013T110000
DTEND;TZID=Europe/Ljubljana:20251013T133000
DTSTAMP:20260424T151127Z
UID:bf-AFLABS-URNIK:srecanje:24668-2025-10-13 11:00:00+02:00
DESCRIPTION:Predmet: Botanika s fiziologijo rastlin (GG007)\, laboratorijs
 ke vaje (LV)\, [. 1. skupina]\nLetniki: Gozdarstvo in obnovljivi gozdni vi
 ri 1. letnik (FOUN)\nIzvajalci: Boris Turk\nProstor: Mikroskopirnica AL3 (
 Agronomija)
END:VEVENT
BEGIN:VEVENT
SUMMARY:Botanika s fiziologijo rastlin (GG007)\, laboratorijske vaje (LV)\
 , [. 2. skupina]
DTSTART;TZID=Europe/Ljubljana:20251006T133000
DTEND;TZID=Europe/Ljubljana:20251006T160000
DTSTAMP:20260424T151127Z
UID:bf-AFLABS-URNIK:srecanje:24670-2025-10-06 13:30:00+02:00
DESCRIPTION:Predmet: Botanika s fiziologijo rastlin (GG007)\, laboratorijs
 ke vaje (LV)\, [. 2. skupina]\nLetniki: Gozdarstvo in obnovljivi gozdni vi
 ri 1. letnik (FOUN)\nIzvajalci: Boris Turk\nProstor: Mikroskopirnica AL3 (
 Agronomija)
END:VEVENT
BEGIN:VEVENT
SUMMARY:Botanika s fiziologijo rastlin (GG007)\, laboratorijske vaje (LV)\
 , [. 2. skupina]
DTSTART;TZID=Europe/Ljubljana:20251013T133000
DTEND;TZID=Europe/Ljubljana:20251013T160000
DTSTAMP:20260424T151127Z
UID:bf-AFLABS-URNIK:srecanje:24670-2025-10-13 13:30:00+02:00
DESCRIPTION:Predmet: Botanika s fiziologijo rastlin (GG007)\, laboratorijs
 ke vaje (LV)\, [. 2. skupina]\nLetniki: Gozdarstvo in obnovljivi gozdni vi
 ri 1. letnik (FOUN)\nIzvajalci: Boris Turk\nProstor: Mikroskopirnica AL3 (
 Agronomija)
END:VEVENT
BEGIN:VEVENT
SUMMARY:Botanika GOVS (GO008)\, predavanja (P)
DTSTART;TZID=Europe/Ljubljana:20251007T140000
DTEND;TZID=Europe/Ljubljana:20251007T160000
DTSTAMP:20260424T151127Z
UID:bf-AFLABS-URNIK:srecanje:24665-2025-10-07 14:00:00+02:00
DESCRIPTION:Predmet: Botanika GOVS (GO008)\, predavanja (P)\nLetniki: Gozd
 arstvo 1. letnik (FOPS)\nIzvajalci: Boris Turk\nProstor: Predavalnica Gozd
 arstvo G6
END:VEVENT
BEGIN:VEVENT
SUMMARY:Botanika s fiziologijo rastlin (GG007)\, laboratorijske vaje (LV)\
 , [. 1. skupina]
DTSTART;TZID=Europe/Ljubljana:20251008T160000
DTEND;TZID=Europe/Ljubljana:20251008T190000
DTSTAMP:20260424T151127Z
UID:bf-AFLABS-URNIK:srecanje:24669-2025-10-08 16:00:00+02:00
DESCRIPTION:Predmet: Botanika s fiziologijo rastlin (GG007)\, laboratorijs
 ke vaje (LV)\, [. 1. skupina]\nLetniki: Gozdarstvo in obnovljivi gozdni vi
 ri 1. letnik (FOUN)\nIzvajalci: Boris Turk\nProstor: Mikroskopirnica AL3 (
 Agronomija)
END:VEVENT
BEGIN:VEVENT
SUMMARY:Botanika s fiziologijo rastlin (GG007)\, laboratorijske vaje (LV)\
 , [. 2. skupina]
DTSTART;TZID=Europe/Ljubljana:20251008T110000
DTEND;TZID=Europe/Ljubljana:20251008T140000
DTSTAMP:20260424T151127Z
UID:bf-AFLABS-URNIK:srecanje:24671-2025-10-08 11:00:00+02:00
DESCRIPTION:Predmet: Botanika s fiziologijo rastlin (GG007)\, laboratorijs
 ke vaje (LV)\, [. 2. skupina]\nLetniki: Gozdarstvo in obnovljivi gozdni vi
 ri 1. letnik (FOUN)\nIzvajalci: Boris Turk\nProstor: Mikroskopirnica AL3 (
 Agronomija)
END:VEVENT
BEGIN:VEVENT
SUMMARY:Botanika s fiziologijo rastlin (GG007)\, terensko delo (TD)
DTSTART;TZID=Europe/Ljubljana:20251009T090000
DTEND;TZID=Europe/Ljubljana:20251009T140000
DTSTAMP:20260424T151127Z
UID:bf-AFLABS-URNIK:premaknjeno-srecanje:159271
ATTENDEE:Gozdarstvo in obnovljivi gozdni viri 1. letnik (FOUN)
CATEGORIES:Entry,Special
COLOR:forestgreen
DESCRIPTION:Predmet: Botanika s fiziologijo rastlin (GG007)\, terensko del
 o (TD)\nLetniki: Gozdarstvo in obnovljivi gozdni viri 1. letnik (FOUN)\nIz
 vajalci: Boris Turk\nProstor: Terensko delo - gozdarstvo
LOCATION:Department of forestry\, Terensko delo - gozdarstvo
ORGANIZER:Boris Turk
RELATED-TO:bf-AFLABS-URNIK:srecanje:24674
X-WR-TIMEZONE:Europe/Ljubljana
END:VEVENT
BEGIN:VEVENT
SUMMARY:Botanika GOVS (GO008)\, terensko delo (TD)
DTSTART;TZID=Europe/Ljubljana:20251010T090000
DTEND;TZID=Europe/Ljubljana:20251010T150000
DTSTAMP:20260424T151127Z
UID:bf-AFLABS-URNIK:srecanje:24666-2025-10-10 09:00:00+02:00
DESCRIPTION:Predmet: Botanika GOVS (GO008)\, terensko delo (TD)\nLetniki: 
 Gozdarstvo 1. letnik (FOPS)\nIzvajalci: Boris Turk\nProstor: Terensko delo
  - gozdarstvo
END:VEVENT
END:VCALENDAR
