BEGIN:VCALENDAR
VERSION:2.0
PRODID:-//AFLabs urnik izvoz - bf//aflabs.si//SI
NAME:UL BF Urnik
X-WR-CALNAME:UL BF Urnik
DTSTAMP:20260425T135942Z
REFRESH-INTERVAL:PT1H
SOURCE:https://urniki.bf.uni-lj.si/en/teacher/209/?day=2025-11-03&export=1
URL:https://urniki.bf.uni-lj.si/en/teacher/209/?day=2025-11-03&export=1
X-PUBLISHED-TTL:PT1H
X-WR-TIMEZONE:Europe/Ljubljana
BEGIN:VTIMEZONE
TZID:Europe/Ljubljana
BEGIN:DAYLIGHT
DTSTART:20260329T020000
RDATE:20260329T020000
RDATE:20270328T020000
TZNAME:CEST
TZOFFSETFROM:+0100
TZOFFSETTO:+0200
END:DAYLIGHT
BEGIN:STANDARD
DTSTART:20261025T030000
RDATE:20261025T030000
RDATE:20271031T030000
TZNAME:CET
TZOFFSETFROM:+0200
TZOFFSETTO:+0100
END:STANDARD
END:VTIMEZONE
BEGIN:VEVENT
SUMMARY:Industrijsko biokemijsko inženirstvo (BT203)\, predavanja (P)
DTSTART;TZID=Europe/Ljubljana:20251001T123000
DTEND;TZID=Europe/Ljubljana:20251001T143000
DTSTAMP:20260425T135942Z
UID:bf-AFLABS-URNIK:srecanje:24931-2025-10-01 12:30:00+02:00
DESCRIPTION:Predmet: Industrijsko biokemijsko inženirstvo (BT203)\, preda
 vanja (P)\nLetniki: Biotehnologija 1. letnik (MBT)\nIzvajalci: Hrvoje Petk
 ović\, Aleš Podgornik\nProstor: Predavalnica Živilstvo Ž2
END:VEVENT
BEGIN:VEVENT
SUMMARY:Industrijsko biokemijsko inženirstvo (BT203)\, predavanja (P)
DTSTART;TZID=Europe/Ljubljana:20251008T123000
DTEND;TZID=Europe/Ljubljana:20251008T143000
DTSTAMP:20260425T135942Z
UID:bf-AFLABS-URNIK:srecanje:24931-2025-10-08 12:30:00+02:00
DESCRIPTION:Predmet: Industrijsko biokemijsko inženirstvo (BT203)\, preda
 vanja (P)\nLetniki: Biotehnologija 1. letnik (MBT)\nIzvajalci: Hrvoje Petk
 ović\, Aleš Podgornik\nProstor: Predavalnica Živilstvo Ž2
END:VEVENT
BEGIN:VEVENT
SUMMARY:Industrijsko biokemijsko inženirstvo (BT203)\, predavanja (P)
DTSTART;TZID=Europe/Ljubljana:20251015T123000
DTEND;TZID=Europe/Ljubljana:20251015T143000
DTSTAMP:20260425T135942Z
UID:bf-AFLABS-URNIK:srecanje:24931-2025-10-15 12:30:00+02:00
DESCRIPTION:Predmet: Industrijsko biokemijsko inženirstvo (BT203)\, preda
 vanja (P)\nLetniki: Biotehnologija 1. letnik (MBT)\nIzvajalci: Hrvoje Petk
 ović\, Aleš Podgornik\nProstor: Predavalnica Živilstvo Ž2
END:VEVENT
BEGIN:VEVENT
SUMMARY:Industrijsko biokemijsko inženirstvo (BT203)\, predavanja (P)
DTSTART;TZID=Europe/Ljubljana:20251022T123000
DTEND;TZID=Europe/Ljubljana:20251022T143000
DTSTAMP:20260425T135942Z
UID:bf-AFLABS-URNIK:srecanje:24931-2025-10-22 12:30:00+02:00
DESCRIPTION:Predmet: Industrijsko biokemijsko inženirstvo (BT203)\, preda
 vanja (P)\nLetniki: Biotehnologija 1. letnik (MBT)\nIzvajalci: Hrvoje Petk
 ović\, Aleš Podgornik\nProstor: Predavalnica Živilstvo Ž2
END:VEVENT
BEGIN:VEVENT
SUMMARY:Industrijsko biokemijsko inženirstvo (BT203)\, predavanja (P)
DTSTART;TZID=Europe/Ljubljana:20251029T123000
DTEND;TZID=Europe/Ljubljana:20251029T143000
DTSTAMP:20260425T135942Z
UID:bf-AFLABS-URNIK:srecanje:24931-2025-10-29 12:30:00+01:00
DESCRIPTION:Predmet: Industrijsko biokemijsko inženirstvo (BT203)\, preda
 vanja (P)\nLetniki: Biotehnologija 1. letnik (MBT)\nIzvajalci: Hrvoje Petk
 ović\, Aleš Podgornik\nProstor: Predavalnica Živilstvo Ž2
END:VEVENT
BEGIN:VEVENT
SUMMARY:Industrijsko biokemijsko inženirstvo (BT203)\, predavanja (P)
DTSTART;TZID=Europe/Ljubljana:20251105T123000
DTEND;TZID=Europe/Ljubljana:20251105T143000
DTSTAMP:20260425T135942Z
UID:bf-AFLABS-URNIK:srecanje:24931-2025-11-05 12:30:00+01:00
DESCRIPTION:Predmet: Industrijsko biokemijsko inženirstvo (BT203)\, preda
 vanja (P)\nLetniki: Biotehnologija 1. letnik (MBT)\nIzvajalci: Hrvoje Petk
 ović\, Aleš Podgornik\nProstor: Predavalnica Živilstvo Ž2
END:VEVENT
BEGIN:VEVENT
SUMMARY:Industrijsko biokemijsko inženirstvo (BT203)\, predavanja (P)
DTSTART;TZID=Europe/Ljubljana:20251112T123000
DTEND;TZID=Europe/Ljubljana:20251112T143000
DTSTAMP:20260425T135942Z
UID:bf-AFLABS-URNIK:srecanje:24931-2025-11-12 12:30:00+01:00
DESCRIPTION:Predmet: Industrijsko biokemijsko inženirstvo (BT203)\, preda
 vanja (P)\nLetniki: Biotehnologija 1. letnik (MBT)\nIzvajalci: Hrvoje Petk
 ović\, Aleš Podgornik\nProstor: Predavalnica Živilstvo Ž2
END:VEVENT
BEGIN:VEVENT
SUMMARY:Industrijska biotehnologija (BT202)\, predavanja (P)
DTSTART;TZID=Europe/Ljubljana:20251002T140000
DTEND;TZID=Europe/Ljubljana:20251002T160000
DTSTAMP:20260425T135942Z
UID:bf-AFLABS-URNIK:srecanje:24925-2025-10-02 14:00:00+02:00
DESCRIPTION:Predmet: Industrijska biotehnologija (BT202)\, predavanja (P)\
 nLetniki: Biotehnologija 1. letnik (MBT)\nIzvajalci: Hrvoje Petković\nPro
 stor: Predavalnica Živilstvo Ž3
END:VEVENT
BEGIN:VEVENT
SUMMARY:Industrijska biotehnologija (BT202)\, predavanja (P)
DTSTART;TZID=Europe/Ljubljana:20251009T140000
DTEND;TZID=Europe/Ljubljana:20251009T160000
DTSTAMP:20260425T135942Z
UID:bf-AFLABS-URNIK:srecanje:24925-2025-10-09 14:00:00+02:00
DESCRIPTION:Predmet: Industrijska biotehnologija (BT202)\, predavanja (P)\
 nLetniki: Biotehnologija 1. letnik (MBT)\nIzvajalci: Hrvoje Petković\nPro
 stor: Predavalnica Živilstvo Ž3
END:VEVENT
BEGIN:VEVENT
SUMMARY:Industrijska biotehnologija (BT202)\, predavanja (P)
DTSTART;TZID=Europe/Ljubljana:20251016T140000
DTEND;TZID=Europe/Ljubljana:20251016T160000
DTSTAMP:20260425T135942Z
UID:bf-AFLABS-URNIK:srecanje:24925-2025-10-16 14:00:00+02:00
DESCRIPTION:Predmet: Industrijska biotehnologija (BT202)\, predavanja (P)\
 nLetniki: Biotehnologija 1. letnik (MBT)\nIzvajalci: Hrvoje Petković\nPro
 stor: Predavalnica Živilstvo Ž3
END:VEVENT
BEGIN:VEVENT
SUMMARY:Industrijska biotehnologija (BT202)\, predavanja (P)
DTSTART;TZID=Europe/Ljubljana:20251023T140000
DTEND;TZID=Europe/Ljubljana:20251023T160000
DTSTAMP:20260425T135942Z
UID:bf-AFLABS-URNIK:srecanje:24925-2025-10-23 14:00:00+02:00
DESCRIPTION:Predmet: Industrijska biotehnologija (BT202)\, predavanja (P)\
 nLetniki: Biotehnologija 1. letnik (MBT)\nIzvajalci: Hrvoje Petković\nPro
 stor: Predavalnica Živilstvo Ž3
END:VEVENT
BEGIN:VEVENT
SUMMARY:Industrijska biotehnologija (BT202)\, predavanja (P)
DTSTART;TZID=Europe/Ljubljana:20251030T140000
DTEND;TZID=Europe/Ljubljana:20251030T160000
DTSTAMP:20260425T135942Z
UID:bf-AFLABS-URNIK:srecanje:24925-2025-10-30 14:00:00+01:00
DESCRIPTION:Predmet: Industrijska biotehnologija (BT202)\, predavanja (P)\
 nLetniki: Biotehnologija 1. letnik (MBT)\nIzvajalci: Hrvoje Petković\nPro
 stor: Predavalnica Živilstvo Ž3
END:VEVENT
BEGIN:VEVENT
SUMMARY:Industrijska biotehnologija (BT202)\, predavanja (P)
DTSTART;TZID=Europe/Ljubljana:20251106T140000
DTEND;TZID=Europe/Ljubljana:20251106T160000
DTSTAMP:20260425T135942Z
UID:bf-AFLABS-URNIK:srecanje:24925-2025-11-06 14:00:00+01:00
DESCRIPTION:Predmet: Industrijska biotehnologija (BT202)\, predavanja (P)\
 nLetniki: Biotehnologija 1. letnik (MBT)\nIzvajalci: Hrvoje Petković\nPro
 stor: Predavalnica Živilstvo Ž3
END:VEVENT
BEGIN:VEVENT
SUMMARY:Industrijska biotehnologija (BT202)\, predavanja (P)
DTSTART;TZID=Europe/Ljubljana:20251113T140000
DTEND;TZID=Europe/Ljubljana:20251113T160000
DTSTAMP:20260425T135942Z
UID:bf-AFLABS-URNIK:srecanje:24925-2025-11-13 14:00:00+01:00
DESCRIPTION:Predmet: Industrijska biotehnologija (BT202)\, predavanja (P)\
 nLetniki: Biotehnologija 1. letnik (MBT)\nIzvajalci: Hrvoje Petković\nPro
 stor: Predavalnica Živilstvo Ž3
END:VEVENT
BEGIN:VEVENT
SUMMARY:Industrijska biotehnologija (BT202)\, seminarji (S)
DTSTART;TZID=Europe/Ljubljana:20251003T130000
DTEND;TZID=Europe/Ljubljana:20251003T150000
DTSTAMP:20260425T135942Z
UID:bf-AFLABS-URNIK:srecanje:24926-2025-10-03 13:00:00+02:00
DESCRIPTION:Predmet: Industrijska biotehnologija (BT202)\, seminarji (S)\n
 Letniki: Biotehnologija 1. letnik (MBT)\nIzvajalci: Hrvoje Petković\nPros
 tor: Predavalnica Živilstvo Ž2
END:VEVENT
BEGIN:VEVENT
SUMMARY:Industrijska biotehnologija (BT202)\, seminarji (S)
DTSTART;TZID=Europe/Ljubljana:20251010T130000
DTEND;TZID=Europe/Ljubljana:20251010T150000
DTSTAMP:20260425T135942Z
UID:bf-AFLABS-URNIK:srecanje:24926-2025-10-10 13:00:00+02:00
DESCRIPTION:Predmet: Industrijska biotehnologija (BT202)\, seminarji (S)\n
 Letniki: Biotehnologija 1. letnik (MBT)\nIzvajalci: Hrvoje Petković\nPros
 tor: Predavalnica Živilstvo Ž2
END:VEVENT
BEGIN:VEVENT
SUMMARY:Industrijska biotehnologija (BT202)\, seminarji (S)
DTSTART;TZID=Europe/Ljubljana:20251017T130000
DTEND;TZID=Europe/Ljubljana:20251017T150000
DTSTAMP:20260425T135942Z
UID:bf-AFLABS-URNIK:srecanje:24926-2025-10-17 13:00:00+02:00
DESCRIPTION:Predmet: Industrijska biotehnologija (BT202)\, seminarji (S)\n
 Letniki: Biotehnologija 1. letnik (MBT)\nIzvajalci: Hrvoje Petković\nPros
 tor: Predavalnica Živilstvo Ž2
END:VEVENT
BEGIN:VEVENT
SUMMARY:Industrijska biotehnologija (BT202)\, seminarji (S)
DTSTART;TZID=Europe/Ljubljana:20251024T130000
DTEND;TZID=Europe/Ljubljana:20251024T150000
DTSTAMP:20260425T135942Z
UID:bf-AFLABS-URNIK:srecanje:24926-2025-10-24 13:00:00+02:00
DESCRIPTION:Predmet: Industrijska biotehnologija (BT202)\, seminarji (S)\n
 Letniki: Biotehnologija 1. letnik (MBT)\nIzvajalci: Hrvoje Petković\nPros
 tor: Predavalnica Živilstvo Ž2
END:VEVENT
BEGIN:VEVENT
SUMMARY:Industrijska biotehnologija (BT202)\, seminarji (S)
DTSTART;TZID=Europe/Ljubljana:20251107T130000
DTEND;TZID=Europe/Ljubljana:20251107T150000
DTSTAMP:20260425T135942Z
UID:bf-AFLABS-URNIK:srecanje:24926-2025-11-07 13:00:00+01:00
DESCRIPTION:Predmet: Industrijska biotehnologija (BT202)\, seminarji (S)\n
 Letniki: Biotehnologija 1. letnik (MBT)\nIzvajalci: Hrvoje Petković\nPros
 tor: Predavalnica Živilstvo Ž2
END:VEVENT
BEGIN:VEVENT
SUMMARY:Industrijska biotehnologija (BT202)\, seminarji (S)
DTSTART;TZID=Europe/Ljubljana:20251114T130000
DTEND;TZID=Europe/Ljubljana:20251114T150000
DTSTAMP:20260425T135942Z
UID:bf-AFLABS-URNIK:srecanje:24926-2025-11-14 13:00:00+01:00
DESCRIPTION:Predmet: Industrijska biotehnologija (BT202)\, seminarji (S)\n
 Letniki: Biotehnologija 1. letnik (MBT)\nIzvajalci: Hrvoje Petković\nPros
 tor: Predavalnica Živilstvo Ž2
END:VEVENT
BEGIN:VEVENT
SUMMARY:Industrijska biotehnologija (BT202)\, seminarske vaje (SV)
DTSTART;TZID=Europe/Ljubljana:20251003T150000
DTEND;TZID=Europe/Ljubljana:20251003T170000
DTSTAMP:20260425T135942Z
UID:bf-AFLABS-URNIK:srecanje:24927-2025-10-03 15:00:00+02:00
DESCRIPTION:Predmet: Industrijska biotehnologija (BT202)\, seminarske vaje
  (SV)\nLetniki: Biotehnologija 1. letnik (MBT)\nIzvajalci: Hrvoje Petkovi
 ć\nProstor: Predavalnica Živilstvo Ž2
END:VEVENT
BEGIN:VEVENT
SUMMARY:Industrijska biotehnologija (BT202)\, seminarske vaje (SV)
DTSTART;TZID=Europe/Ljubljana:20251010T150000
DTEND;TZID=Europe/Ljubljana:20251010T170000
DTSTAMP:20260425T135942Z
UID:bf-AFLABS-URNIK:srecanje:24927-2025-10-10 15:00:00+02:00
DESCRIPTION:Predmet: Industrijska biotehnologija (BT202)\, seminarske vaje
  (SV)\nLetniki: Biotehnologija 1. letnik (MBT)\nIzvajalci: Hrvoje Petkovi
 ć\nProstor: Predavalnica Živilstvo Ž2
END:VEVENT
BEGIN:VEVENT
SUMMARY:Industrijska biotehnologija (BT202)\, seminarske vaje (SV)
DTSTART;TZID=Europe/Ljubljana:20251017T150000
DTEND;TZID=Europe/Ljubljana:20251017T170000
DTSTAMP:20260425T135942Z
UID:bf-AFLABS-URNIK:srecanje:24927-2025-10-17 15:00:00+02:00
DESCRIPTION:Predmet: Industrijska biotehnologija (BT202)\, seminarske vaje
  (SV)\nLetniki: Biotehnologija 1. letnik (MBT)\nIzvajalci: Hrvoje Petkovi
 ć\nProstor: Predavalnica Živilstvo Ž2
END:VEVENT
BEGIN:VEVENT
SUMMARY:Industrijska biotehnologija (BT202)\, seminarske vaje (SV)
DTSTART;TZID=Europe/Ljubljana:20251024T150000
DTEND;TZID=Europe/Ljubljana:20251024T170000
DTSTAMP:20260425T135942Z
UID:bf-AFLABS-URNIK:srecanje:24927-2025-10-24 15:00:00+02:00
DESCRIPTION:Predmet: Industrijska biotehnologija (BT202)\, seminarske vaje
  (SV)\nLetniki: Biotehnologija 1. letnik (MBT)\nIzvajalci: Hrvoje Petkovi
 ć\nProstor: Predavalnica Živilstvo Ž2
END:VEVENT
BEGIN:VEVENT
SUMMARY:Industrijska biotehnologija (BT202)\, seminarske vaje (SV)
DTSTART;TZID=Europe/Ljubljana:20251107T150000
DTEND;TZID=Europe/Ljubljana:20251107T170000
DTSTAMP:20260425T135942Z
UID:bf-AFLABS-URNIK:srecanje:24927-2025-11-07 15:00:00+01:00
DESCRIPTION:Predmet: Industrijska biotehnologija (BT202)\, seminarske vaje
  (SV)\nLetniki: Biotehnologija 1. letnik (MBT)\nIzvajalci: Hrvoje Petkovi
 ć\nProstor: Predavalnica Živilstvo Ž2
END:VEVENT
BEGIN:VEVENT
SUMMARY:Industrijska biotehnologija (BT202)\, seminarske vaje (SV)
DTSTART;TZID=Europe/Ljubljana:20251114T150000
DTEND;TZID=Europe/Ljubljana:20251114T170000
DTSTAMP:20260425T135942Z
UID:bf-AFLABS-URNIK:srecanje:24927-2025-11-14 15:00:00+01:00
DESCRIPTION:Predmet: Industrijska biotehnologija (BT202)\, seminarske vaje
  (SV)\nLetniki: Biotehnologija 1. letnik (MBT)\nIzvajalci: Hrvoje Petkovi
 ć\nProstor: Predavalnica Živilstvo Ž2
END:VEVENT
BEGIN:VEVENT
SUMMARY:Industrijsko biokemijsko inženirstvo (BT203)\, predavanja (P)
DTSTART;TZID=Europe/Ljubljana:20251006T080000
DTEND;TZID=Europe/Ljubljana:20251006T110000
DTSTAMP:20260425T135942Z
UID:bf-AFLABS-URNIK:srecanje:24930-2025-10-06 08:00:00+02:00
DESCRIPTION:Predmet: Industrijsko biokemijsko inženirstvo (BT203)\, preda
 vanja (P)\nLetniki: Biotehnologija 1. letnik (MBT)\nIzvajalci: Hrvoje Petk
 ović\, Aleš Podgornik\nProstor: Predavalnica Agronomija A4
END:VEVENT
BEGIN:VEVENT
SUMMARY:Industrijsko biokemijsko inženirstvo (BT203)\, predavanja (P)
DTSTART;TZID=Europe/Ljubljana:20251013T080000
DTEND;TZID=Europe/Ljubljana:20251013T110000
DTSTAMP:20260425T135942Z
UID:bf-AFLABS-URNIK:srecanje:24930-2025-10-13 08:00:00+02:00
DESCRIPTION:Predmet: Industrijsko biokemijsko inženirstvo (BT203)\, preda
 vanja (P)\nLetniki: Biotehnologija 1. letnik (MBT)\nIzvajalci: Hrvoje Petk
 ović\, Aleš Podgornik\nProstor: Predavalnica Agronomija A4
END:VEVENT
BEGIN:VEVENT
SUMMARY:Industrijsko biokemijsko inženirstvo (BT203)\, predavanja (P)
DTSTART;TZID=Europe/Ljubljana:20251020T080000
DTEND;TZID=Europe/Ljubljana:20251020T110000
DTSTAMP:20260425T135942Z
UID:bf-AFLABS-URNIK:srecanje:24930-2025-10-20 08:00:00+02:00
DESCRIPTION:Predmet: Industrijsko biokemijsko inženirstvo (BT203)\, preda
 vanja (P)\nLetniki: Biotehnologija 1. letnik (MBT)\nIzvajalci: Hrvoje Petk
 ović\, Aleš Podgornik\nProstor: Predavalnica Agronomija A4
END:VEVENT
BEGIN:VEVENT
SUMMARY:Industrijsko biokemijsko inženirstvo (BT203)\, predavanja (P)
DTSTART;TZID=Europe/Ljubljana:20251027T080000
DTEND;TZID=Europe/Ljubljana:20251027T110000
DTSTAMP:20260425T135942Z
UID:bf-AFLABS-URNIK:srecanje:24930-2025-10-27 08:00:00+01:00
DESCRIPTION:Predmet: Industrijsko biokemijsko inženirstvo (BT203)\, preda
 vanja (P)\nLetniki: Biotehnologija 1. letnik (MBT)\nIzvajalci: Hrvoje Petk
 ović\, Aleš Podgornik\nProstor: Predavalnica Agronomija A4
END:VEVENT
BEGIN:VEVENT
SUMMARY:Industrijsko biokemijsko inženirstvo (BT203)\, predavanja (P)
DTSTART;TZID=Europe/Ljubljana:20251103T080000
DTEND;TZID=Europe/Ljubljana:20251103T110000
DTSTAMP:20260425T135942Z
UID:bf-AFLABS-URNIK:srecanje:24930-2025-11-03 08:00:00+01:00
DESCRIPTION:Predmet: Industrijsko biokemijsko inženirstvo (BT203)\, preda
 vanja (P)\nLetniki: Biotehnologija 1. letnik (MBT)\nIzvajalci: Hrvoje Petk
 ović\, Aleš Podgornik\nProstor: Predavalnica Agronomija A4
END:VEVENT
BEGIN:VEVENT
SUMMARY:Industrijsko biokemijsko inženirstvo (BT203)\, predavanja (P)
DTSTART;TZID=Europe/Ljubljana:20251110T080000
DTEND;TZID=Europe/Ljubljana:20251110T110000
DTSTAMP:20260425T135942Z
UID:bf-AFLABS-URNIK:srecanje:24930-2025-11-10 08:00:00+01:00
DESCRIPTION:Predmet: Industrijsko biokemijsko inženirstvo (BT203)\, preda
 vanja (P)\nLetniki: Biotehnologija 1. letnik (MBT)\nIzvajalci: Hrvoje Petk
 ović\, Aleš Podgornik\nProstor: Predavalnica Agronomija A4
END:VEVENT
BEGIN:VEVENT
SUMMARY:Osnove biotehnologij (ZP024)\, predavanja (P)
DTSTART;TZID=Europe/Ljubljana:20251029T150000
DTEND;TZID=Europe/Ljubljana:20251029T170000
DTSTAMP:20260425T135942Z
UID:bf-AFLABS-URNIK:srecanje:29172-2025-10-29 15:00:00+01:00
DESCRIPTION:Predmet: Osnove biotehnologij (ZP024)\, predavanja (P)\nLetnik
 i: Živilstvo in prehrana 3. letnik (FSUN)\nIzvajalci: Hrvoje Petković\nP
 rostor: Predavalnica Živilstvo Ž1
END:VEVENT
BEGIN:VEVENT
SUMMARY:Biomasa in sekundarni metaboliti BT (BT219)\, predavanja (P)
DTSTART;TZID=Europe/Ljubljana:20251125T160000
DTEND;TZID=Europe/Ljubljana:20251125T180000
DTSTAMP:20260425T135942Z
UID:bf-AFLABS-URNIK:srecanje:25772-2025-11-25 16:00:00+01:00
DESCRIPTION:Predmet: Biomasa in sekundarni metaboliti BT (BT219)\, predava
 nja (P)\nLetniki: Biotehnologija 2. letnik (MBT)\, Biotehnologija 1. letni
 k (MBT)\nIzvajalci: Hrvoje Petković\nProstor: Predavalnica Živilstvo Ž3
END:VEVENT
BEGIN:VEVENT
SUMMARY:Biomasa in sekundarni metaboliti BT (BT219)\, seminarji (S)
DTSTART;TZID=Europe/Ljubljana:20251125T180000
DTEND;TZID=Europe/Ljubljana:20251125T200000
DTSTAMP:20260425T135942Z
UID:bf-AFLABS-URNIK:srecanje:25774-2025-11-25 18:00:00+01:00
DESCRIPTION:Predmet: Biomasa in sekundarni metaboliti BT (BT219)\, seminar
 ji (S)\nLetniki: Biotehnologija 2. letnik (MBT)\, Biotehnologija 1. letnik
  (MBT)\nIzvajalci: Hrvoje Petković\nProstor: Predavalnica Živilstvo Ž3
END:VEVENT
BEGIN:VEVENT
SUMMARY:Biomasa in sekundarni metaboliti BT (BT219)\, seminarji (S)
DTSTART;TZID=Europe/Ljubljana:20251202T180000
DTEND;TZID=Europe/Ljubljana:20251202T200000
DTSTAMP:20260425T135942Z
UID:bf-AFLABS-URNIK:srecanje:25774-2025-12-02 18:00:00+01:00
DESCRIPTION:Predmet: Biomasa in sekundarni metaboliti BT (BT219)\, seminar
 ji (S)\nLetniki: Biotehnologija 2. letnik (MBT)\, Biotehnologija 1. letnik
  (MBT)\nIzvajalci: Hrvoje Petković\nProstor: Predavalnica Živilstvo Ž3
END:VEVENT
BEGIN:VEVENT
SUMMARY:Biomasa in sekundarni metaboliti MB (MB210)\, predavanja in semina
 rji (P+S)
DTSTART;TZID=Europe/Ljubljana:20251125T160000
DTEND;TZID=Europe/Ljubljana:20251125T200000
DTSTAMP:20260425T135942Z
UID:bf-AFLABS-URNIK:srecanje:25778-2025-11-25 16:00:00+01:00
DESCRIPTION:Predmet: Biomasa in sekundarni metaboliti MB (MB210)\, predava
 nja in seminarji (P+S)\nLetniki: Mikrobiologija 1. letnik (MMB)\, Mikrobio
 logija 2. letnik (MMB)\nIzvajalci: Hrvoje Petković\nProstor: Predavalnica
  Živilstvo Ž3
END:VEVENT
BEGIN:VEVENT
SUMMARY:Biomasa in sekundarni metaboliti MB (MB210)\, predavanja in semina
 rji (P+S)
DTSTART;TZID=Europe/Ljubljana:20251202T160000
DTEND;TZID=Europe/Ljubljana:20251202T200000
DTSTAMP:20260425T135942Z
UID:bf-AFLABS-URNIK:srecanje:25778-2025-12-02 16:00:00+01:00
DESCRIPTION:Predmet: Biomasa in sekundarni metaboliti MB (MB210)\, predava
 nja in seminarji (P+S)\nLetniki: Mikrobiologija 1. letnik (MMB)\, Mikrobio
 logija 2. letnik (MMB)\nIzvajalci: Hrvoje Petković\nProstor: Predavalnica
  Živilstvo Ž3
END:VEVENT
BEGIN:VEVENT
SUMMARY:Biomasa in sekundarni metaboliti BT (BT219)\, laboratorijske vaje 
 (LV)
DTSTART;TZID=Europe/Ljubljana:20251126T140000
DTEND;TZID=Europe/Ljubljana:20251126T160000
DTSTAMP:20260425T135942Z
UID:bf-AFLABS-URNIK:srecanje:25769-2025-11-26 14:00:00+01:00
DESCRIPTION:Predmet: Biomasa in sekundarni metaboliti BT (BT219)\, laborat
 orijske vaje (LV)\nLetniki: Biotehnologija 2. letnik (MBT)\, Biotehnologij
 a 1. letnik (MBT)\nIzvajalci: Hrvoje Petković\nProstor: Laboratorij Živi
 lstvo LŽ3
END:VEVENT
BEGIN:VEVENT
SUMMARY:Biomasa in sekundarni metaboliti BT (BT219)\, laboratorijske vaje 
 (LV)
DTSTART;TZID=Europe/Ljubljana:20251203T140000
DTEND;TZID=Europe/Ljubljana:20251203T160000
DTSTAMP:20260425T135942Z
UID:bf-AFLABS-URNIK:srecanje:25769-2025-12-03 14:00:00+01:00
DESCRIPTION:Predmet: Biomasa in sekundarni metaboliti BT (BT219)\, laborat
 orijske vaje (LV)\nLetniki: Biotehnologija 2. letnik (MBT)\, Biotehnologij
 a 1. letnik (MBT)\nIzvajalci: Hrvoje Petković\nProstor: Laboratorij Živi
 lstvo LŽ3
END:VEVENT
BEGIN:VEVENT
SUMMARY:Biomasa in sekundarni metaboliti BT (BT219)\, predavanja (P)
DTSTART;TZID=Europe/Ljubljana:20251126T160000
DTEND;TZID=Europe/Ljubljana:20251126T180000
DTSTAMP:20260425T135942Z
UID:bf-AFLABS-URNIK:srecanje:25773-2025-11-26 16:00:00+01:00
DESCRIPTION:Predmet: Biomasa in sekundarni metaboliti BT (BT219)\, predava
 nja (P)\nLetniki: Biotehnologija 2. letnik (MBT)\, Biotehnologija 1. letni
 k (MBT)\nIzvajalci: Hrvoje Petković\nProstor: Predavalnica Živilstvo Ž3
END:VEVENT
BEGIN:VEVENT
SUMMARY:Biomasa in sekundarni metaboliti BT (BT219)\, predavanja (P)
DTSTART;TZID=Europe/Ljubljana:20251203T160000
DTEND;TZID=Europe/Ljubljana:20251203T180000
DTSTAMP:20260425T135942Z
UID:bf-AFLABS-URNIK:srecanje:25773-2025-12-03 16:00:00+01:00
DESCRIPTION:Predmet: Biomasa in sekundarni metaboliti BT (BT219)\, predava
 nja (P)\nLetniki: Biotehnologija 2. letnik (MBT)\, Biotehnologija 1. letni
 k (MBT)\nIzvajalci: Hrvoje Petković\nProstor: Predavalnica Živilstvo Ž3
END:VEVENT
BEGIN:VEVENT
SUMMARY:Biomasa in sekundarni metaboliti BT (BT219)\, seminarji (S)
DTSTART;TZID=Europe/Ljubljana:20251126T180000
DTEND;TZID=Europe/Ljubljana:20251126T190000
DTSTAMP:20260425T135942Z
UID:bf-AFLABS-URNIK:srecanje:25775-2025-11-26 18:00:00+01:00
DESCRIPTION:Predmet: Biomasa in sekundarni metaboliti BT (BT219)\, seminar
 ji (S)\nLetniki: Biotehnologija 2. letnik (MBT)\, Biotehnologija 1. letnik
  (MBT)\nIzvajalci: Hrvoje Petković\nProstor: Predavalnica Živilstvo Ž3
END:VEVENT
BEGIN:VEVENT
SUMMARY:Biomasa in sekundarni metaboliti BT (BT219)\, seminarji (S)
DTSTART;TZID=Europe/Ljubljana:20251203T180000
DTEND;TZID=Europe/Ljubljana:20251203T190000
DTSTAMP:20260425T135942Z
UID:bf-AFLABS-URNIK:srecanje:25775-2025-12-03 18:00:00+01:00
DESCRIPTION:Predmet: Biomasa in sekundarni metaboliti BT (BT219)\, seminar
 ji (S)\nLetniki: Biotehnologija 2. letnik (MBT)\, Biotehnologija 1. letnik
  (MBT)\nIzvajalci: Hrvoje Petković\nProstor: Predavalnica Živilstvo Ž3
END:VEVENT
BEGIN:VEVENT
SUMMARY:Biomasa in sekundarni metaboliti MB (MB210)\, predavanja in semina
 rji (P+S)
DTSTART;TZID=Europe/Ljubljana:20251126T160000
DTEND;TZID=Europe/Ljubljana:20251126T190000
DTSTAMP:20260425T135942Z
UID:bf-AFLABS-URNIK:srecanje:25779-2025-11-26 16:00:00+01:00
DESCRIPTION:Predmet: Biomasa in sekundarni metaboliti MB (MB210)\, predava
 nja in seminarji (P+S)\nLetniki: Mikrobiologija 1. letnik (MMB)\, Mikrobio
 logija 2. letnik (MMB)\nIzvajalci: Hrvoje Petković\nProstor: Predavalnica
  Živilstvo Ž3
END:VEVENT
BEGIN:VEVENT
SUMMARY:Biomasa in sekundarni metaboliti MB (MB210)\, predavanja in semina
 rji (P+S)
DTSTART;TZID=Europe/Ljubljana:20251203T160000
DTEND;TZID=Europe/Ljubljana:20251203T190000
DTSTAMP:20260425T135942Z
UID:bf-AFLABS-URNIK:srecanje:25779-2025-12-03 16:00:00+01:00
DESCRIPTION:Predmet: Biomasa in sekundarni metaboliti MB (MB210)\, predava
 nja in seminarji (P+S)\nLetniki: Mikrobiologija 1. letnik (MMB)\, Mikrobio
 logija 2. letnik (MMB)\nIzvajalci: Hrvoje Petković\nProstor: Predavalnica
  Živilstvo Ž3
END:VEVENT
BEGIN:VEVENT
SUMMARY:Metabolni inženiring mikroorganizmov (BT215)\, predavanja (P)
DTSTART;TZID=Europe/Ljubljana:20251127T130000
DTEND;TZID=Europe/Ljubljana:20251127T160000
DTSTAMP:20260425T135942Z
UID:bf-AFLABS-URNIK:srecanje:26224-2025-11-27 13:00:00+01:00
DESCRIPTION:Predmet: Metabolni inženiring mikroorganizmov (BT215)\, preda
 vanja (P)\nLetniki: Biotehnologija 2. letnik (MBT)\nIzvajalci: Hrvoje Petk
 ović\nProstor: Predavalnica Živilstvo Ž2
END:VEVENT
BEGIN:VEVENT
SUMMARY:Metabolni inženiring mikroorganizmov (BT215)\, predavanja (P)
DTSTART;TZID=Europe/Ljubljana:20251204T130000
DTEND;TZID=Europe/Ljubljana:20251204T160000
DTSTAMP:20260425T135942Z
UID:bf-AFLABS-URNIK:srecanje:26224-2025-12-04 13:00:00+01:00
DESCRIPTION:Predmet: Metabolni inženiring mikroorganizmov (BT215)\, preda
 vanja (P)\nLetniki: Biotehnologija 2. letnik (MBT)\nIzvajalci: Hrvoje Petk
 ović\nProstor: Predavalnica Živilstvo Ž2
END:VEVENT
BEGIN:VEVENT
SUMMARY:Biomasa in sekundarni metaboliti BT (BT219)\, laboratorijske vaje 
 (LV)
DTSTART;TZID=Europe/Ljubljana:20251128T160000
DTEND;TZID=Europe/Ljubljana:20251128T180000
DTSTAMP:20260425T135942Z
UID:bf-AFLABS-URNIK:srecanje:25770-2025-11-28 16:00:00+01:00
DESCRIPTION:Predmet: Biomasa in sekundarni metaboliti BT (BT219)\, laborat
 orijske vaje (LV)\nLetniki: Biotehnologija 2. letnik (MBT)\, Biotehnologij
 a 1. letnik (MBT)\nIzvajalci: Hrvoje Petković\nProstor: Laboratorij Živi
 lstvo LŽ3
END:VEVENT
BEGIN:VEVENT
SUMMARY:Biomasa in sekundarni metaboliti BT (BT219)\, laboratorijske vaje 
 (LV)
DTSTART;TZID=Europe/Ljubljana:20251205T160000
DTEND;TZID=Europe/Ljubljana:20251205T180000
DTSTAMP:20260425T135942Z
UID:bf-AFLABS-URNIK:srecanje:25770-2025-12-05 16:00:00+01:00
DESCRIPTION:Predmet: Biomasa in sekundarni metaboliti BT (BT219)\, laborat
 orijske vaje (LV)\nLetniki: Biotehnologija 2. letnik (MBT)\, Biotehnologij
 a 1. letnik (MBT)\nIzvajalci: Hrvoje Petković\nProstor: Laboratorij Živi
 lstvo LŽ3
END:VEVENT
BEGIN:VEVENT
SUMMARY:Biomasa in sekundarni metaboliti BT (BT219)\, predavanja (P)
DTSTART;TZID=Europe/Ljubljana:20251202T160000
DTEND;TZID=Europe/Ljubljana:20251202T180000
DTSTAMP:20260425T135942Z
UID:bf-AFLABS-URNIK:srecanje:25771-2025-12-02 16:00:00+01:00
DESCRIPTION:Predmet: Biomasa in sekundarni metaboliti BT (BT219)\, predava
 nja (P)\nLetniki: Biotehnologija 2. letnik (MBT)\, Biotehnologija 1. letni
 k (MBT)\nIzvajalci: Hrvoje Petković\nProstor: Predavalnica Živilstvo Ž3
END:VEVENT
BEGIN:VEVENT
SUMMARY:Predavanje
DTSTART;TZID=Europe/Ljubljana:20251203T140000
DTEND;TZID=Europe/Ljubljana:20251203T160000
DTSTAMP:20260425T135942Z
UID:bf-AFLABS-URNIK:rezervacija:25533
ATTENDEE:Biotehnologija 1. letnik (MBT)
ATTENDEE:Biotehnologija 2. letnik (MBT)
ATTENDEE:Mikrobiologija 1. letnik (MMB)
ATTENDEE:Mikrobiologija 2. letnik (MMB)
CATEGORIES:Reservation
COLOR:royalblue
DESCRIPTION:Predmeti: Biomasa in sekundarni metaboliti MB (MB210)\, Biomas
 a in sekundarni metaboliti BT (BT219)\nLetniki: Biotehnologija 1. letnik (
 MBT)\, Biotehnologija 2. letnik (MBT)\, Mikrobiologija 1. letnik (MMB)\, M
 ikrobiologija 2. letnik (MMB)\nIzvajalci: Hrvoje Petković\nProstori: Pred
 avalnica Hortikultura (Agronomija)
LOCATION:Department of agronomy\, Predavalnica Hortikultura (Agronomija)
ORGANIZER:Hrvoje Petković
X-WR-TIMEZONE:Europe/Ljubljana
END:VEVENT
END:VCALENDAR
