BEGIN:VCALENDAR
VERSION:2.0
PRODID:-//AFLabs urnik izvoz - bf//aflabs.si//SI
NAME:UL BF Urnik
X-WR-CALNAME:UL BF Urnik
DTSTAMP:20260422T001301Z
REFRESH-INTERVAL:PT1H
SOURCE:https://urniki.bf.uni-lj.si/en/teacher/201/?day=2025-10-27&export=1
URL:https://urniki.bf.uni-lj.si/en/teacher/201/?day=2025-10-27&export=1
X-PUBLISHED-TTL:PT1H
X-WR-TIMEZONE:Europe/Ljubljana
BEGIN:VTIMEZONE
TZID:Europe/Ljubljana
BEGIN:DAYLIGHT
DTSTART:20260329T020000
RDATE:20260329T020000
RDATE:20270328T020000
TZNAME:CEST
TZOFFSETFROM:+0100
TZOFFSETTO:+0200
END:DAYLIGHT
BEGIN:STANDARD
DTSTART:20261025T030000
RDATE:20261025T030000
RDATE:20271031T030000
TZNAME:CET
TZOFFSETFROM:+0200
TZOFFSETTO:+0100
END:STANDARD
END:VTIMEZONE
BEGIN:VEVENT
SUMMARY:Mikrobiološko-molekularni praktikum (BT007)\, navodila za vaje (N
 V)
DTSTART;TZID=Europe/Ljubljana:20251124T130000
DTEND;TZID=Europe/Ljubljana:20251124T140000
DTSTAMP:20260422T001301Z
UID:bf-AFLABS-URNIK:srecanje:26261-2025-11-24 13:00:00+01:00
DESCRIPTION:Predmet: Mikrobiološko-molekularni praktikum (BT007)\, navodi
 la za vaje (NV)\nLetniki: Biotehnologija 1. letnik (BTUN)\nIzvajalci: Polo
 nca Štefanič\nProstor: Predavalnica Biologija B1
END:VEVENT
BEGIN:VEVENT
SUMMARY:Mikrobiološko-molekularni praktikum (BT007)\, navodila za vaje (N
 V)
DTSTART;TZID=Europe/Ljubljana:20251201T130000
DTEND;TZID=Europe/Ljubljana:20251201T140000
DTSTAMP:20260422T001301Z
UID:bf-AFLABS-URNIK:srecanje:26261-2025-12-01 13:00:00+01:00
DESCRIPTION:Predmet: Mikrobiološko-molekularni praktikum (BT007)\, navodi
 la za vaje (NV)\nLetniki: Biotehnologija 1. letnik (BTUN)\nIzvajalci: Polo
 nca Štefanič\nProstor: Predavalnica Biologija B1
END:VEVENT
BEGIN:VEVENT
SUMMARY:Mikrobiološko-molekularni praktikum (BT007)\, laboratorijske vaje
  (LV)\, [:1]
DTSTART;TZID=Europe/Ljubljana:20251125T080000
DTEND;TZID=Europe/Ljubljana:20251125T120000
DTSTAMP:20260422T001301Z
UID:bf-AFLABS-URNIK:srecanje:26257-2025-11-25 08:00:00+01:00
DESCRIPTION:Predmet: Mikrobiološko-molekularni praktikum (BT007)\, labora
 torijske vaje (LV)\, [:1]\nLetniki: Biotehnologija 1. letnik (BTUN)\nIzvaj
 alci: Polonca Štefanič\nProstor: Biološka vajalnica BV6\, Fitofiziološ
 ka vajalnica
END:VEVENT
BEGIN:VEVENT
SUMMARY:Mikrobiološko-molekularni praktikum (BT007)\, laboratorijske vaje
  (LV)\, [:2]
DTSTART;TZID=Europe/Ljubljana:20251125T150000
DTEND;TZID=Europe/Ljubljana:20251125T190000
DTSTAMP:20260422T001301Z
UID:bf-AFLABS-URNIK:srecanje:26258-2025-11-25 15:00:00+01:00
DESCRIPTION:Predmet: Mikrobiološko-molekularni praktikum (BT007)\, labora
 torijske vaje (LV)\, [:2]\nLetniki: Biotehnologija 1. letnik (BTUN)\nIzvaj
 alci: Polonca Štefanič\nProstor: Biološka vajalnica BV6\, Fitofiziološ
 ka vajalnica
END:VEVENT
BEGIN:VEVENT
SUMMARY:Mikrobiološko-molekularni praktikum (BT007)\, laboratorijske vaje
  (LV)\, [:3]
DTSTART;TZID=Europe/Ljubljana:20251126T150000
DTEND;TZID=Europe/Ljubljana:20251126T190000
DTSTAMP:20260422T001301Z
UID:bf-AFLABS-URNIK:srecanje:26259-2025-11-26 15:00:00+01:00
DESCRIPTION:Predmet: Mikrobiološko-molekularni praktikum (BT007)\, labora
 torijske vaje (LV)\, [:3]\nLetniki: Biotehnologija 1. letnik (BTUN)\nIzvaj
 alci: Polonca Štefanič\nProstor: Biološka vajalnica BV6\, Fitofiziološ
 ka vajalnica
END:VEVENT
BEGIN:VEVENT
SUMMARY:Mikrobiološko-molekularni praktikum (BT007)\, laboratorijske vaje
  (LV)\, [:4]
DTSTART;TZID=Europe/Ljubljana:20251128T110000
DTEND;TZID=Europe/Ljubljana:20251128T150000
DTSTAMP:20260422T001301Z
UID:bf-AFLABS-URNIK:srecanje:26260-2025-11-28 11:00:00+01:00
DESCRIPTION:Predmet: Mikrobiološko-molekularni praktikum (BT007)\, labora
 torijske vaje (LV)\, [:4]\nLetniki: Biotehnologija 1. letnik (BTUN)\nIzvaj
 alci: Polonca Štefanič\nProstor: Biološka vajalnica BV6\, Fitofiziološ
 ka vajalnica
END:VEVENT
END:VCALENDAR
