BEGIN:VCALENDAR
VERSION:2.0
PRODID:-//AFLabs urnik izvoz - bf//aflabs.si//SI
NAME:UL BF Urnik
X-WR-CALNAME:UL BF Urnik
DTSTAMP:20260426T041405Z
REFRESH-INTERVAL:PT1H
SOURCE:https://urniki.bf.uni-lj.si/en/teacher/186/?day=2025-10-06&export=1
URL:https://urniki.bf.uni-lj.si/en/teacher/186/?day=2025-10-06&export=1
X-PUBLISHED-TTL:PT1H
X-WR-TIMEZONE:Europe/Ljubljana
BEGIN:VTIMEZONE
TZID:Europe/Ljubljana
BEGIN:DAYLIGHT
DTSTART:20260329T020000
RDATE:20260329T020000
RDATE:20270328T020000
TZNAME:CEST
TZOFFSETFROM:+0100
TZOFFSETTO:+0200
END:DAYLIGHT
BEGIN:STANDARD
DTSTART:20261025T030000
RDATE:20261025T030000
RDATE:20271031T030000
TZNAME:CET
TZOFFSETFROM:+0200
TZOFFSETTO:+0100
END:STANDARD
END:VTIMEZONE
BEGIN:VEVENT
SUMMARY:Osnove hortikulture KA (KA026)\, laboratorijske vaje (LV)
DTSTART;TZID=Europe/Ljubljana:20251001T110000
DTEND;TZID=Europe/Ljubljana:20251001T160000
DTSTAMP:20260426T041405Z
UID:bf-AFLABS-URNIK:srecanje:25246-2025-10-01 11:00:00+02:00
DESCRIPTION:Predmet: Osnove hortikulture KA (KA026)\, laboratorijske vaje 
 (LV)\nLetniki: Krajinska arhitektura 3. letnik (LAUN)\nIzvajalci: Maja Mik
 ulič Petkovšek\, Valentina Schmitzer\, Valentina Usenik\nProstor: Risaln
 ica Krajinska arhitektura 4
END:VEVENT
BEGIN:VEVENT
SUMMARY:Osnove hortikulture KA (KA026)\, laboratorijske vaje (LV)
DTSTART;TZID=Europe/Ljubljana:20251008T110000
DTEND;TZID=Europe/Ljubljana:20251008T160000
DTSTAMP:20260426T041405Z
UID:bf-AFLABS-URNIK:srecanje:25246-2025-10-08 11:00:00+02:00
DESCRIPTION:Predmet: Osnove hortikulture KA (KA026)\, laboratorijske vaje 
 (LV)\nLetniki: Krajinska arhitektura 3. letnik (LAUN)\nIzvajalci: Maja Mik
 ulič Petkovšek\, Valentina Schmitzer\, Valentina Usenik\nProstor: Risaln
 ica Krajinska arhitektura 4
END:VEVENT
BEGIN:VEVENT
SUMMARY:Osnove hortikulture KA (KA026)\, laboratorijske vaje (LV)
DTSTART;TZID=Europe/Ljubljana:20251015T110000
DTEND;TZID=Europe/Ljubljana:20251015T160000
DTSTAMP:20260426T041405Z
UID:bf-AFLABS-URNIK:srecanje:25246-2025-10-15 11:00:00+02:00
DESCRIPTION:Predmet: Osnove hortikulture KA (KA026)\, laboratorijske vaje 
 (LV)\nLetniki: Krajinska arhitektura 3. letnik (LAUN)\nIzvajalci: Maja Mik
 ulič Petkovšek\, Valentina Schmitzer\, Valentina Usenik\nProstor: Risaln
 ica Krajinska arhitektura 4
END:VEVENT
BEGIN:VEVENT
SUMMARY:Osnove hortikulture KA (KA026)\, laboratorijske vaje (LV)
DTSTART;TZID=Europe/Ljubljana:20251022T110000
DTEND;TZID=Europe/Ljubljana:20251022T160000
DTSTAMP:20260426T041405Z
UID:bf-AFLABS-URNIK:srecanje:25246-2025-10-22 11:00:00+02:00
DESCRIPTION:Predmet: Osnove hortikulture KA (KA026)\, laboratorijske vaje 
 (LV)\nLetniki: Krajinska arhitektura 3. letnik (LAUN)\nIzvajalci: Maja Mik
 ulič Petkovšek\, Valentina Schmitzer\, Valentina Usenik\nProstor: Risaln
 ica Krajinska arhitektura 4
END:VEVENT
BEGIN:VEVENT
SUMMARY:Osnove hortikulture KA (KA026)\, laboratorijske vaje (LV)
DTSTART;TZID=Europe/Ljubljana:20251105T110000
DTEND;TZID=Europe/Ljubljana:20251105T160000
DTSTAMP:20260426T041405Z
UID:bf-AFLABS-URNIK:srecanje:25246-2025-11-05 11:00:00+01:00
DESCRIPTION:Predmet: Osnove hortikulture KA (KA026)\, laboratorijske vaje 
 (LV)\nLetniki: Krajinska arhitektura 3. letnik (LAUN)\nIzvajalci: Maja Mik
 ulič Petkovšek\, Valentina Schmitzer\, Valentina Usenik\nProstor: Risaln
 ica Krajinska arhitektura 4
END:VEVENT
BEGIN:VEVENT
SUMMARY:Osnove hortikulture KA (KA026)\, laboratorijske vaje (LV)
DTSTART;TZID=Europe/Ljubljana:20251112T110000
DTEND;TZID=Europe/Ljubljana:20251112T160000
DTSTAMP:20260426T041405Z
UID:bf-AFLABS-URNIK:srecanje:25246-2025-11-12 11:00:00+01:00
DESCRIPTION:Predmet: Osnove hortikulture KA (KA026)\, laboratorijske vaje 
 (LV)\nLetniki: Krajinska arhitektura 3. letnik (LAUN)\nIzvajalci: Maja Mik
 ulič Petkovšek\, Valentina Schmitzer\, Valentina Usenik\nProstor: Risaln
 ica Krajinska arhitektura 4
END:VEVENT
BEGIN:VEVENT
SUMMARY:Osnove hortikulture KA (KA026)\, predavanja (P)
DTSTART;TZID=Europe/Ljubljana:20251001T083000
DTEND;TZID=Europe/Ljubljana:20251001T110000
DTSTAMP:20260426T041405Z
UID:bf-AFLABS-URNIK:srecanje:25247-2025-10-01 08:30:00+02:00
DESCRIPTION:Predmet: Osnove hortikulture KA (KA026)\, predavanja (P)\nLetn
 iki: Krajinska arhitektura 3. letnik (LAUN)\nIzvajalci: Maja Mikulič Petk
 ovšek\, Ana Slatnar\, Robert Veberič\nProstor: Risalnica Krajinska arhit
 ektura 4
END:VEVENT
BEGIN:VEVENT
SUMMARY:Osnove hortikulture KA (KA026)\, predavanja (P)
DTSTART;TZID=Europe/Ljubljana:20251008T083000
DTEND;TZID=Europe/Ljubljana:20251008T110000
DTSTAMP:20260426T041405Z
UID:bf-AFLABS-URNIK:srecanje:25247-2025-10-08 08:30:00+02:00
DESCRIPTION:Predmet: Osnove hortikulture KA (KA026)\, predavanja (P)\nLetn
 iki: Krajinska arhitektura 3. letnik (LAUN)\nIzvajalci: Maja Mikulič Petk
 ovšek\, Ana Slatnar\, Robert Veberič\nProstor: Risalnica Krajinska arhit
 ektura 4
END:VEVENT
BEGIN:VEVENT
SUMMARY:Osnove hortikulture KA (KA026)\, predavanja (P)
DTSTART;TZID=Europe/Ljubljana:20251015T083000
DTEND;TZID=Europe/Ljubljana:20251015T110000
DTSTAMP:20260426T041405Z
UID:bf-AFLABS-URNIK:srecanje:25247-2025-10-15 08:30:00+02:00
DESCRIPTION:Predmet: Osnove hortikulture KA (KA026)\, predavanja (P)\nLetn
 iki: Krajinska arhitektura 3. letnik (LAUN)\nIzvajalci: Maja Mikulič Petk
 ovšek\, Ana Slatnar\, Robert Veberič\nProstor: Risalnica Krajinska arhit
 ektura 4
END:VEVENT
BEGIN:VEVENT
SUMMARY:Osnove hortikulture KA (KA026)\, predavanja (P)
DTSTART;TZID=Europe/Ljubljana:20251022T083000
DTEND;TZID=Europe/Ljubljana:20251022T110000
DTSTAMP:20260426T041405Z
UID:bf-AFLABS-URNIK:srecanje:25247-2025-10-22 08:30:00+02:00
DESCRIPTION:Predmet: Osnove hortikulture KA (KA026)\, predavanja (P)\nLetn
 iki: Krajinska arhitektura 3. letnik (LAUN)\nIzvajalci: Maja Mikulič Petk
 ovšek\, Ana Slatnar\, Robert Veberič\nProstor: Risalnica Krajinska arhit
 ektura 4
END:VEVENT
BEGIN:VEVENT
SUMMARY:Osnove hortikulture KA (KA026)\, predavanja (P)
DTSTART;TZID=Europe/Ljubljana:20251029T083000
DTEND;TZID=Europe/Ljubljana:20251029T110000
DTSTAMP:20260426T041405Z
UID:bf-AFLABS-URNIK:srecanje:25247-2025-10-29 08:30:00+01:00
DESCRIPTION:Predmet: Osnove hortikulture KA (KA026)\, predavanja (P)\nLetn
 iki: Krajinska arhitektura 3. letnik (LAUN)\nIzvajalci: Maja Mikulič Petk
 ovšek\, Ana Slatnar\, Robert Veberič\nProstor: Risalnica Krajinska arhit
 ektura 4
END:VEVENT
BEGIN:VEVENT
SUMMARY:Osnove hortikulture KA (KA026)\, predavanja (P)
DTSTART;TZID=Europe/Ljubljana:20251105T083000
DTEND;TZID=Europe/Ljubljana:20251105T110000
DTSTAMP:20260426T041405Z
UID:bf-AFLABS-URNIK:srecanje:25247-2025-11-05 08:30:00+01:00
DESCRIPTION:Predmet: Osnove hortikulture KA (KA026)\, predavanja (P)\nLetn
 iki: Krajinska arhitektura 3. letnik (LAUN)\nIzvajalci: Maja Mikulič Petk
 ovšek\, Ana Slatnar\, Robert Veberič\nProstor: Risalnica Krajinska arhit
 ektura 4
END:VEVENT
BEGIN:VEVENT
SUMMARY:Osnove hortikulture KA (KA026)\, predavanja (P)
DTSTART;TZID=Europe/Ljubljana:20251112T083000
DTEND;TZID=Europe/Ljubljana:20251112T110000
DTSTAMP:20260426T041405Z
UID:bf-AFLABS-URNIK:srecanje:25247-2025-11-12 08:30:00+01:00
DESCRIPTION:Predmet: Osnove hortikulture KA (KA026)\, predavanja (P)\nLetn
 iki: Krajinska arhitektura 3. letnik (LAUN)\nIzvajalci: Maja Mikulič Petk
 ovšek\, Ana Slatnar\, Robert Veberič\nProstor: Risalnica Krajinska arhit
 ektura 4
END:VEVENT
BEGIN:VEVENT
SUMMARY:Bioaktivne snovi v sadju in zelenjavi (AG327)\, laboratorijske vaj
 e (LV)
DTSTART;TZID=Europe/Ljubljana:20251002T120000
DTEND;TZID=Europe/Ljubljana:20251002T160000
DTSTAMP:20260426T041405Z
UID:bf-AFLABS-URNIK:srecanje:24559-2025-10-02 12:00:00+02:00
DESCRIPTION:Predmet: Bioaktivne snovi v sadju in zelenjavi (AG327)\, labor
 atorijske vaje (LV)\nLetniki: Hortikultura 2. letnik (MHO)\nIzvajalci: Maj
 a Mikulič Petkovšek\nProstor: Laboratorij (Agronomija)
END:VEVENT
BEGIN:VEVENT
SUMMARY:Bioaktivne snovi v sadju in zelenjavi (AG327)\, laboratorijske vaj
 e (LV)
DTSTART;TZID=Europe/Ljubljana:20251009T120000
DTEND;TZID=Europe/Ljubljana:20251009T160000
DTSTAMP:20260426T041405Z
UID:bf-AFLABS-URNIK:srecanje:24559-2025-10-09 12:00:00+02:00
DESCRIPTION:Predmet: Bioaktivne snovi v sadju in zelenjavi (AG327)\, labor
 atorijske vaje (LV)\nLetniki: Hortikultura 2. letnik (MHO)\nIzvajalci: Maj
 a Mikulič Petkovšek\nProstor: Laboratorij (Agronomija)
END:VEVENT
BEGIN:VEVENT
SUMMARY:Bioaktivne snovi v sadju in zelenjavi (AG327)\, laboratorijske vaj
 e (LV)
DTSTART;TZID=Europe/Ljubljana:20251016T120000
DTEND;TZID=Europe/Ljubljana:20251016T160000
DTSTAMP:20260426T041405Z
UID:bf-AFLABS-URNIK:srecanje:24559-2025-10-16 12:00:00+02:00
DESCRIPTION:Predmet: Bioaktivne snovi v sadju in zelenjavi (AG327)\, labor
 atorijske vaje (LV)\nLetniki: Hortikultura 2. letnik (MHO)\nIzvajalci: Maj
 a Mikulič Petkovšek\nProstor: Laboratorij (Agronomija)
END:VEVENT
BEGIN:VEVENT
SUMMARY:Bioaktivne snovi v sadju in zelenjavi (AG327)\, laboratorijske vaj
 e (LV)
DTSTART;TZID=Europe/Ljubljana:20251023T120000
DTEND;TZID=Europe/Ljubljana:20251023T160000
DTSTAMP:20260426T041405Z
UID:bf-AFLABS-URNIK:srecanje:24559-2025-10-23 12:00:00+02:00
DESCRIPTION:Predmet: Bioaktivne snovi v sadju in zelenjavi (AG327)\, labor
 atorijske vaje (LV)\nLetniki: Hortikultura 2. letnik (MHO)\nIzvajalci: Maj
 a Mikulič Petkovšek\nProstor: Laboratorij (Agronomija)
END:VEVENT
BEGIN:VEVENT
SUMMARY:Bioaktivne snovi v sadju in zelenjavi (AG327)\, laboratorijske vaj
 e (LV)
DTSTART;TZID=Europe/Ljubljana:20251030T120000
DTEND;TZID=Europe/Ljubljana:20251030T160000
DTSTAMP:20260426T041405Z
UID:bf-AFLABS-URNIK:srecanje:24559-2025-10-30 12:00:00+01:00
DESCRIPTION:Predmet: Bioaktivne snovi v sadju in zelenjavi (AG327)\, labor
 atorijske vaje (LV)\nLetniki: Hortikultura 2. letnik (MHO)\nIzvajalci: Maj
 a Mikulič Petkovšek\nProstor: Laboratorij (Agronomija)
END:VEVENT
BEGIN:VEVENT
SUMMARY:Bioaktivne snovi v sadju in zelenjavi (AG327)\, laboratorijske vaj
 e (LV)
DTSTART;TZID=Europe/Ljubljana:20251106T120000
DTEND;TZID=Europe/Ljubljana:20251106T160000
DTSTAMP:20260426T041405Z
UID:bf-AFLABS-URNIK:srecanje:24559-2025-11-06 12:00:00+01:00
DESCRIPTION:Predmet: Bioaktivne snovi v sadju in zelenjavi (AG327)\, labor
 atorijske vaje (LV)\nLetniki: Hortikultura 2. letnik (MHO)\nIzvajalci: Maj
 a Mikulič Petkovšek\nProstor: Laboratorij (Agronomija)
END:VEVENT
BEGIN:VEVENT
SUMMARY:Bioaktivne snovi v sadju in zelenjavi (AG327)\, laboratorijske vaj
 e (LV)
DTSTART;TZID=Europe/Ljubljana:20251113T120000
DTEND;TZID=Europe/Ljubljana:20251113T160000
DTSTAMP:20260426T041405Z
UID:bf-AFLABS-URNIK:srecanje:24559-2025-11-13 12:00:00+01:00
DESCRIPTION:Predmet: Bioaktivne snovi v sadju in zelenjavi (AG327)\, labor
 atorijske vaje (LV)\nLetniki: Hortikultura 2. letnik (MHO)\nIzvajalci: Maj
 a Mikulič Petkovšek\nProstor: Laboratorij (Agronomija)
END:VEVENT
BEGIN:VEVENT
SUMMARY:Splošno vinogradništvo (AG017)\, laboratorijske vaje (LV)\, [:1]
DTSTART;TZID=Europe/Ljubljana:20251007T120000
DTEND;TZID=Europe/Ljubljana:20251007T140000
DTSTAMP:20260426T041405Z
UID:bf-AFLABS-URNIK:srecanje:25436-2025-10-07 12:00:00+02:00
DESCRIPTION:Predmet: Splošno vinogradništvo (AG017)\, laboratorijske vaj
 e (LV)\, [:1]\nLetniki: Kmetijstvo - agronomija 2. letnik (AGUN)\nIzvajalc
 i: Maja Mikulič Petkovšek\nProstor: Predavalnica Agronomija A7
END:VEVENT
BEGIN:VEVENT
SUMMARY:Splošno vinogradništvo (AG017)\, laboratorijske vaje (LV)\, [:1]
DTSTART;TZID=Europe/Ljubljana:20251014T120000
DTEND;TZID=Europe/Ljubljana:20251014T140000
DTSTAMP:20260426T041405Z
UID:bf-AFLABS-URNIK:srecanje:25436-2025-10-14 12:00:00+02:00
DESCRIPTION:Predmet: Splošno vinogradništvo (AG017)\, laboratorijske vaj
 e (LV)\, [:1]\nLetniki: Kmetijstvo - agronomija 2. letnik (AGUN)\nIzvajalc
 i: Maja Mikulič Petkovšek\nProstor: Predavalnica Agronomija A7
END:VEVENT
BEGIN:VEVENT
SUMMARY:Splošno vinogradništvo (AG017)\, laboratorijske vaje (LV)\, [:1]
DTSTART;TZID=Europe/Ljubljana:20251021T120000
DTEND;TZID=Europe/Ljubljana:20251021T140000
DTSTAMP:20260426T041405Z
UID:bf-AFLABS-URNIK:srecanje:25436-2025-10-21 12:00:00+02:00
DESCRIPTION:Predmet: Splošno vinogradništvo (AG017)\, laboratorijske vaj
 e (LV)\, [:1]\nLetniki: Kmetijstvo - agronomija 2. letnik (AGUN)\nIzvajalc
 i: Maja Mikulič Petkovšek\nProstor: Predavalnica Agronomija A7
END:VEVENT
BEGIN:VEVENT
SUMMARY:Splošno vinogradništvo (AG017)\, laboratorijske vaje (LV)\, [:1]
DTSTART;TZID=Europe/Ljubljana:20251028T120000
DTEND;TZID=Europe/Ljubljana:20251028T140000
DTSTAMP:20260426T041405Z
UID:bf-AFLABS-URNIK:srecanje:25436-2025-10-28 12:00:00+01:00
DESCRIPTION:Predmet: Splošno vinogradništvo (AG017)\, laboratorijske vaj
 e (LV)\, [:1]\nLetniki: Kmetijstvo - agronomija 2. letnik (AGUN)\nIzvajalc
 i: Maja Mikulič Petkovšek\nProstor: Predavalnica Agronomija A7
END:VEVENT
BEGIN:VEVENT
SUMMARY:Splošno vinogradništvo (AG017)\, laboratorijske vaje (LV)\, [:1]
DTSTART;TZID=Europe/Ljubljana:20251104T120000
DTEND;TZID=Europe/Ljubljana:20251104T140000
DTSTAMP:20260426T041405Z
UID:bf-AFLABS-URNIK:srecanje:25436-2025-11-04 12:00:00+01:00
DESCRIPTION:Predmet: Splošno vinogradništvo (AG017)\, laboratorijske vaj
 e (LV)\, [:1]\nLetniki: Kmetijstvo - agronomija 2. letnik (AGUN)\nIzvajalc
 i: Maja Mikulič Petkovšek\nProstor: Predavalnica Agronomija A7
END:VEVENT
BEGIN:VEVENT
SUMMARY:Splošno vinogradništvo (AG017)\, laboratorijske vaje (LV)\, [:1]
DTSTART;TZID=Europe/Ljubljana:20251111T120000
DTEND;TZID=Europe/Ljubljana:20251111T140000
DTSTAMP:20260426T041405Z
UID:bf-AFLABS-URNIK:srecanje:25436-2025-11-11 12:00:00+01:00
DESCRIPTION:Predmet: Splošno vinogradništvo (AG017)\, laboratorijske vaj
 e (LV)\, [:1]\nLetniki: Kmetijstvo - agronomija 2. letnik (AGUN)\nIzvajalc
 i: Maja Mikulič Petkovšek\nProstor: Predavalnica Agronomija A7
END:VEVENT
BEGIN:VEVENT
SUMMARY:Osnove hortikulture KA (KA026)\, laboratorijske vaje (LV)
DTSTART;TZID=Europe/Ljubljana:20251029T110000
DTEND;TZID=Europe/Ljubljana:20251029T160000
DTSTAMP:20260426T041405Z
UID:bf-AFLABS-URNIK:srecanje:29222-2025-10-29 11:00:00+01:00
DESCRIPTION:Predmet: Osnove hortikulture KA (KA026)\, laboratorijske vaje 
 (LV)\nLetniki: Krajinska arhitektura 3. letnik (LAUN)\nIzvajalci: Maja Mik
 ulič Petkovšek\, Valentina Schmitzer\, Valentina Usenik\nProstor: Risaln
 ica Krajinska arhitektura 4
END:VEVENT
BEGIN:VEVENT
SUMMARY:vinogradništvo
DTSTART;TZID=Europe/Ljubljana:20251023T081500
DTEND;TZID=Europe/Ljubljana:20251023T094500
DTSTAMP:20260426T041405Z
UID:bf-AFLABS-URNIK:rezervacija:24321
CATEGORIES:Reservation
COLOR:royalblue
DESCRIPTION:Predmeti: \nLetniki: Kmetijstvo - agronomija 2. letnik (AGUN)\
 nIzvajalci: Maja Mikulič Petkovšek\nProstori: Predavalnica Agronomija A3
LOCATION:Department of agronomy\, Predavalnica Agronomija A3
ORGANIZER:Maja Mikulič Petkovšek
X-WR-TIMEZONE:Europe/Ljubljana
END:VEVENT
END:VCALENDAR
